BEGIN:VCALENDAR
VERSION:2.0
PRODID:-//Town of Canora - ECPv6.15.17//NONSGML v1.0//EN
CALSCALE:GREGORIAN
METHOD:PUBLISH
X-ORIGINAL-URL:https://canora.com
X-WR-CALDESC:Events for Town of Canora
REFRESH-INTERVAL;VALUE=DURATION:PT1H
X-Robots-Tag:noindex
X-PUBLISHED-TTL:PT1H
BEGIN:VTIMEZONE
TZID:America/Regina
BEGIN:STANDARD
TZOFFSETFROM:-0600
TZOFFSETTO:-0600
TZNAME:CST
DTSTART:20170101T000000
END:STANDARD
END:VTIMEZONE
BEGIN:VEVENT
DTSTART;TZID=America/Regina:20180726T100000
DTEND;TZID=America/Regina:20180726T140000
DTSTAMP:20260419T170404
CREATED:20180703T195619Z
LAST-MODIFIED:20180727T151236Z
UID:10000239-1532599200-1532613600@canora.com
SUMMARY:Farmer's Market
DESCRIPTION:The Farmer's Market begins July 5th at 10 am!\nMeet and buy from local producers and makers this summer every Thursday at the Visitor Centre & CN Museum. \nThe Farmer's Market runs until September 27th. \nThe Vendor Application form is available below: \nFarmer's Market Vendor Application \nAll vendors should complete and submit an application before the Farmer's Market begins.\nEvery vendor must have a completed application on file to participate in the Farmer's Market.  \nEvery vendor must also meet and follow Health Authority requirements.\nIt is the responsibility of the vendor to inform themselves and meet these requirements.
URL:https://canora.com/event/farmers-market-2/2018-07-26/
LOCATION:Visitors Centre & CN Museum\, 100 Railway Avenue\, Canora
ORGANIZER;CN="Community Development":MAILTO:cdo.canora@sasktel.net
GEO:51.6372416;-102.4366927
X-APPLE-STRUCTURED-LOCATION;VALUE=URI;X-ADDRESS=Visitors Centre & CN Museum 100 Railway Avenue Canora;X-APPLE-RADIUS=500;X-TITLE=100 Railway Avenue:geo:-102.4366927,51.6372416
END:VEVENT
BEGIN:VEVENT
DTSTART;TZID=America/Regina:20180719T100000
DTEND;TZID=America/Regina:20180719T140000
DTSTAMP:20260419T170404
CREATED:20180703T195619Z
LAST-MODIFIED:20180727T151236Z
UID:10000238-1531994400-1532008800@canora.com
SUMMARY:Farmer's Market
DESCRIPTION:The Farmer's Market begins July 5th at 10 am!\nMeet and buy from local producers and makers this summer every Thursday at the Visitor Centre & CN Museum. \nThe Farmer's Market runs until September 27th. \nThe Vendor Application form is available below: \nFarmer's Market Vendor Application \nAll vendors should complete and submit an application before the Farmer's Market begins.\nEvery vendor must have a completed application on file to participate in the Farmer's Market.  \nEvery vendor must also meet and follow Health Authority requirements.\nIt is the responsibility of the vendor to inform themselves and meet these requirements.
URL:https://canora.com/event/farmers-market-2/2018-07-19/
LOCATION:Visitors Centre & CN Museum\, 100 Railway Avenue\, Canora
ORGANIZER;CN="Community Development":MAILTO:cdo.canora@sasktel.net
GEO:51.6372416;-102.4366927
X-APPLE-STRUCTURED-LOCATION;VALUE=URI;X-ADDRESS=Visitors Centre & CN Museum 100 Railway Avenue Canora;X-APPLE-RADIUS=500;X-TITLE=100 Railway Avenue:geo:-102.4366927,51.6372416
END:VEVENT
BEGIN:VEVENT
DTSTART;TZID=America/Regina:20180712T100000
DTEND;TZID=America/Regina:20180712T140000
DTSTAMP:20260419T170404
CREATED:20180703T195619Z
LAST-MODIFIED:20180727T151236Z
UID:10000237-1531389600-1531404000@canora.com
SUMMARY:Farmer's Market
DESCRIPTION:The Farmer's Market begins July 5th at 10 am!\nMeet and buy from local producers and makers this summer every Thursday at the Visitor Centre & CN Museum. \nThe Farmer's Market runs until September 27th. \nThe Vendor Application form is available below: \nFarmer's Market Vendor Application \nAll vendors should complete and submit an application before the Farmer's Market begins.\nEvery vendor must have a completed application on file to participate in the Farmer's Market.  \nEvery vendor must also meet and follow Health Authority requirements.\nIt is the responsibility of the vendor to inform themselves and meet these requirements.
URL:https://canora.com/event/farmers-market-2/2018-07-12/
LOCATION:Visitors Centre & CN Museum\, 100 Railway Avenue\, Canora
ORGANIZER;CN="Community Development":MAILTO:cdo.canora@sasktel.net
GEO:51.6372416;-102.4366927
X-APPLE-STRUCTURED-LOCATION;VALUE=URI;X-ADDRESS=Visitors Centre & CN Museum 100 Railway Avenue Canora;X-APPLE-RADIUS=500;X-TITLE=100 Railway Avenue:geo:-102.4366927,51.6372416
END:VEVENT
BEGIN:VEVENT
DTSTART;TZID=America/Regina:20180711T110000
DTEND;TZID=America/Regina:20180711T133000
DTSTAMP:20260419T170404
CREATED:20180625T174031Z
LAST-MODIFIED:20180625T174031Z
UID:10000233-1531306800-1531315800@canora.com
SUMMARY:Hot Dog Lunch
DESCRIPTION:Join the Tourism Committee for an exciting fundraiser to support the CN Museum and all the wonderful work this committee undertakes throughout the community!
URL:https://canora.com/event/hot-dog-lunch/
LOCATION:Visitors Centre & CN Museum\, 100 Railway Avenue\, Canora
ORGANIZER;CN="Tourism Committee":MAILTO:cdo.canora@sasktel.net
GEO:51.6372416;-102.4366927
X-APPLE-STRUCTURED-LOCATION;VALUE=URI;X-ADDRESS=Visitors Centre & CN Museum 100 Railway Avenue Canora;X-APPLE-RADIUS=500;X-TITLE=100 Railway Avenue:geo:-102.4366927,51.6372416
END:VEVENT
BEGIN:VEVENT
DTSTART;TZID=America/Regina:20180705T100000
DTEND;TZID=America/Regina:20180705T140000
DTSTAMP:20260419T170404
CREATED:20180703T195619Z
LAST-MODIFIED:20180727T151236Z
UID:10000236-1530784800-1530799200@canora.com
SUMMARY:Farmer's Market
DESCRIPTION:The Farmer's Market begins July 5th at 10 am!\nMeet and buy from local producers and makers this summer every Thursday at the Visitor Centre & CN Museum. \nThe Farmer's Market runs until September 27th. \nThe Vendor Application form is available below: \nFarmer's Market Vendor Application \nAll vendors should complete and submit an application before the Farmer's Market begins.\nEvery vendor must have a completed application on file to participate in the Farmer's Market.  \nEvery vendor must also meet and follow Health Authority requirements.\nIt is the responsibility of the vendor to inform themselves and meet these requirements.
URL:https://canora.com/event/farmers-market-2/2018-07-05/
LOCATION:Visitors Centre & CN Museum\, 100 Railway Avenue\, Canora
ORGANIZER;CN="Community Development":MAILTO:cdo.canora@sasktel.net
GEO:51.6372416;-102.4366927
X-APPLE-STRUCTURED-LOCATION;VALUE=URI;X-ADDRESS=Visitors Centre & CN Museum 100 Railway Avenue Canora;X-APPLE-RADIUS=500;X-TITLE=100 Railway Avenue:geo:-102.4366927,51.6372416
END:VEVENT
END:VCALENDAR