BEGIN:VCALENDAR
VERSION:2.0
PRODID:-//Town of Canora - ECPv6.15.17//NONSGML v1.0//EN
CALSCALE:GREGORIAN
METHOD:PUBLISH
X-WR-CALNAME:Town of Canora
X-ORIGINAL-URL:https://canora.com
X-WR-CALDESC:Events for Town of Canora
REFRESH-INTERVAL;VALUE=DURATION:PT1H
X-Robots-Tag:noindex
X-PUBLISHED-TTL:PT1H
BEGIN:VTIMEZONE
TZID:America/Regina
BEGIN:STANDARD
TZOFFSETFROM:-0600
TZOFFSETTO:-0600
TZNAME:CST
DTSTART:20210101T000000
END:STANDARD
END:VTIMEZONE
BEGIN:VEVENT
DTSTART;TZID=America/Regina:20251008T190000
DTEND;TZID=America/Regina:20251008T190000
DTSTAMP:20260419T061928
CREATED:20251002T143757Z
LAST-MODIFIED:20251002T143828Z
UID:10004883-1759950000-1759950000@canora.com
SUMMARY:Curling Annual General Meeting
DESCRIPTION:Open public meeting \nExecutive positions available
URL:https://canora.com/event/curling-annual-general-meeting-2/
LOCATION:Sylvia Fedoruk Cente (Upstairs)\, Main Street\, Canora\, SK\, S0A 0L0\, Canada
ATTACH;FMTTYPE=image/png:https://canora.com/wp-content/uploads/2016/11/BRAND.png
ORGANIZER;CN="Canora Curling Club":MAILTO:canoracurling@gmail.com
END:VEVENT
BEGIN:VEVENT
DTSTART;TZID=America/Regina:20251001T190000
DTEND;TZID=America/Regina:20251001T190000
DTSTAMP:20260419T061928
CREATED:20250918T150946Z
LAST-MODIFIED:20250918T150946Z
UID:10004861-1759345200-1759345200@canora.com
SUMMARY:Skating Club AGM
DESCRIPTION:
URL:https://canora.com/event/skating-club-agm/
LOCATION:Sylvia Fedoruk Cente (Upstairs)\, Main Street\, Canora\, SK\, S0A 0L0\, Canada
ATTACH;FMTTYPE=image/jpeg:https://canora.com/wp-content/uploads/2025/09/facebook_1757975939997_7373485517036072510.jpg
END:VEVENT
BEGIN:VEVENT
DTSTART;TZID=America/Regina:20250917T190000
DTEND;TZID=America/Regina:20250917T190000
DTSTAMP:20260419T061928
CREATED:20250904T154516Z
LAST-MODIFIED:20250904T154516Z
UID:10004858-1758135600-1758135600@canora.com
SUMMARY:Minor Hockey AGM
DESCRIPTION:
URL:https://canora.com/event/minor-hockey-agm-2/
LOCATION:Sylvia Fedoruk Cente (Upstairs)\, Main Street\, Canora\, SK\, S0A 0L0\, Canada
ATTACH;FMTTYPE=image/png:https://canora.com/wp-content/uploads/2024/11/Screenshot-1233.png
END:VEVENT
BEGIN:VEVENT
DTSTART;TZID=America/Regina:20250429T190000
DTEND;TZID=America/Regina:20250429T190000
DTSTAMP:20260419T061928
CREATED:20250331T221550Z
LAST-MODIFIED:20250409T195731Z
UID:10004644-1745953200-1745953200@canora.com
SUMMARY:Minor Hockey AGM
DESCRIPTION:
URL:https://canora.com/event/minor-hockey-agm/
LOCATION:Sylvia Fedoruk Cente (Upstairs)\, Main Street\, Canora\, SK\, S0A 0L0\, Canada
ATTACH;FMTTYPE=image/jpeg:https://canora.com/wp-content/uploads/2025/03/489989287_1415799136360240_1300010556056096480_n.jpg
END:VEVENT
BEGIN:VEVENT
DTSTART;TZID=America/Regina:20240416T190000
DTEND;TZID=America/Regina:20240416T190000
DTSTAMP:20260419T061928
CREATED:20240410T204624Z
LAST-MODIFIED:20240410T204625Z
UID:10002795-1713294000-1713294000@canora.com
SUMMARY:Minor Hockey Spring AGM
DESCRIPTION:
URL:https://canora.com/event/minor-hockey-spring-agm-2/
LOCATION:Sylvia Fedoruk Cente (Upstairs)\, Main Street\, Canora\, SK\, S0A 0L0\, Canada
ATTACH;FMTTYPE=image/jpeg:https://canora.com/wp-content/uploads/2024/04/434175669_1137552294184927_6332186988595635055_n.jpg
END:VEVENT
BEGIN:VEVENT
DTSTART;TZID=America/Regina:20231019T190000
DTEND;TZID=America/Regina:20231019T190000
DTSTAMP:20260419T061928
CREATED:20231016T170330Z
LAST-MODIFIED:20231016T170330Z
UID:10001828-1697742000-1697742000@canora.com
SUMMARY:Community Curling Club AGM
DESCRIPTION:Annual General Meeting for all to attend.
URL:https://canora.com/event/community-curling-club-agm/
LOCATION:Sylvia Fedoruk Cente (Upstairs)\, Main Street\, Canora\, SK\, S0A 0L0\, Canada
ORGANIZER;CN="Canora Curling Club":MAILTO:canoracurling@gmail.com
END:VEVENT
BEGIN:VEVENT
DTSTART;TZID=America/Regina:20230306T190000
DTEND;TZID=America/Regina:20230306T190000
DTSTAMP:20260419T061928
CREATED:20230208T163020Z
LAST-MODIFIED:20230208T163052Z
UID:10001638-1678129200-1678129200@canora.com
SUMMARY:Minor Ball AGM
DESCRIPTION:Minor Ball's Spring Annual General Meeting \nOpen to the public. Come discuss and get up to speed on the upcoming season. \nhttps://www.canoraminorball.com/article/81391
URL:https://canora.com/event/minor-ball-agm/
LOCATION:Sylvia Fedoruk Cente (Upstairs)\, Main Street\, Canora\, SK\, S0A 0L0\, Canada
END:VEVENT
BEGIN:VEVENT
DTSTART;TZID=America/Regina:20220517T200000
DTEND;TZID=America/Regina:20220517T200000
DTSTAMP:20260419T061928
CREATED:20220517T202451Z
LAST-MODIFIED:20220517T202451Z
UID:10000970-1652817600-1652817600@canora.com
SUMMARY:Canora Cobras Annual General Meeting
DESCRIPTION:Review of 2021-22 Season\nElection of executives\n2022-23 Season outlook\n\n 
URL:https://canora.com/event/canora-cobras-annual-general-meeting/
LOCATION:Sylvia Fedoruk Cente (Upstairs)\, Main Street\, Canora\, SK\, S0A 0L0\, Canada
END:VEVENT
END:VCALENDAR