BEGIN:VCALENDAR
VERSION:2.0
PRODID:-//Town of Canora - ECPv6.15.17//NONSGML v1.0//EN
CALSCALE:GREGORIAN
METHOD:PUBLISH
X-ORIGINAL-URL:https://canora.com
X-WR-CALDESC:Events for Town of Canora
REFRESH-INTERVAL;VALUE=DURATION:PT1H
X-Robots-Tag:noindex
X-PUBLISHED-TTL:PT1H
BEGIN:VTIMEZONE
TZID:America/Regina
BEGIN:STANDARD
TZOFFSETFROM:-0600
TZOFFSETTO:-0600
TZNAME:CST
DTSTART:20240101T000000
END:STANDARD
END:VTIMEZONE
BEGIN:VEVENT
DTSTART;TZID=America/Regina:20260210T190000
DTEND;TZID=America/Regina:20260210T210000
DTSTAMP:20260422T091053
CREATED:20260126T153102Z
LAST-MODIFIED:20260126T153102Z
UID:10005340-1770750000-1770757200@canora.com
SUMMARY:Rec Basketball
DESCRIPTION:Contact Paul for details. \npaul@gardonsecurities.com
URL:https://canora.com/event/rec-basketball-2/2026-02-10/
LOCATION:Canora Composite School\, 223 8 Avenue\, Canora\, Saskatchewan\, S0A 0L0\, Canada
ATTACH;FMTTYPE=image/jpeg:https://canora.com/wp-content/uploads/2025/12/images-1-1.jpeg
END:VEVENT
BEGIN:VEVENT
DTSTART;TZID=America/Regina:20260209T190000
DTEND;TZID=America/Regina:20260209T190000
DTSTAMP:20260422T091053
CREATED:20251209T155053Z
LAST-MODIFIED:20251209T163033Z
UID:10004984-1770663600-1770663600@canora.com
SUMMARY:Drop in Pickleball
DESCRIPTION:Open to anyone. Bring clean shoes. Join Pickleball Canora's facebook group for schedule updates. They are subject to change with much notice.
URL:https://canora.com/event/drop-in-pickleball-2/2026-02-09/
LOCATION:Canora Composite School\, 223 8 Avenue\, Canora\, Saskatchewan\, S0A 0L0\, Canada
ATTACH;FMTTYPE=image/jpeg:https://canora.com/wp-content/uploads/2025/12/584513732_24752557581112361_6097968984811545222_n.jpg
END:VEVENT
BEGIN:VEVENT
DTSTART;TZID=America/Regina:20260205T190000
DTEND;TZID=America/Regina:20260205T190000
DTSTAMP:20260422T091053
CREATED:20251209T155053Z
LAST-MODIFIED:20251209T163033Z
UID:10004983-1770318000-1770318000@canora.com
SUMMARY:Drop in Pickleball
DESCRIPTION:Open to anyone. Bring clean shoes. Join Pickleball Canora's facebook group for schedule updates. They are subject to change with much notice.
URL:https://canora.com/event/drop-in-pickleball-2/2026-02-05/
LOCATION:Canora Composite School\, 223 8 Avenue\, Canora\, Saskatchewan\, S0A 0L0\, Canada
ATTACH;FMTTYPE=image/jpeg:https://canora.com/wp-content/uploads/2025/12/584513732_24752557581112361_6097968984811545222_n.jpg
END:VEVENT
BEGIN:VEVENT
DTSTART;TZID=America/Regina:20260204T200000
DTEND;TZID=America/Regina:20260204T213000
DTSTAMP:20260422T091053
CREATED:20260126T153312Z
LAST-MODIFIED:20260206T164506Z
UID:10005273-1770235200-1770240600@canora.com
SUMMARY:Rec Basketball
DESCRIPTION:Contact Paul for details. \npaul@gardonsecurities.com
URL:https://canora.com/event/rec-basktetball/2026-02-04/
LOCATION:Canora Composite School\, 223 8 Avenue\, Canora\, Saskatchewan\, S0A 0L0\, Canada
ATTACH;FMTTYPE=image/jpeg:https://canora.com/wp-content/uploads/2025/12/images-1-1.jpeg
END:VEVENT
BEGIN:VEVENT
DTSTART;TZID=America/Regina:20260203T190000
DTEND;TZID=America/Regina:20260203T210000
DTSTAMP:20260422T091053
CREATED:20260126T153102Z
LAST-MODIFIED:20260126T153102Z
UID:10005251-1770145200-1770152400@canora.com
SUMMARY:Rec Basketball
DESCRIPTION:Contact Paul for details. \npaul@gardonsecurities.com
URL:https://canora.com/event/rec-basketball-2/2026-02-03/
LOCATION:Canora Composite School\, 223 8 Avenue\, Canora\, Saskatchewan\, S0A 0L0\, Canada
ATTACH;FMTTYPE=image/jpeg:https://canora.com/wp-content/uploads/2025/12/images-1-1.jpeg
END:VEVENT
BEGIN:VEVENT
DTSTART;TZID=America/Regina:20260202T190000
DTEND;TZID=America/Regina:20260202T190000
DTSTAMP:20260422T091053
CREATED:20251209T155053Z
LAST-MODIFIED:20251209T163033Z
UID:10004982-1770058800-1770058800@canora.com
SUMMARY:Drop in Pickleball
DESCRIPTION:Open to anyone. Bring clean shoes. Join Pickleball Canora's facebook group for schedule updates. They are subject to change with much notice.
URL:https://canora.com/event/drop-in-pickleball-2/2026-02-02/
LOCATION:Canora Composite School\, 223 8 Avenue\, Canora\, Saskatchewan\, S0A 0L0\, Canada
ATTACH;FMTTYPE=image/jpeg:https://canora.com/wp-content/uploads/2025/12/584513732_24752557581112361_6097968984811545222_n.jpg
END:VEVENT
BEGIN:VEVENT
DTSTART;TZID=America/Regina:20260129T190000
DTEND;TZID=America/Regina:20260129T190000
DTSTAMP:20260422T091053
CREATED:20251209T155053Z
LAST-MODIFIED:20251209T163033Z
UID:10004981-1769713200-1769713200@canora.com
SUMMARY:Drop in Pickleball
DESCRIPTION:Open to anyone. Bring clean shoes. Join Pickleball Canora's facebook group for schedule updates. They are subject to change with much notice.
URL:https://canora.com/event/drop-in-pickleball-2/2026-01-29/
LOCATION:Canora Composite School\, 223 8 Avenue\, Canora\, Saskatchewan\, S0A 0L0\, Canada
ATTACH;FMTTYPE=image/jpeg:https://canora.com/wp-content/uploads/2025/12/584513732_24752557581112361_6097968984811545222_n.jpg
END:VEVENT
BEGIN:VEVENT
DTSTART;TZID=America/Regina:20260128T200000
DTEND;TZID=America/Regina:20260128T213000
DTSTAMP:20260422T091053
CREATED:20260126T153312Z
LAST-MODIFIED:20260206T164506Z
UID:10005272-1769630400-1769635800@canora.com
SUMMARY:Rec Basketball
DESCRIPTION:Contact Paul for details. \npaul@gardonsecurities.com
URL:https://canora.com/event/rec-basktetball/2026-01-28/
LOCATION:Canora Composite School\, 223 8 Avenue\, Canora\, Saskatchewan\, S0A 0L0\, Canada
ATTACH;FMTTYPE=image/jpeg:https://canora.com/wp-content/uploads/2025/12/images-1-1.jpeg
END:VEVENT
BEGIN:VEVENT
DTSTART;TZID=America/Regina:20260127T190000
DTEND;TZID=America/Regina:20260127T210000
DTSTAMP:20260422T091053
CREATED:20260126T153102Z
LAST-MODIFIED:20260126T153102Z
UID:10005250-1769540400-1769547600@canora.com
SUMMARY:Rec Basketball
DESCRIPTION:Contact Paul for details. \npaul@gardonsecurities.com
URL:https://canora.com/event/rec-basketball-2/2026-01-27/
LOCATION:Canora Composite School\, 223 8 Avenue\, Canora\, Saskatchewan\, S0A 0L0\, Canada
ATTACH;FMTTYPE=image/jpeg:https://canora.com/wp-content/uploads/2025/12/images-1-1.jpeg
END:VEVENT
BEGIN:VEVENT
DTSTART;TZID=America/Regina:20260126T190000
DTEND;TZID=America/Regina:20260126T190000
DTSTAMP:20260422T091053
CREATED:20251209T155053Z
LAST-MODIFIED:20251209T163033Z
UID:10004980-1769454000-1769454000@canora.com
SUMMARY:Drop in Pickleball
DESCRIPTION:Open to anyone. Bring clean shoes. Join Pickleball Canora's facebook group for schedule updates. They are subject to change with much notice.
URL:https://canora.com/event/drop-in-pickleball-2/2026-01-26/
LOCATION:Canora Composite School\, 223 8 Avenue\, Canora\, Saskatchewan\, S0A 0L0\, Canada
ATTACH;FMTTYPE=image/jpeg:https://canora.com/wp-content/uploads/2025/12/584513732_24752557581112361_6097968984811545222_n.jpg
END:VEVENT
BEGIN:VEVENT
DTSTART;TZID=America/Regina:20260122T190000
DTEND;TZID=America/Regina:20260122T190000
DTSTAMP:20260422T091053
CREATED:20251209T155053Z
LAST-MODIFIED:20251209T163033Z
UID:10004979-1769108400-1769108400@canora.com
SUMMARY:Drop in Pickleball
DESCRIPTION:Open to anyone. Bring clean shoes. Join Pickleball Canora's facebook group for schedule updates. They are subject to change with much notice.
URL:https://canora.com/event/drop-in-pickleball-2/2026-01-22/
LOCATION:Canora Composite School\, 223 8 Avenue\, Canora\, Saskatchewan\, S0A 0L0\, Canada
ATTACH;FMTTYPE=image/jpeg:https://canora.com/wp-content/uploads/2025/12/584513732_24752557581112361_6097968984811545222_n.jpg
END:VEVENT
BEGIN:VEVENT
DTSTART;TZID=America/Regina:20260119T190000
DTEND;TZID=America/Regina:20260119T190000
DTSTAMP:20260422T091053
CREATED:20251209T155053Z
LAST-MODIFIED:20251209T163033Z
UID:10004978-1768849200-1768849200@canora.com
SUMMARY:Drop in Pickleball
DESCRIPTION:Open to anyone. Bring clean shoes. Join Pickleball Canora's facebook group for schedule updates. They are subject to change with much notice.
URL:https://canora.com/event/drop-in-pickleball-2/2026-01-19/
LOCATION:Canora Composite School\, 223 8 Avenue\, Canora\, Saskatchewan\, S0A 0L0\, Canada
ATTACH;FMTTYPE=image/jpeg:https://canora.com/wp-content/uploads/2025/12/584513732_24752557581112361_6097968984811545222_n.jpg
END:VEVENT
BEGIN:VEVENT
DTSTART;TZID=America/Regina:20260115T190000
DTEND;TZID=America/Regina:20260115T190000
DTSTAMP:20260422T091053
CREATED:20251209T155053Z
LAST-MODIFIED:20251209T163033Z
UID:10004977-1768503600-1768503600@canora.com
SUMMARY:Drop in Pickleball
DESCRIPTION:Open to anyone. Bring clean shoes. Join Pickleball Canora's facebook group for schedule updates. They are subject to change with much notice.
URL:https://canora.com/event/drop-in-pickleball-2/2026-01-15/
LOCATION:Canora Composite School\, 223 8 Avenue\, Canora\, Saskatchewan\, S0A 0L0\, Canada
ATTACH;FMTTYPE=image/jpeg:https://canora.com/wp-content/uploads/2025/12/584513732_24752557581112361_6097968984811545222_n.jpg
END:VEVENT
BEGIN:VEVENT
DTSTART;TZID=America/Regina:20260112T190000
DTEND;TZID=America/Regina:20260112T190000
DTSTAMP:20260422T091053
CREATED:20251209T155053Z
LAST-MODIFIED:20251209T163033Z
UID:10004976-1768244400-1768244400@canora.com
SUMMARY:Drop in Pickleball
DESCRIPTION:Open to anyone. Bring clean shoes. Join Pickleball Canora's facebook group for schedule updates. They are subject to change with much notice.
URL:https://canora.com/event/drop-in-pickleball-2/2026-01-12/
LOCATION:Canora Composite School\, 223 8 Avenue\, Canora\, Saskatchewan\, S0A 0L0\, Canada
ATTACH;FMTTYPE=image/jpeg:https://canora.com/wp-content/uploads/2025/12/584513732_24752557581112361_6097968984811545222_n.jpg
END:VEVENT
BEGIN:VEVENT
DTSTART;TZID=America/Regina:20260108T190000
DTEND;TZID=America/Regina:20260108T190000
DTSTAMP:20260422T091053
CREATED:20251209T155053Z
LAST-MODIFIED:20251209T163033Z
UID:10004975-1767898800-1767898800@canora.com
SUMMARY:Drop in Pickleball
DESCRIPTION:Open to anyone. Bring clean shoes. Join Pickleball Canora's facebook group for schedule updates. They are subject to change with much notice.
URL:https://canora.com/event/drop-in-pickleball-2/2026-01-08/
LOCATION:Canora Composite School\, 223 8 Avenue\, Canora\, Saskatchewan\, S0A 0L0\, Canada
ATTACH;FMTTYPE=image/jpeg:https://canora.com/wp-content/uploads/2025/12/584513732_24752557581112361_6097968984811545222_n.jpg
END:VEVENT
BEGIN:VEVENT
DTSTART;TZID=America/Regina:20260105T190000
DTEND;TZID=America/Regina:20260105T190000
DTSTAMP:20260422T091053
CREATED:20251209T155053Z
LAST-MODIFIED:20251209T163033Z
UID:10005380-1767639600-1767639600@canora.com
SUMMARY:Drop in Pickleball
DESCRIPTION:Open to anyone. Bring clean shoes. Join Pickleball Canora's facebook group for schedule updates. They are subject to change with much notice.
URL:https://canora.com/event/drop-in-pickleball-2/2026-01-05/
LOCATION:Canora Composite School\, 223 8 Avenue\, Canora\, Saskatchewan\, S0A 0L0\, Canada
ATTACH;FMTTYPE=image/jpeg:https://canora.com/wp-content/uploads/2025/12/584513732_24752557581112361_6097968984811545222_n.jpg
END:VEVENT
BEGIN:VEVENT
DTSTART;TZID=America/Regina:20251229T190000
DTEND;TZID=America/Regina:20251229T190000
DTSTAMP:20260422T091053
CREATED:20251209T155053Z
LAST-MODIFIED:20251209T163033Z
UID:10005379-1767034800-1767034800@canora.com
SUMMARY:Drop in Pickleball
DESCRIPTION:Open to anyone. Bring clean shoes. Join Pickleball Canora's facebook group for schedule updates. They are subject to change with much notice.
URL:https://canora.com/event/drop-in-pickleball-2/2025-12-29/
LOCATION:Canora Composite School\, 223 8 Avenue\, Canora\, Saskatchewan\, S0A 0L0\, Canada
ATTACH;FMTTYPE=image/jpeg:https://canora.com/wp-content/uploads/2025/12/584513732_24752557581112361_6097968984811545222_n.jpg
END:VEVENT
BEGIN:VEVENT
DTSTART;TZID=America/Regina:20251222T190000
DTEND;TZID=America/Regina:20251222T190000
DTSTAMP:20260422T091053
CREATED:20251209T155053Z
LAST-MODIFIED:20251209T163033Z
UID:10005378-1766430000-1766430000@canora.com
SUMMARY:Drop in Pickleball
DESCRIPTION:Open to anyone. Bring clean shoes. Join Pickleball Canora's facebook group for schedule updates. They are subject to change with much notice.
URL:https://canora.com/event/drop-in-pickleball-2/2025-12-22/
LOCATION:Canora Composite School\, 223 8 Avenue\, Canora\, Saskatchewan\, S0A 0L0\, Canada
ATTACH;FMTTYPE=image/jpeg:https://canora.com/wp-content/uploads/2025/12/584513732_24752557581112361_6097968984811545222_n.jpg
END:VEVENT
BEGIN:VEVENT
DTSTART;TZID=America/Regina:20251218T190000
DTEND;TZID=America/Regina:20251218T190000
DTSTAMP:20260422T091053
CREATED:20251209T155053Z
LAST-MODIFIED:20251209T163033Z
UID:10004970-1766084400-1766084400@canora.com
SUMMARY:Drop in Pickleball
DESCRIPTION:Open to anyone. Bring clean shoes. Join Pickleball Canora's facebook group for schedule updates. They are subject to change with much notice.
URL:https://canora.com/event/drop-in-pickleball-2/2025-12-18/
LOCATION:Canora Composite School\, 223 8 Avenue\, Canora\, Saskatchewan\, S0A 0L0\, Canada
ATTACH;FMTTYPE=image/jpeg:https://canora.com/wp-content/uploads/2025/12/584513732_24752557581112361_6097968984811545222_n.jpg
END:VEVENT
BEGIN:VEVENT
DTSTART;TZID=America/Regina:20251215T190000
DTEND;TZID=America/Regina:20251215T190000
DTSTAMP:20260422T091053
CREATED:20251209T155053Z
LAST-MODIFIED:20251209T163033Z
UID:10004969-1765825200-1765825200@canora.com
SUMMARY:Drop in Pickleball
DESCRIPTION:Open to anyone. Bring clean shoes. Join Pickleball Canora's facebook group for schedule updates. They are subject to change with much notice.
URL:https://canora.com/event/drop-in-pickleball-2/2025-12-15/
LOCATION:Canora Composite School\, 223 8 Avenue\, Canora\, Saskatchewan\, S0A 0L0\, Canada
ATTACH;FMTTYPE=image/jpeg:https://canora.com/wp-content/uploads/2025/12/584513732_24752557581112361_6097968984811545222_n.jpg
END:VEVENT
BEGIN:VEVENT
DTSTART;TZID=America/Regina:20251211T190000
DTEND;TZID=America/Regina:20251211T190000
DTSTAMP:20260422T091053
CREATED:20251209T155053Z
LAST-MODIFIED:20251209T163033Z
UID:10004968-1765479600-1765479600@canora.com
SUMMARY:Drop in Pickleball
DESCRIPTION:Open to anyone. Bring clean shoes. Join Pickleball Canora's facebook group for schedule updates. They are subject to change with much notice.
URL:https://canora.com/event/drop-in-pickleball-2/2025-12-11/
LOCATION:Canora Composite School\, 223 8 Avenue\, Canora\, Saskatchewan\, S0A 0L0\, Canada
ATTACH;FMTTYPE=image/jpeg:https://canora.com/wp-content/uploads/2025/12/584513732_24752557581112361_6097968984811545222_n.jpg
END:VEVENT
BEGIN:VEVENT
DTSTART;TZID=America/Regina:20251023T193000
DTEND;TZID=America/Regina:20251023T193000
DTSTAMP:20260422T091053
CREATED:20251003T191018Z
LAST-MODIFIED:20251003T191454Z
UID:10004886-1761247800-1761247800@canora.com
SUMMARY:John Muirhead
DESCRIPTION:Folk American favourites and new pop hits combined with storytelling. \nhttps://www.johnpmuirhead.com/ \n 
URL:https://canora.com/event/john-muirhead/
LOCATION:Canora Composite School\, 223 8 Avenue\, Canora\, Saskatchewan\, S0A 0L0\, Canada
ATTACH;FMTTYPE=image/jpeg:https://canora.com/wp-content/uploads/2025/10/550728356_18531603934062664_2333252623627511945_n.jpg
END:VEVENT
BEGIN:VEVENT
DTSTART;TZID=America/Regina:20251001T190000
DTEND;TZID=America/Regina:20251001T203000
DTSTAMP:20260422T091053
CREATED:20250924T222445Z
LAST-MODIFIED:20250924T222445Z
UID:10004881-1759345200-1759350600@canora.com
SUMMARY:Air Cadets Open House
DESCRIPTION:566 Canora Air Cadets open house \nOct 1 \n7:00 PM to 8:30PM  @ CCS gym \nFREE to join.  Uniforms and training provided. \nAges 12-18
URL:https://canora.com/event/air-cadets-open-house/
LOCATION:Canora Composite School\, 223 8 Avenue\, Canora\, Saskatchewan\, S0A 0L0\, Canada
ATTACH;FMTTYPE=image/png:https://canora.com/wp-content/uploads/2025/09/RCACS_Crest.png
END:VEVENT
BEGIN:VEVENT
DTSTART;TZID=America/Regina:20250630T190000
DTEND;TZID=America/Regina:20250630T210000
DTSTAMP:20260422T091053
CREATED:20250318T205623Z
LAST-MODIFIED:20250401T170521Z
UID:10004538-1751310000-1751317200@canora.com
SUMMARY:Drop-In Pickleball
DESCRIPTION:Drop-In \nNo Charge \nEquipment available to borrow. \nClean shoes needed.
URL:https://canora.com/event/drop-in-pickleball/2025-06-30/
LOCATION:Canora Composite School\, 223 8 Avenue\, Canora\, Saskatchewan\, S0A 0L0\, Canada
END:VEVENT
BEGIN:VEVENT
DTSTART;TZID=America/Regina:20250626T190000
DTEND;TZID=America/Regina:20250626T210000
DTSTAMP:20260422T091053
CREATED:20250318T205623Z
LAST-MODIFIED:20250401T170521Z
UID:10004537-1750964400-1750971600@canora.com
SUMMARY:Drop-In Pickleball
DESCRIPTION:Drop-In \nNo Charge \nEquipment available to borrow. \nClean shoes needed.
URL:https://canora.com/event/drop-in-pickleball/2025-06-26/
LOCATION:Canora Composite School\, 223 8 Avenue\, Canora\, Saskatchewan\, S0A 0L0\, Canada
END:VEVENT
BEGIN:VEVENT
DTSTART;TZID=America/Regina:20250623T190000
DTEND;TZID=America/Regina:20250623T210000
DTSTAMP:20260422T091053
CREATED:20250318T205623Z
LAST-MODIFIED:20250401T170521Z
UID:10004536-1750705200-1750712400@canora.com
SUMMARY:Drop-In Pickleball
DESCRIPTION:Drop-In \nNo Charge \nEquipment available to borrow. \nClean shoes needed.
URL:https://canora.com/event/drop-in-pickleball/2025-06-23/
LOCATION:Canora Composite School\, 223 8 Avenue\, Canora\, Saskatchewan\, S0A 0L0\, Canada
END:VEVENT
BEGIN:VEVENT
DTSTART;TZID=America/Regina:20250619T190000
DTEND;TZID=America/Regina:20250619T210000
DTSTAMP:20260422T091053
CREATED:20250318T205623Z
LAST-MODIFIED:20250401T170521Z
UID:10004535-1750359600-1750366800@canora.com
SUMMARY:Drop-In Pickleball
DESCRIPTION:Drop-In \nNo Charge \nEquipment available to borrow. \nClean shoes needed.
URL:https://canora.com/event/drop-in-pickleball/2025-06-19/
LOCATION:Canora Composite School\, 223 8 Avenue\, Canora\, Saskatchewan\, S0A 0L0\, Canada
END:VEVENT
BEGIN:VEVENT
DTSTART;TZID=America/Regina:20250616T190000
DTEND;TZID=America/Regina:20250616T210000
DTSTAMP:20260422T091053
CREATED:20250318T205623Z
LAST-MODIFIED:20250401T170521Z
UID:10004534-1750100400-1750107600@canora.com
SUMMARY:Drop-In Pickleball
DESCRIPTION:Drop-In \nNo Charge \nEquipment available to borrow. \nClean shoes needed.
URL:https://canora.com/event/drop-in-pickleball/2025-06-16/
LOCATION:Canora Composite School\, 223 8 Avenue\, Canora\, Saskatchewan\, S0A 0L0\, Canada
END:VEVENT
BEGIN:VEVENT
DTSTART;TZID=America/Regina:20250612T190000
DTEND;TZID=America/Regina:20250612T210000
DTSTAMP:20260422T091053
CREATED:20250318T205623Z
LAST-MODIFIED:20250401T170521Z
UID:10004533-1749754800-1749762000@canora.com
SUMMARY:Drop-In Pickleball
DESCRIPTION:Drop-In \nNo Charge \nEquipment available to borrow. \nClean shoes needed.
URL:https://canora.com/event/drop-in-pickleball/2025-06-12/
LOCATION:Canora Composite School\, 223 8 Avenue\, Canora\, Saskatchewan\, S0A 0L0\, Canada
END:VEVENT
BEGIN:VEVENT
DTSTART;TZID=America/Regina:20250609T190000
DTEND;TZID=America/Regina:20250609T210000
DTSTAMP:20260422T091053
CREATED:20250318T205623Z
LAST-MODIFIED:20250401T170521Z
UID:10004532-1749495600-1749502800@canora.com
SUMMARY:Drop-In Pickleball
DESCRIPTION:Drop-In \nNo Charge \nEquipment available to borrow. \nClean shoes needed.
URL:https://canora.com/event/drop-in-pickleball/2025-06-09/
LOCATION:Canora Composite School\, 223 8 Avenue\, Canora\, Saskatchewan\, S0A 0L0\, Canada
END:VEVENT
END:VCALENDAR