BEGIN:VCALENDAR
VERSION:2.0
PRODID:-//Town of Canora - ECPv6.15.17//NONSGML v1.0//EN
CALSCALE:GREGORIAN
METHOD:PUBLISH
X-WR-CALNAME:Town of Canora
X-ORIGINAL-URL:https://canora.com
X-WR-CALDESC:Events for Town of Canora
REFRESH-INTERVAL;VALUE=DURATION:PT1H
X-Robots-Tag:noindex
X-PUBLISHED-TTL:PT1H
BEGIN:VTIMEZONE
TZID:America/Regina
BEGIN:STANDARD
TZOFFSETFROM:-0600
TZOFFSETTO:-0600
TZNAME:CST
DTSTART:20220101T000000
END:STANDARD
END:VTIMEZONE
BEGIN:VEVENT
DTSTART;TZID=America/Regina:20240124T190000
DTEND;TZID=America/Regina:20240124T210000
DTSTAMP:20260423T043357
CREATED:20240123T151640Z
LAST-MODIFIED:20240123T151641Z
UID:10001859-1706122800-1706130000@canora.com
SUMMARY:Pickleball
DESCRIPTION:Mondays and Thursdays @ 7pm at CCS (high school). Bring clean shoes. Equipment available to use. \nPlease join and follow Canora Pickleball on Facebook for scheduling changes. \nhttps://www.facebook.com/groups/1160365267925296 \n 
URL:https://canora.com/event/pickleball-2/2024-01-24/
LOCATION:Canora Composite School\, 223 8 Avenue\, Canora\, Saskatchewan\, S0A 0L0\, Canada
ORGANIZER;CN="Canora Leisure Services":MAILTO:leisure.canora@sasktel.net
END:VEVENT
BEGIN:VEVENT
DTSTART;TZID=America/Regina:20240122T190000
DTEND;TZID=America/Regina:20240122T190000
DTSTAMP:20260423T043357
CREATED:20231016T170907Z
LAST-MODIFIED:20231016T171345Z
UID:10001858-1705950000-1705950000@canora.com
SUMMARY:Pickleball
DESCRIPTION:Mondays and Thursdays @ 7pm at CCS (high school). Bring clean shoes. Equipment available to use. \nPlease join and follow Canora Pickleball on Facebook for scheduling changes. \nhttps://www.facebook.com/groups/1160365267925296 \n 
URL:https://canora.com/event/pickleball/2024-01-22/
LOCATION:Canora Composite School\, 223 8 Avenue\, Canora\, Saskatchewan\, S0A 0L0\, Canada
ORGANIZER;CN="Canora Leisure Services":MAILTO:leisure.canora@sasktel.net
END:VEVENT
BEGIN:VEVENT
DTSTART;TZID=America/Regina:20240118T190000
DTEND;TZID=America/Regina:20240118T190000
DTSTAMP:20260423T043357
CREATED:20231016T170907Z
LAST-MODIFIED:20231016T171345Z
UID:10001857-1705604400-1705604400@canora.com
SUMMARY:Pickleball
DESCRIPTION:Mondays and Thursdays @ 7pm at CCS (high school). Bring clean shoes. Equipment available to use. \nPlease join and follow Canora Pickleball on Facebook for scheduling changes. \nhttps://www.facebook.com/groups/1160365267925296 \n 
URL:https://canora.com/event/pickleball/2024-01-18/
LOCATION:Canora Composite School\, 223 8 Avenue\, Canora\, Saskatchewan\, S0A 0L0\, Canada
ORGANIZER;CN="Canora Leisure Services":MAILTO:leisure.canora@sasktel.net
END:VEVENT
BEGIN:VEVENT
DTSTART;TZID=America/Regina:20240115T190000
DTEND;TZID=America/Regina:20240115T190000
DTSTAMP:20260423T043357
CREATED:20231016T170907Z
LAST-MODIFIED:20231016T171345Z
UID:10001856-1705345200-1705345200@canora.com
SUMMARY:Pickleball
DESCRIPTION:Mondays and Thursdays @ 7pm at CCS (high school). Bring clean shoes. Equipment available to use. \nPlease join and follow Canora Pickleball on Facebook for scheduling changes. \nhttps://www.facebook.com/groups/1160365267925296 \n 
URL:https://canora.com/event/pickleball/2024-01-15/
LOCATION:Canora Composite School\, 223 8 Avenue\, Canora\, Saskatchewan\, S0A 0L0\, Canada
ORGANIZER;CN="Canora Leisure Services":MAILTO:leisure.canora@sasktel.net
END:VEVENT
BEGIN:VEVENT
DTSTART;TZID=America/Regina:20240111T190000
DTEND;TZID=America/Regina:20240111T190000
DTSTAMP:20260423T043357
CREATED:20231016T170907Z
LAST-MODIFIED:20231016T171345Z
UID:10001855-1704999600-1704999600@canora.com
SUMMARY:Pickleball
DESCRIPTION:Mondays and Thursdays @ 7pm at CCS (high school). Bring clean shoes. Equipment available to use. \nPlease join and follow Canora Pickleball on Facebook for scheduling changes. \nhttps://www.facebook.com/groups/1160365267925296 \n 
URL:https://canora.com/event/pickleball/2024-01-11/
LOCATION:Canora Composite School\, 223 8 Avenue\, Canora\, Saskatchewan\, S0A 0L0\, Canada
ORGANIZER;CN="Canora Leisure Services":MAILTO:leisure.canora@sasktel.net
END:VEVENT
BEGIN:VEVENT
DTSTART;TZID=America/Regina:20240110T193000
DTEND;TZID=America/Regina:20240110T193000
DTSTAMP:20260423T043358
CREATED:20231005T152124Z
LAST-MODIFIED:20231005T152315Z
UID:10001826-1704915000-1704915000@canora.com
SUMMARY:Jake Vaadeland
DESCRIPTION:
URL:https://canora.com/event/jake-vaadeland/
LOCATION:Canora Composite School\, 223 8 Avenue\, Canora\, Saskatchewan\, S0A 0L0\, Canada
END:VEVENT
BEGIN:VEVENT
DTSTART;TZID=America/Regina:20240108T190000
DTEND;TZID=America/Regina:20240108T190000
DTSTAMP:20260423T043358
CREATED:20231016T170907Z
LAST-MODIFIED:20231016T171345Z
UID:10001854-1704740400-1704740400@canora.com
SUMMARY:Pickleball
DESCRIPTION:Mondays and Thursdays @ 7pm at CCS (high school). Bring clean shoes. Equipment available to use. \nPlease join and follow Canora Pickleball on Facebook for scheduling changes. \nhttps://www.facebook.com/groups/1160365267925296 \n 
URL:https://canora.com/event/pickleball/2024-01-08/
LOCATION:Canora Composite School\, 223 8 Avenue\, Canora\, Saskatchewan\, S0A 0L0\, Canada
ORGANIZER;CN="Canora Leisure Services":MAILTO:leisure.canora@sasktel.net
END:VEVENT
BEGIN:VEVENT
DTSTART;TZID=America/Regina:20240104T190000
DTEND;TZID=America/Regina:20240104T190000
DTSTAMP:20260423T043358
CREATED:20231016T170907Z
LAST-MODIFIED:20231016T171345Z
UID:10001853-1704394800-1704394800@canora.com
SUMMARY:Pickleball
DESCRIPTION:Mondays and Thursdays @ 7pm at CCS (high school). Bring clean shoes. Equipment available to use. \nPlease join and follow Canora Pickleball on Facebook for scheduling changes. \nhttps://www.facebook.com/groups/1160365267925296 \n 
URL:https://canora.com/event/pickleball/2024-01-04/
LOCATION:Canora Composite School\, 223 8 Avenue\, Canora\, Saskatchewan\, S0A 0L0\, Canada
ORGANIZER;CN="Canora Leisure Services":MAILTO:leisure.canora@sasktel.net
END:VEVENT
BEGIN:VEVENT
DTSTART;TZID=America/Regina:20231221T190000
DTEND;TZID=America/Regina:20231221T190000
DTSTAMP:20260423T043358
CREATED:20231016T170907Z
LAST-MODIFIED:20231016T171345Z
UID:10001849-1703185200-1703185200@canora.com
SUMMARY:Pickleball
DESCRIPTION:Mondays and Thursdays @ 7pm at CCS (high school). Bring clean shoes. Equipment available to use. \nPlease join and follow Canora Pickleball on Facebook for scheduling changes. \nhttps://www.facebook.com/groups/1160365267925296 \n 
URL:https://canora.com/event/pickleball/2023-12-21/
LOCATION:Canora Composite School\, 223 8 Avenue\, Canora\, Saskatchewan\, S0A 0L0\, Canada
ORGANIZER;CN="Canora Leisure Services":MAILTO:leisure.canora@sasktel.net
END:VEVENT
BEGIN:VEVENT
DTSTART;TZID=America/Regina:20231218T190000
DTEND;TZID=America/Regina:20231218T190000
DTSTAMP:20260423T043358
CREATED:20231016T170907Z
LAST-MODIFIED:20231016T171345Z
UID:10001848-1702926000-1702926000@canora.com
SUMMARY:Pickleball
DESCRIPTION:Mondays and Thursdays @ 7pm at CCS (high school). Bring clean shoes. Equipment available to use. \nPlease join and follow Canora Pickleball on Facebook for scheduling changes. \nhttps://www.facebook.com/groups/1160365267925296 \n 
URL:https://canora.com/event/pickleball/2023-12-18/
LOCATION:Canora Composite School\, 223 8 Avenue\, Canora\, Saskatchewan\, S0A 0L0\, Canada
ORGANIZER;CN="Canora Leisure Services":MAILTO:leisure.canora@sasktel.net
END:VEVENT
BEGIN:VEVENT
DTSTART;TZID=America/Regina:20231214T190000
DTEND;TZID=America/Regina:20231214T190000
DTSTAMP:20260423T043358
CREATED:20231016T170907Z
LAST-MODIFIED:20231016T171345Z
UID:10001847-1702580400-1702580400@canora.com
SUMMARY:Pickleball
DESCRIPTION:Mondays and Thursdays @ 7pm at CCS (high school). Bring clean shoes. Equipment available to use. \nPlease join and follow Canora Pickleball on Facebook for scheduling changes. \nhttps://www.facebook.com/groups/1160365267925296 \n 
URL:https://canora.com/event/pickleball/2023-12-14/
LOCATION:Canora Composite School\, 223 8 Avenue\, Canora\, Saskatchewan\, S0A 0L0\, Canada
ORGANIZER;CN="Canora Leisure Services":MAILTO:leisure.canora@sasktel.net
END:VEVENT
BEGIN:VEVENT
DTSTART;TZID=America/Regina:20231211T190000
DTEND;TZID=America/Regina:20231211T190000
DTSTAMP:20260423T043358
CREATED:20231016T170907Z
LAST-MODIFIED:20231016T171345Z
UID:10001846-1702321200-1702321200@canora.com
SUMMARY:Pickleball
DESCRIPTION:Mondays and Thursdays @ 7pm at CCS (high school). Bring clean shoes. Equipment available to use. \nPlease join and follow Canora Pickleball on Facebook for scheduling changes. \nhttps://www.facebook.com/groups/1160365267925296 \n 
URL:https://canora.com/event/pickleball/2023-12-11/
LOCATION:Canora Composite School\, 223 8 Avenue\, Canora\, Saskatchewan\, S0A 0L0\, Canada
ORGANIZER;CN="Canora Leisure Services":MAILTO:leisure.canora@sasktel.net
END:VEVENT
BEGIN:VEVENT
DTSTART;TZID=America/Regina:20231207T190000
DTEND;TZID=America/Regina:20231207T190000
DTSTAMP:20260423T043358
CREATED:20231016T170907Z
LAST-MODIFIED:20231016T171345Z
UID:10001845-1701975600-1701975600@canora.com
SUMMARY:Pickleball
DESCRIPTION:Mondays and Thursdays @ 7pm at CCS (high school). Bring clean shoes. Equipment available to use. \nPlease join and follow Canora Pickleball on Facebook for scheduling changes. \nhttps://www.facebook.com/groups/1160365267925296 \n 
URL:https://canora.com/event/pickleball/2023-12-07/
LOCATION:Canora Composite School\, 223 8 Avenue\, Canora\, Saskatchewan\, S0A 0L0\, Canada
ORGANIZER;CN="Canora Leisure Services":MAILTO:leisure.canora@sasktel.net
END:VEVENT
BEGIN:VEVENT
DTSTART;TZID=America/Regina:20231204T190000
DTEND;TZID=America/Regina:20231204T190000
DTSTAMP:20260423T043358
CREATED:20231016T170907Z
LAST-MODIFIED:20231016T171345Z
UID:10001844-1701716400-1701716400@canora.com
SUMMARY:Pickleball
DESCRIPTION:Mondays and Thursdays @ 7pm at CCS (high school). Bring clean shoes. Equipment available to use. \nPlease join and follow Canora Pickleball on Facebook for scheduling changes. \nhttps://www.facebook.com/groups/1160365267925296 \n 
URL:https://canora.com/event/pickleball/2023-12-04/
LOCATION:Canora Composite School\, 223 8 Avenue\, Canora\, Saskatchewan\, S0A 0L0\, Canada
ORGANIZER;CN="Canora Leisure Services":MAILTO:leisure.canora@sasktel.net
END:VEVENT
BEGIN:VEVENT
DTSTART;TZID=America/Regina:20231130T190000
DTEND;TZID=America/Regina:20231130T190000
DTSTAMP:20260423T043358
CREATED:20231016T170907Z
LAST-MODIFIED:20231016T171345Z
UID:10001843-1701370800-1701370800@canora.com
SUMMARY:Pickleball
DESCRIPTION:Mondays and Thursdays @ 7pm at CCS (high school). Bring clean shoes. Equipment available to use. \nPlease join and follow Canora Pickleball on Facebook for scheduling changes. \nhttps://www.facebook.com/groups/1160365267925296 \n 
URL:https://canora.com/event/pickleball/2023-11-30/
LOCATION:Canora Composite School\, 223 8 Avenue\, Canora\, Saskatchewan\, S0A 0L0\, Canada
ORGANIZER;CN="Canora Leisure Services":MAILTO:leisure.canora@sasktel.net
END:VEVENT
BEGIN:VEVENT
DTSTART;TZID=America/Regina:20231127T190000
DTEND;TZID=America/Regina:20231127T190000
DTSTAMP:20260423T043358
CREATED:20231016T170907Z
LAST-MODIFIED:20231016T171345Z
UID:10001842-1701111600-1701111600@canora.com
SUMMARY:Pickleball
DESCRIPTION:Mondays and Thursdays @ 7pm at CCS (high school). Bring clean shoes. Equipment available to use. \nPlease join and follow Canora Pickleball on Facebook for scheduling changes. \nhttps://www.facebook.com/groups/1160365267925296 \n 
URL:https://canora.com/event/pickleball/2023-11-27/
LOCATION:Canora Composite School\, 223 8 Avenue\, Canora\, Saskatchewan\, S0A 0L0\, Canada
ORGANIZER;CN="Canora Leisure Services":MAILTO:leisure.canora@sasktel.net
END:VEVENT
BEGIN:VEVENT
DTSTART;TZID=America/Regina:20231123T190000
DTEND;TZID=America/Regina:20231123T190000
DTSTAMP:20260423T043358
CREATED:20231016T170907Z
LAST-MODIFIED:20231016T171345Z
UID:10001841-1700766000-1700766000@canora.com
SUMMARY:Pickleball
DESCRIPTION:Mondays and Thursdays @ 7pm at CCS (high school). Bring clean shoes. Equipment available to use. \nPlease join and follow Canora Pickleball on Facebook for scheduling changes. \nhttps://www.facebook.com/groups/1160365267925296 \n 
URL:https://canora.com/event/pickleball/2023-11-23/
LOCATION:Canora Composite School\, 223 8 Avenue\, Canora\, Saskatchewan\, S0A 0L0\, Canada
ORGANIZER;CN="Canora Leisure Services":MAILTO:leisure.canora@sasktel.net
END:VEVENT
BEGIN:VEVENT
DTSTART;TZID=America/Regina:20231120T190000
DTEND;TZID=America/Regina:20231120T190000
DTSTAMP:20260423T043358
CREATED:20231016T170907Z
LAST-MODIFIED:20231016T171345Z
UID:10001840-1700506800-1700506800@canora.com
SUMMARY:Pickleball
DESCRIPTION:Mondays and Thursdays @ 7pm at CCS (high school). Bring clean shoes. Equipment available to use. \nPlease join and follow Canora Pickleball on Facebook for scheduling changes. \nhttps://www.facebook.com/groups/1160365267925296 \n 
URL:https://canora.com/event/pickleball/2023-11-20/
LOCATION:Canora Composite School\, 223 8 Avenue\, Canora\, Saskatchewan\, S0A 0L0\, Canada
ORGANIZER;CN="Canora Leisure Services":MAILTO:leisure.canora@sasktel.net
END:VEVENT
BEGIN:VEVENT
DTSTART;TZID=America/Regina:20231116T190000
DTEND;TZID=America/Regina:20231116T190000
DTSTAMP:20260423T043358
CREATED:20231016T170907Z
LAST-MODIFIED:20231016T171345Z
UID:10001839-1700161200-1700161200@canora.com
SUMMARY:Pickleball
DESCRIPTION:Mondays and Thursdays @ 7pm at CCS (high school). Bring clean shoes. Equipment available to use. \nPlease join and follow Canora Pickleball on Facebook for scheduling changes. \nhttps://www.facebook.com/groups/1160365267925296 \n 
URL:https://canora.com/event/pickleball/2023-11-16/
LOCATION:Canora Composite School\, 223 8 Avenue\, Canora\, Saskatchewan\, S0A 0L0\, Canada
ORGANIZER;CN="Canora Leisure Services":MAILTO:leisure.canora@sasktel.net
END:VEVENT
BEGIN:VEVENT
DTSTART;TZID=America/Regina:20231109T190000
DTEND;TZID=America/Regina:20231109T190000
DTSTAMP:20260423T043358
CREATED:20231016T170907Z
LAST-MODIFIED:20231016T171345Z
UID:10001837-1699556400-1699556400@canora.com
SUMMARY:Pickleball
DESCRIPTION:Mondays and Thursdays @ 7pm at CCS (high school). Bring clean shoes. Equipment available to use. \nPlease join and follow Canora Pickleball on Facebook for scheduling changes. \nhttps://www.facebook.com/groups/1160365267925296 \n 
URL:https://canora.com/event/pickleball/2023-11-09/
LOCATION:Canora Composite School\, 223 8 Avenue\, Canora\, Saskatchewan\, S0A 0L0\, Canada
ORGANIZER;CN="Canora Leisure Services":MAILTO:leisure.canora@sasktel.net
END:VEVENT
BEGIN:VEVENT
DTSTART;TZID=America/Regina:20231106T190000
DTEND;TZID=America/Regina:20231106T190000
DTSTAMP:20260423T043358
CREATED:20231016T170907Z
LAST-MODIFIED:20231016T171345Z
UID:10001836-1699297200-1699297200@canora.com
SUMMARY:Pickleball
DESCRIPTION:Mondays and Thursdays @ 7pm at CCS (high school). Bring clean shoes. Equipment available to use. \nPlease join and follow Canora Pickleball on Facebook for scheduling changes. \nhttps://www.facebook.com/groups/1160365267925296 \n 
URL:https://canora.com/event/pickleball/2023-11-06/
LOCATION:Canora Composite School\, 223 8 Avenue\, Canora\, Saskatchewan\, S0A 0L0\, Canada
ORGANIZER;CN="Canora Leisure Services":MAILTO:leisure.canora@sasktel.net
END:VEVENT
BEGIN:VEVENT
DTSTART;TZID=America/Regina:20231102T190000
DTEND;TZID=America/Regina:20231102T190000
DTSTAMP:20260423T043358
CREATED:20231016T170907Z
LAST-MODIFIED:20231016T171345Z
UID:10001835-1698951600-1698951600@canora.com
SUMMARY:Pickleball
DESCRIPTION:Mondays and Thursdays @ 7pm at CCS (high school). Bring clean shoes. Equipment available to use. \nPlease join and follow Canora Pickleball on Facebook for scheduling changes. \nhttps://www.facebook.com/groups/1160365267925296 \n 
URL:https://canora.com/event/pickleball/2023-11-02/
LOCATION:Canora Composite School\, 223 8 Avenue\, Canora\, Saskatchewan\, S0A 0L0\, Canada
ORGANIZER;CN="Canora Leisure Services":MAILTO:leisure.canora@sasktel.net
END:VEVENT
BEGIN:VEVENT
DTSTART;TZID=America/Regina:20231030T190000
DTEND;TZID=America/Regina:20231030T190000
DTSTAMP:20260423T043358
CREATED:20231016T170907Z
LAST-MODIFIED:20231016T171345Z
UID:10001834-1698692400-1698692400@canora.com
SUMMARY:Pickleball
DESCRIPTION:Mondays and Thursdays @ 7pm at CCS (high school). Bring clean shoes. Equipment available to use. \nPlease join and follow Canora Pickleball on Facebook for scheduling changes. \nhttps://www.facebook.com/groups/1160365267925296 \n 
URL:https://canora.com/event/pickleball/2023-10-30/
LOCATION:Canora Composite School\, 223 8 Avenue\, Canora\, Saskatchewan\, S0A 0L0\, Canada
ORGANIZER;CN="Canora Leisure Services":MAILTO:leisure.canora@sasktel.net
END:VEVENT
BEGIN:VEVENT
DTSTART;TZID=America/Regina:20231026T193000
DTEND;TZID=America/Regina:20231026T193000
DTSTAMP:20260423T043358
CREATED:20231005T151748Z
LAST-MODIFIED:20231005T152223Z
UID:10001825-1698348600-1698348600@canora.com
SUMMARY:Diyet & The Love Soldiers
DESCRIPTION:
URL:https://canora.com/event/diyet-the-love-soldiers/
LOCATION:Canora Composite School\, 223 8 Avenue\, Canora\, Saskatchewan\, S0A 0L0\, Canada
END:VEVENT
BEGIN:VEVENT
DTSTART;TZID=America/Regina:20231023T190000
DTEND;TZID=America/Regina:20231023T190000
DTSTAMP:20260423T043358
CREATED:20231016T170907Z
LAST-MODIFIED:20231016T171345Z
UID:10001832-1698087600-1698087600@canora.com
SUMMARY:Pickleball
DESCRIPTION:Mondays and Thursdays @ 7pm at CCS (high school). Bring clean shoes. Equipment available to use. \nPlease join and follow Canora Pickleball on Facebook for scheduling changes. \nhttps://www.facebook.com/groups/1160365267925296 \n 
URL:https://canora.com/event/pickleball/2023-10-23/
LOCATION:Canora Composite School\, 223 8 Avenue\, Canora\, Saskatchewan\, S0A 0L0\, Canada
ORGANIZER;CN="Canora Leisure Services":MAILTO:leisure.canora@sasktel.net
END:VEVENT
BEGIN:VEVENT
DTSTART;TZID=America/Regina:20231019T190000
DTEND;TZID=America/Regina:20231019T190000
DTSTAMP:20260423T043358
CREATED:20231016T170907Z
LAST-MODIFIED:20231016T171345Z
UID:10001831-1697742000-1697742000@canora.com
SUMMARY:Pickleball
DESCRIPTION:Mondays and Thursdays @ 7pm at CCS (high school). Bring clean shoes. Equipment available to use. \nPlease join and follow Canora Pickleball on Facebook for scheduling changes. \nhttps://www.facebook.com/groups/1160365267925296 \n 
URL:https://canora.com/event/pickleball/2023-10-19/
LOCATION:Canora Composite School\, 223 8 Avenue\, Canora\, Saskatchewan\, S0A 0L0\, Canada
ORGANIZER;CN="Canora Leisure Services":MAILTO:leisure.canora@sasktel.net
END:VEVENT
BEGIN:VEVENT
DTSTART;TZID=America/Regina:20231016T190000
DTEND;TZID=America/Regina:20231016T190000
DTSTAMP:20260423T043358
CREATED:20231016T170907Z
LAST-MODIFIED:20231016T171345Z
UID:10001830-1697482800-1697482800@canora.com
SUMMARY:Pickleball
DESCRIPTION:Mondays and Thursdays @ 7pm at CCS (high school). Bring clean shoes. Equipment available to use. \nPlease join and follow Canora Pickleball on Facebook for scheduling changes. \nhttps://www.facebook.com/groups/1160365267925296 \n 
URL:https://canora.com/event/pickleball/2023-10-16/
LOCATION:Canora Composite School\, 223 8 Avenue\, Canora\, Saskatchewan\, S0A 0L0\, Canada
ORGANIZER;CN="Canora Leisure Services":MAILTO:leisure.canora@sasktel.net
END:VEVENT
BEGIN:VEVENT
DTSTART;TZID=America/Regina:20230629T190000
DTEND;TZID=America/Regina:20230629T210000
DTSTAMP:20260423T043358
CREATED:20221017T213956Z
LAST-MODIFIED:20230404T153509Z
UID:10001070-1688065200-1688072400@canora.com
SUMMARY:Pickleball Program
DESCRIPTION:Every Monday & Thursday
URL:https://canora.com/event/pickle-ball-program/2023-06-29/
LOCATION:Canora Composite School\, 223 8 Avenue\, Canora\, Saskatchewan\, S0A 0L0\, Canada
ORGANIZER;CN="Canora Leisure Services":MAILTO:leisure.canora@sasktel.net
END:VEVENT
BEGIN:VEVENT
DTSTART;TZID=America/Regina:20230626T190000
DTEND;TZID=America/Regina:20230626T210000
DTSTAMP:20260423T043358
CREATED:20221017T213956Z
LAST-MODIFIED:20230404T153509Z
UID:10001069-1687806000-1687813200@canora.com
SUMMARY:Pickleball Program
DESCRIPTION:Every Monday & Thursday
URL:https://canora.com/event/pickle-ball-program/2023-06-26/
LOCATION:Canora Composite School\, 223 8 Avenue\, Canora\, Saskatchewan\, S0A 0L0\, Canada
ORGANIZER;CN="Canora Leisure Services":MAILTO:leisure.canora@sasktel.net
END:VEVENT
BEGIN:VEVENT
DTSTART;TZID=America/Regina:20230622T190000
DTEND;TZID=America/Regina:20230622T210000
DTSTAMP:20260423T043358
CREATED:20221017T213956Z
LAST-MODIFIED:20230404T153509Z
UID:10001068-1687460400-1687467600@canora.com
SUMMARY:Pickleball Program
DESCRIPTION:Every Monday & Thursday
URL:https://canora.com/event/pickle-ball-program/2023-06-22/
LOCATION:Canora Composite School\, 223 8 Avenue\, Canora\, Saskatchewan\, S0A 0L0\, Canada
ORGANIZER;CN="Canora Leisure Services":MAILTO:leisure.canora@sasktel.net
END:VEVENT
END:VCALENDAR