BEGIN:VCALENDAR
VERSION:2.0
PRODID:-//Town of Canora - ECPv6.15.17//NONSGML v1.0//EN
CALSCALE:GREGORIAN
METHOD:PUBLISH
X-ORIGINAL-URL:https://canora.com
X-WR-CALDESC:Events for Town of Canora
REFRESH-INTERVAL;VALUE=DURATION:PT1H
X-Robots-Tag:noindex
X-PUBLISHED-TTL:PT1H
BEGIN:VTIMEZONE
TZID:America/Regina
BEGIN:STANDARD
TZOFFSETFROM:-0600
TZOFFSETTO:-0600
TZNAME:CST
DTSTART:20230101T000000
END:STANDARD
END:VTIMEZONE
BEGIN:VEVENT
DTSTART;TZID=America/Regina:20240527T190000
DTEND;TZID=America/Regina:20240527T210000
DTSTAMP:20260422T212834
CREATED:20240319T144433Z
LAST-MODIFIED:20240530T214702Z
UID:10002625-1716836400-1716843600@canora.com
SUMMARY:Pickleball
DESCRIPTION:Mondays and Thursdays @ 7pm at CCS (high school). Bring clean shoes. Equipment available to use. \nPlease join and follow Canora Pickleball on Facebook for scheduling changes. \nhttps://www.facebook.com/groups/1160365267925296 \n 
URL:https://canora.com/event/pickleball-2-3/2024-05-27/
LOCATION:Canora Composite School\, 223 8 Avenue\, Canora\, Saskatchewan\, S0A 0L0\, Canada
ATTACH;FMTTYPE=image/jpeg:https://canora.com/wp-content/uploads/2024/03/420836407_10168319725315640_6703156563531139332_n.jpg
ORGANIZER;CN="Canora Leisure Services":MAILTO:leisure.canora@sasktel.net
END:VEVENT
BEGIN:VEVENT
DTSTART;TZID=America/Regina:20240523T190000
DTEND;TZID=America/Regina:20240523T210000
DTSTAMP:20260422T212834
CREATED:20240319T144433Z
LAST-MODIFIED:20240530T214702Z
UID:10002624-1716490800-1716498000@canora.com
SUMMARY:Pickleball
DESCRIPTION:Mondays and Thursdays @ 7pm at CCS (high school). Bring clean shoes. Equipment available to use. \nPlease join and follow Canora Pickleball on Facebook for scheduling changes. \nhttps://www.facebook.com/groups/1160365267925296 \n 
URL:https://canora.com/event/pickleball-2-3/2024-05-23/
LOCATION:Canora Composite School\, 223 8 Avenue\, Canora\, Saskatchewan\, S0A 0L0\, Canada
ATTACH;FMTTYPE=image/jpeg:https://canora.com/wp-content/uploads/2024/03/420836407_10168319725315640_6703156563531139332_n.jpg
ORGANIZER;CN="Canora Leisure Services":MAILTO:leisure.canora@sasktel.net
END:VEVENT
BEGIN:VEVENT
DTSTART;TZID=America/Regina:20240520T190000
DTEND;TZID=America/Regina:20240520T210000
DTSTAMP:20260422T212834
CREATED:20240319T144433Z
LAST-MODIFIED:20240530T214702Z
UID:10002623-1716231600-1716238800@canora.com
SUMMARY:Pickleball
DESCRIPTION:Mondays and Thursdays @ 7pm at CCS (high school). Bring clean shoes. Equipment available to use. \nPlease join and follow Canora Pickleball on Facebook for scheduling changes. \nhttps://www.facebook.com/groups/1160365267925296 \n 
URL:https://canora.com/event/pickleball-2-3/2024-05-20/
LOCATION:Canora Composite School\, 223 8 Avenue\, Canora\, Saskatchewan\, S0A 0L0\, Canada
ATTACH;FMTTYPE=image/jpeg:https://canora.com/wp-content/uploads/2024/03/420836407_10168319725315640_6703156563531139332_n.jpg
ORGANIZER;CN="Canora Leisure Services":MAILTO:leisure.canora@sasktel.net
END:VEVENT
BEGIN:VEVENT
DTSTART;TZID=America/Regina:20240516T190000
DTEND;TZID=America/Regina:20240516T210000
DTSTAMP:20260422T212834
CREATED:20240319T144433Z
LAST-MODIFIED:20240530T214702Z
UID:10002622-1715886000-1715893200@canora.com
SUMMARY:Pickleball
DESCRIPTION:Mondays and Thursdays @ 7pm at CCS (high school). Bring clean shoes. Equipment available to use. \nPlease join and follow Canora Pickleball on Facebook for scheduling changes. \nhttps://www.facebook.com/groups/1160365267925296 \n 
URL:https://canora.com/event/pickleball-2-3/2024-05-16/
LOCATION:Canora Composite School\, 223 8 Avenue\, Canora\, Saskatchewan\, S0A 0L0\, Canada
ATTACH;FMTTYPE=image/jpeg:https://canora.com/wp-content/uploads/2024/03/420836407_10168319725315640_6703156563531139332_n.jpg
ORGANIZER;CN="Canora Leisure Services":MAILTO:leisure.canora@sasktel.net
END:VEVENT
BEGIN:VEVENT
DTSTART;TZID=America/Regina:20240513T190000
DTEND;TZID=America/Regina:20240513T210000
DTSTAMP:20260422T212834
CREATED:20240319T144433Z
LAST-MODIFIED:20240530T214702Z
UID:10002621-1715626800-1715634000@canora.com
SUMMARY:Pickleball
DESCRIPTION:Mondays and Thursdays @ 7pm at CCS (high school). Bring clean shoes. Equipment available to use. \nPlease join and follow Canora Pickleball on Facebook for scheduling changes. \nhttps://www.facebook.com/groups/1160365267925296 \n 
URL:https://canora.com/event/pickleball-2-3/2024-05-13/
LOCATION:Canora Composite School\, 223 8 Avenue\, Canora\, Saskatchewan\, S0A 0L0\, Canada
ATTACH;FMTTYPE=image/jpeg:https://canora.com/wp-content/uploads/2024/03/420836407_10168319725315640_6703156563531139332_n.jpg
ORGANIZER;CN="Canora Leisure Services":MAILTO:leisure.canora@sasktel.net
END:VEVENT
BEGIN:VEVENT
DTSTART;TZID=America/Regina:20240509T190000
DTEND;TZID=America/Regina:20240509T210000
DTSTAMP:20260422T212834
CREATED:20240319T144433Z
LAST-MODIFIED:20240530T214702Z
UID:10002620-1715281200-1715288400@canora.com
SUMMARY:Pickleball
DESCRIPTION:Mondays and Thursdays @ 7pm at CCS (high school). Bring clean shoes. Equipment available to use. \nPlease join and follow Canora Pickleball on Facebook for scheduling changes. \nhttps://www.facebook.com/groups/1160365267925296 \n 
URL:https://canora.com/event/pickleball-2-3/2024-05-09/
LOCATION:Canora Composite School\, 223 8 Avenue\, Canora\, Saskatchewan\, S0A 0L0\, Canada
ATTACH;FMTTYPE=image/jpeg:https://canora.com/wp-content/uploads/2024/03/420836407_10168319725315640_6703156563531139332_n.jpg
ORGANIZER;CN="Canora Leisure Services":MAILTO:leisure.canora@sasktel.net
END:VEVENT
BEGIN:VEVENT
DTSTART;TZID=America/Regina:20240506T190000
DTEND;TZID=America/Regina:20240506T210000
DTSTAMP:20260422T212834
CREATED:20240319T144433Z
LAST-MODIFIED:20240530T214702Z
UID:10002619-1715022000-1715029200@canora.com
SUMMARY:Pickleball
DESCRIPTION:Mondays and Thursdays @ 7pm at CCS (high school). Bring clean shoes. Equipment available to use. \nPlease join and follow Canora Pickleball on Facebook for scheduling changes. \nhttps://www.facebook.com/groups/1160365267925296 \n 
URL:https://canora.com/event/pickleball-2-3/2024-05-06/
LOCATION:Canora Composite School\, 223 8 Avenue\, Canora\, Saskatchewan\, S0A 0L0\, Canada
ATTACH;FMTTYPE=image/jpeg:https://canora.com/wp-content/uploads/2024/03/420836407_10168319725315640_6703156563531139332_n.jpg
ORGANIZER;CN="Canora Leisure Services":MAILTO:leisure.canora@sasktel.net
END:VEVENT
BEGIN:VEVENT
DTSTART;TZID=America/Regina:20240505T140000
DTEND;TZID=America/Regina:20240505T140000
DTSTAMP:20260422T212834
CREATED:20240415T211145Z
LAST-MODIFIED:20240416T153934Z
UID:10002797-1714917600-1714917600@canora.com
SUMMARY:48th Veselka Ukrainian Dance Concert
DESCRIPTION:
URL:https://canora.com/event/veselka-ukrainian-dance-concert/
LOCATION:Canora Composite School\, 223 8 Avenue\, Canora\, Saskatchewan\, S0A 0L0\, Canada
ATTACH;FMTTYPE=image/jpeg:https://canora.com/wp-content/uploads/2024/04/malanka-jack-craig-henry-craig.jpg
END:VEVENT
BEGIN:VEVENT
DTSTART;TZID=America/Regina:20240502T190000
DTEND;TZID=America/Regina:20240502T210000
DTSTAMP:20260422T212834
CREATED:20240319T144433Z
LAST-MODIFIED:20240530T214702Z
UID:10002618-1714676400-1714683600@canora.com
SUMMARY:Pickleball
DESCRIPTION:Mondays and Thursdays @ 7pm at CCS (high school). Bring clean shoes. Equipment available to use. \nPlease join and follow Canora Pickleball on Facebook for scheduling changes. \nhttps://www.facebook.com/groups/1160365267925296 \n 
URL:https://canora.com/event/pickleball-2-3/2024-05-02/
LOCATION:Canora Composite School\, 223 8 Avenue\, Canora\, Saskatchewan\, S0A 0L0\, Canada
ATTACH;FMTTYPE=image/jpeg:https://canora.com/wp-content/uploads/2024/03/420836407_10168319725315640_6703156563531139332_n.jpg
ORGANIZER;CN="Canora Leisure Services":MAILTO:leisure.canora@sasktel.net
END:VEVENT
BEGIN:VEVENT
DTSTART;TZID=America/Regina:20240429T190000
DTEND;TZID=America/Regina:20240429T210000
DTSTAMP:20260422T212834
CREATED:20240319T144433Z
LAST-MODIFIED:20240530T214702Z
UID:10002617-1714417200-1714424400@canora.com
SUMMARY:Pickleball
DESCRIPTION:Mondays and Thursdays @ 7pm at CCS (high school). Bring clean shoes. Equipment available to use. \nPlease join and follow Canora Pickleball on Facebook for scheduling changes. \nhttps://www.facebook.com/groups/1160365267925296 \n 
URL:https://canora.com/event/pickleball-2-3/2024-04-29/
LOCATION:Canora Composite School\, 223 8 Avenue\, Canora\, Saskatchewan\, S0A 0L0\, Canada
ATTACH;FMTTYPE=image/jpeg:https://canora.com/wp-content/uploads/2024/03/420836407_10168319725315640_6703156563531139332_n.jpg
ORGANIZER;CN="Canora Leisure Services":MAILTO:leisure.canora@sasktel.net
END:VEVENT
BEGIN:VEVENT
DTSTART;TZID=America/Regina:20240425T190000
DTEND;TZID=America/Regina:20240425T210000
DTSTAMP:20260422T212834
CREATED:20240319T144433Z
LAST-MODIFIED:20240530T214702Z
UID:10002616-1714071600-1714078800@canora.com
SUMMARY:Pickleball
DESCRIPTION:Mondays and Thursdays @ 7pm at CCS (high school). Bring clean shoes. Equipment available to use. \nPlease join and follow Canora Pickleball on Facebook for scheduling changes. \nhttps://www.facebook.com/groups/1160365267925296 \n 
URL:https://canora.com/event/pickleball-2-3/2024-04-25/
LOCATION:Canora Composite School\, 223 8 Avenue\, Canora\, Saskatchewan\, S0A 0L0\, Canada
ATTACH;FMTTYPE=image/jpeg:https://canora.com/wp-content/uploads/2024/03/420836407_10168319725315640_6703156563531139332_n.jpg
ORGANIZER;CN="Canora Leisure Services":MAILTO:leisure.canora@sasktel.net
END:VEVENT
BEGIN:VEVENT
DTSTART;TZID=America/Regina:20240422T190000
DTEND;TZID=America/Regina:20240422T210000
DTSTAMP:20260422T212834
CREATED:20240319T144433Z
LAST-MODIFIED:20240530T214702Z
UID:10002615-1713812400-1713819600@canora.com
SUMMARY:Pickleball
DESCRIPTION:Mondays and Thursdays @ 7pm at CCS (high school). Bring clean shoes. Equipment available to use. \nPlease join and follow Canora Pickleball on Facebook for scheduling changes. \nhttps://www.facebook.com/groups/1160365267925296 \n 
URL:https://canora.com/event/pickleball-2-3/2024-04-22/
LOCATION:Canora Composite School\, 223 8 Avenue\, Canora\, Saskatchewan\, S0A 0L0\, Canada
ATTACH;FMTTYPE=image/jpeg:https://canora.com/wp-content/uploads/2024/03/420836407_10168319725315640_6703156563531139332_n.jpg
ORGANIZER;CN="Canora Leisure Services":MAILTO:leisure.canora@sasktel.net
END:VEVENT
BEGIN:VEVENT
DTSTART;TZID=America/Regina:20240418T193000
DTEND;TZID=America/Regina:20240418T193000
DTSTAMP:20260422T212834
CREATED:20231005T152208Z
LAST-MODIFIED:20240415T211606Z
UID:10001827-1713468600-1713468600@canora.com
SUMMARY:Jack Garton
DESCRIPTION:Musician website
URL:https://canora.com/event/jack-garton/
LOCATION:Canora Composite School\, 223 8 Avenue\, Canora\, Saskatchewan\, S0A 0L0\, Canada
ATTACH;FMTTYPE=image/jpeg:https://canora.com/wp-content/uploads/2023/10/421769344_710997867802628_6337402824897520950_n.jpg
END:VEVENT
BEGIN:VEVENT
DTSTART;TZID=America/Regina:20240418T190000
DTEND;TZID=America/Regina:20240418T210000
DTSTAMP:20260422T212834
CREATED:20240319T144433Z
LAST-MODIFIED:20240530T214702Z
UID:10002858-1713466800-1713474000@canora.com
SUMMARY:Pickleball
DESCRIPTION:Mondays and Thursdays @ 7pm at CCS (high school). Bring clean shoes. Equipment available to use. \nPlease join and follow Canora Pickleball on Facebook for scheduling changes. \nhttps://www.facebook.com/groups/1160365267925296 \n 
URL:https://canora.com/event/pickleball-2-3/2024-04-18/
LOCATION:Canora Composite School\, 223 8 Avenue\, Canora\, Saskatchewan\, S0A 0L0\, Canada
ATTACH;FMTTYPE=image/jpeg:https://canora.com/wp-content/uploads/2024/03/420836407_10168319725315640_6703156563531139332_n.jpg
ORGANIZER;CN="Canora Leisure Services":MAILTO:leisure.canora@sasktel.net
END:VEVENT
BEGIN:VEVENT
DTSTART;TZID=America/Regina:20240415T190000
DTEND;TZID=America/Regina:20240415T210000
DTSTAMP:20260422T212834
CREATED:20240319T144433Z
LAST-MODIFIED:20240530T214702Z
UID:10002613-1713207600-1713214800@canora.com
SUMMARY:Pickleball
DESCRIPTION:Mondays and Thursdays @ 7pm at CCS (high school). Bring clean shoes. Equipment available to use. \nPlease join and follow Canora Pickleball on Facebook for scheduling changes. \nhttps://www.facebook.com/groups/1160365267925296 \n 
URL:https://canora.com/event/pickleball-2-3/2024-04-15/
LOCATION:Canora Composite School\, 223 8 Avenue\, Canora\, Saskatchewan\, S0A 0L0\, Canada
ATTACH;FMTTYPE=image/jpeg:https://canora.com/wp-content/uploads/2024/03/420836407_10168319725315640_6703156563531139332_n.jpg
ORGANIZER;CN="Canora Leisure Services":MAILTO:leisure.canora@sasktel.net
END:VEVENT
BEGIN:VEVENT
DTSTART;TZID=America/Regina:20240411T190000
DTEND;TZID=America/Regina:20240411T210000
DTSTAMP:20260422T212834
CREATED:20240319T144433Z
LAST-MODIFIED:20240530T214702Z
UID:10002612-1712862000-1712869200@canora.com
SUMMARY:Pickleball
DESCRIPTION:Mondays and Thursdays @ 7pm at CCS (high school). Bring clean shoes. Equipment available to use. \nPlease join and follow Canora Pickleball on Facebook for scheduling changes. \nhttps://www.facebook.com/groups/1160365267925296 \n 
URL:https://canora.com/event/pickleball-2-3/2024-04-11/
LOCATION:Canora Composite School\, 223 8 Avenue\, Canora\, Saskatchewan\, S0A 0L0\, Canada
ATTACH;FMTTYPE=image/jpeg:https://canora.com/wp-content/uploads/2024/03/420836407_10168319725315640_6703156563531139332_n.jpg
ORGANIZER;CN="Canora Leisure Services":MAILTO:leisure.canora@sasktel.net
END:VEVENT
BEGIN:VEVENT
DTSTART;TZID=America/Regina:20240408T190000
DTEND;TZID=America/Regina:20240408T210000
DTSTAMP:20260422T212834
CREATED:20240319T144433Z
LAST-MODIFIED:20240530T214702Z
UID:10002611-1712602800-1712610000@canora.com
SUMMARY:Pickleball
DESCRIPTION:Mondays and Thursdays @ 7pm at CCS (high school). Bring clean shoes. Equipment available to use. \nPlease join and follow Canora Pickleball on Facebook for scheduling changes. \nhttps://www.facebook.com/groups/1160365267925296 \n 
URL:https://canora.com/event/pickleball-2-3/2024-04-08/
LOCATION:Canora Composite School\, 223 8 Avenue\, Canora\, Saskatchewan\, S0A 0L0\, Canada
ATTACH;FMTTYPE=image/jpeg:https://canora.com/wp-content/uploads/2024/03/420836407_10168319725315640_6703156563531139332_n.jpg
ORGANIZER;CN="Canora Leisure Services":MAILTO:leisure.canora@sasktel.net
END:VEVENT
BEGIN:VEVENT
DTSTART;TZID=America/Regina:20240404T190000
DTEND;TZID=America/Regina:20240404T210000
DTSTAMP:20260422T212834
CREATED:20240319T144433Z
LAST-MODIFIED:20240530T214702Z
UID:10002610-1712257200-1712264400@canora.com
SUMMARY:Pickleball
DESCRIPTION:Mondays and Thursdays @ 7pm at CCS (high school). Bring clean shoes. Equipment available to use. \nPlease join and follow Canora Pickleball on Facebook for scheduling changes. \nhttps://www.facebook.com/groups/1160365267925296 \n 
URL:https://canora.com/event/pickleball-2-3/2024-04-04/
LOCATION:Canora Composite School\, 223 8 Avenue\, Canora\, Saskatchewan\, S0A 0L0\, Canada
ATTACH;FMTTYPE=image/jpeg:https://canora.com/wp-content/uploads/2024/03/420836407_10168319725315640_6703156563531139332_n.jpg
ORGANIZER;CN="Canora Leisure Services":MAILTO:leisure.canora@sasktel.net
END:VEVENT
BEGIN:VEVENT
DTSTART;TZID=America/Regina:20240401T190000
DTEND;TZID=America/Regina:20240401T210000
DTSTAMP:20260422T212834
CREATED:20240319T144433Z
LAST-MODIFIED:20240530T214702Z
UID:10002609-1711998000-1712005200@canora.com
SUMMARY:Pickleball
DESCRIPTION:Mondays and Thursdays @ 7pm at CCS (high school). Bring clean shoes. Equipment available to use. \nPlease join and follow Canora Pickleball on Facebook for scheduling changes. \nhttps://www.facebook.com/groups/1160365267925296 \n 
URL:https://canora.com/event/pickleball-2-3/2024-04-01/
LOCATION:Canora Composite School\, 223 8 Avenue\, Canora\, Saskatchewan\, S0A 0L0\, Canada
ATTACH;FMTTYPE=image/jpeg:https://canora.com/wp-content/uploads/2024/03/420836407_10168319725315640_6703156563531139332_n.jpg
ORGANIZER;CN="Canora Leisure Services":MAILTO:leisure.canora@sasktel.net
END:VEVENT
BEGIN:VEVENT
DTSTART;TZID=America/Regina:20240328T190000
DTEND;TZID=America/Regina:20240328T210000
DTSTAMP:20260422T212834
CREATED:20240319T144433Z
LAST-MODIFIED:20240530T214702Z
UID:10002608-1711652400-1711659600@canora.com
SUMMARY:Pickleball
DESCRIPTION:Mondays and Thursdays @ 7pm at CCS (high school). Bring clean shoes. Equipment available to use. \nPlease join and follow Canora Pickleball on Facebook for scheduling changes. \nhttps://www.facebook.com/groups/1160365267925296 \n 
URL:https://canora.com/event/pickleball-2-3/2024-03-28/
LOCATION:Canora Composite School\, 223 8 Avenue\, Canora\, Saskatchewan\, S0A 0L0\, Canada
ATTACH;FMTTYPE=image/jpeg:https://canora.com/wp-content/uploads/2024/03/420836407_10168319725315640_6703156563531139332_n.jpg
ORGANIZER;CN="Canora Leisure Services":MAILTO:leisure.canora@sasktel.net
END:VEVENT
BEGIN:VEVENT
DTSTART;TZID=America/Regina:20240325T190000
DTEND;TZID=America/Regina:20240325T210000
DTSTAMP:20260422T212834
CREATED:20240319T144433Z
LAST-MODIFIED:20240530T214702Z
UID:10002607-1711393200-1711400400@canora.com
SUMMARY:Pickleball
DESCRIPTION:Mondays and Thursdays @ 7pm at CCS (high school). Bring clean shoes. Equipment available to use. \nPlease join and follow Canora Pickleball on Facebook for scheduling changes. \nhttps://www.facebook.com/groups/1160365267925296 \n 
URL:https://canora.com/event/pickleball-2-3/2024-03-25/
LOCATION:Canora Composite School\, 223 8 Avenue\, Canora\, Saskatchewan\, S0A 0L0\, Canada
ATTACH;FMTTYPE=image/jpeg:https://canora.com/wp-content/uploads/2024/03/420836407_10168319725315640_6703156563531139332_n.jpg
ORGANIZER;CN="Canora Leisure Services":MAILTO:leisure.canora@sasktel.net
END:VEVENT
BEGIN:VEVENT
DTSTART;TZID=America/Regina:20240321T190000
DTEND;TZID=America/Regina:20240321T210000
DTSTAMP:20260422T212834
CREATED:20240319T144433Z
LAST-MODIFIED:20240530T214702Z
UID:10002606-1711047600-1711054800@canora.com
SUMMARY:Pickleball
DESCRIPTION:Mondays and Thursdays @ 7pm at CCS (high school). Bring clean shoes. Equipment available to use. \nPlease join and follow Canora Pickleball on Facebook for scheduling changes. \nhttps://www.facebook.com/groups/1160365267925296 \n 
URL:https://canora.com/event/pickleball-2-3/2024-03-21/
LOCATION:Canora Composite School\, 223 8 Avenue\, Canora\, Saskatchewan\, S0A 0L0\, Canada
ATTACH;FMTTYPE=image/jpeg:https://canora.com/wp-content/uploads/2024/03/420836407_10168319725315640_6703156563531139332_n.jpg
ORGANIZER;CN="Canora Leisure Services":MAILTO:leisure.canora@sasktel.net
END:VEVENT
BEGIN:VEVENT
DTSTART;TZID=America/Regina:20240318T190000
DTEND;TZID=America/Regina:20240318T210000
DTSTAMP:20260422T212834
CREATED:20240319T144433Z
LAST-MODIFIED:20240530T214702Z
UID:10001874-1710788400-1710795600@canora.com
SUMMARY:Pickleball
DESCRIPTION:Mondays and Thursdays @ 7pm at CCS (high school). Bring clean shoes. Equipment available to use. \nPlease join and follow Canora Pickleball on Facebook for scheduling changes. \nhttps://www.facebook.com/groups/1160365267925296 \n 
URL:https://canora.com/event/pickleball-2-3/2024-03-18/
LOCATION:Canora Composite School\, 223 8 Avenue\, Canora\, Saskatchewan\, S0A 0L0\, Canada
ATTACH;FMTTYPE=image/jpeg:https://canora.com/wp-content/uploads/2024/03/420836407_10168319725315640_6703156563531139332_n.jpg
ORGANIZER;CN="Canora Leisure Services":MAILTO:leisure.canora@sasktel.net
END:VEVENT
BEGIN:VEVENT
DTSTART;TZID=America/Regina:20240313T190000
DTEND;TZID=America/Regina:20240313T210000
DTSTAMP:20260422T212834
CREATED:20240123T151640Z
LAST-MODIFIED:20240123T151641Z
UID:10002427-1710356400-1710363600@canora.com
SUMMARY:Pickleball
DESCRIPTION:Mondays and Thursdays @ 7pm at CCS (high school). Bring clean shoes. Equipment available to use. \nPlease join and follow Canora Pickleball on Facebook for scheduling changes. \nhttps://www.facebook.com/groups/1160365267925296 \n 
URL:https://canora.com/event/pickleball-2/2024-03-13/
LOCATION:Canora Composite School\, 223 8 Avenue\, Canora\, Saskatchewan\, S0A 0L0\, Canada
ORGANIZER;CN="Canora Leisure Services":MAILTO:leisure.canora@sasktel.net
END:VEVENT
BEGIN:VEVENT
DTSTART;TZID=America/Regina:20240311T190000
DTEND;TZID=America/Regina:20240311T210000
DTSTAMP:20260422T212834
CREATED:20240123T151640Z
LAST-MODIFIED:20240123T151641Z
UID:10001872-1710183600-1710190800@canora.com
SUMMARY:Pickleball
DESCRIPTION:Mondays and Thursdays @ 7pm at CCS (high school). Bring clean shoes. Equipment available to use. \nPlease join and follow Canora Pickleball on Facebook for scheduling changes. \nhttps://www.facebook.com/groups/1160365267925296 \n 
URL:https://canora.com/event/pickleball-2/2024-03-11/
LOCATION:Canora Composite School\, 223 8 Avenue\, Canora\, Saskatchewan\, S0A 0L0\, Canada
ORGANIZER;CN="Canora Leisure Services":MAILTO:leisure.canora@sasktel.net
END:VEVENT
BEGIN:VEVENT
DTSTART;TZID=America/Regina:20240306T190000
DTEND;TZID=America/Regina:20240306T210000
DTSTAMP:20260422T212834
CREATED:20240123T151640Z
LAST-MODIFIED:20240123T151641Z
UID:10002426-1709751600-1709758800@canora.com
SUMMARY:Pickleball
DESCRIPTION:Mondays and Thursdays @ 7pm at CCS (high school). Bring clean shoes. Equipment available to use. \nPlease join and follow Canora Pickleball on Facebook for scheduling changes. \nhttps://www.facebook.com/groups/1160365267925296 \n 
URL:https://canora.com/event/pickleball-2/2024-03-06/
LOCATION:Canora Composite School\, 223 8 Avenue\, Canora\, Saskatchewan\, S0A 0L0\, Canada
ORGANIZER;CN="Canora Leisure Services":MAILTO:leisure.canora@sasktel.net
END:VEVENT
BEGIN:VEVENT
DTSTART;TZID=America/Regina:20240304T190000
DTEND;TZID=America/Regina:20240304T210000
DTSTAMP:20260422T212834
CREATED:20240123T151640Z
LAST-MODIFIED:20240123T151641Z
UID:10001870-1709578800-1709586000@canora.com
SUMMARY:Pickleball
DESCRIPTION:Mondays and Thursdays @ 7pm at CCS (high school). Bring clean shoes. Equipment available to use. \nPlease join and follow Canora Pickleball on Facebook for scheduling changes. \nhttps://www.facebook.com/groups/1160365267925296 \n 
URL:https://canora.com/event/pickleball-2/2024-03-04/
LOCATION:Canora Composite School\, 223 8 Avenue\, Canora\, Saskatchewan\, S0A 0L0\, Canada
ORGANIZER;CN="Canora Leisure Services":MAILTO:leisure.canora@sasktel.net
END:VEVENT
BEGIN:VEVENT
DTSTART;TZID=America/Regina:20240228T190000
DTEND;TZID=America/Regina:20240228T210000
DTSTAMP:20260422T212834
CREATED:20240123T151640Z
LAST-MODIFIED:20240123T151641Z
UID:10002425-1709146800-1709154000@canora.com
SUMMARY:Pickleball
DESCRIPTION:Mondays and Thursdays @ 7pm at CCS (high school). Bring clean shoes. Equipment available to use. \nPlease join and follow Canora Pickleball on Facebook for scheduling changes. \nhttps://www.facebook.com/groups/1160365267925296 \n 
URL:https://canora.com/event/pickleball-2/2024-02-28/
LOCATION:Canora Composite School\, 223 8 Avenue\, Canora\, Saskatchewan\, S0A 0L0\, Canada
ORGANIZER;CN="Canora Leisure Services":MAILTO:leisure.canora@sasktel.net
END:VEVENT
BEGIN:VEVENT
DTSTART;TZID=America/Regina:20240226T190000
DTEND;TZID=America/Regina:20240226T210000
DTSTAMP:20260422T212834
CREATED:20240123T151640Z
LAST-MODIFIED:20240123T151641Z
UID:10001868-1708974000-1708981200@canora.com
SUMMARY:Pickleball
DESCRIPTION:Mondays and Thursdays @ 7pm at CCS (high school). Bring clean shoes. Equipment available to use. \nPlease join and follow Canora Pickleball on Facebook for scheduling changes. \nhttps://www.facebook.com/groups/1160365267925296 \n 
URL:https://canora.com/event/pickleball-2/2024-02-26/
LOCATION:Canora Composite School\, 223 8 Avenue\, Canora\, Saskatchewan\, S0A 0L0\, Canada
ORGANIZER;CN="Canora Leisure Services":MAILTO:leisure.canora@sasktel.net
END:VEVENT
BEGIN:VEVENT
DTSTART;TZID=America/Regina:20240221T190000
DTEND;TZID=America/Regina:20240221T210000
DTSTAMP:20260422T212834
CREATED:20240123T151640Z
LAST-MODIFIED:20240123T151641Z
UID:10002424-1708542000-1708549200@canora.com
SUMMARY:Pickleball
DESCRIPTION:Mondays and Thursdays @ 7pm at CCS (high school). Bring clean shoes. Equipment available to use. \nPlease join and follow Canora Pickleball on Facebook for scheduling changes. \nhttps://www.facebook.com/groups/1160365267925296 \n 
URL:https://canora.com/event/pickleball-2/2024-02-21/
LOCATION:Canora Composite School\, 223 8 Avenue\, Canora\, Saskatchewan\, S0A 0L0\, Canada
ORGANIZER;CN="Canora Leisure Services":MAILTO:leisure.canora@sasktel.net
END:VEVENT
END:VCALENDAR