BEGIN:VCALENDAR
VERSION:2.0
PRODID:-//Town of Canora - ECPv6.15.17//NONSGML v1.0//EN
CALSCALE:GREGORIAN
METHOD:PUBLISH
X-WR-CALNAME:Town of Canora
X-ORIGINAL-URL:https://canora.com
X-WR-CALDESC:Events for Town of Canora
REFRESH-INTERVAL;VALUE=DURATION:PT1H
X-Robots-Tag:noindex
X-PUBLISHED-TTL:PT1H
BEGIN:VTIMEZONE
TZID:America/Regina
BEGIN:STANDARD
TZOFFSETFROM:-0600
TZOFFSETTO:-0600
TZNAME:CST
DTSTART:20220101T000000
END:STANDARD
END:VTIMEZONE
BEGIN:VEVENT
DTSTART;TZID=America/Regina:20231116T190000
DTEND;TZID=America/Regina:20231116T190000
DTSTAMP:20260423T220610
CREATED:20231016T170907Z
LAST-MODIFIED:20231016T171345Z
UID:10001839-1700161200-1700161200@canora.com
SUMMARY:Pickleball
DESCRIPTION:Mondays and Thursdays @ 7pm at CCS (high school). Bring clean shoes. Equipment available to use. \nPlease join and follow Canora Pickleball on Facebook for scheduling changes. \nhttps://www.facebook.com/groups/1160365267925296 \n 
URL:https://canora.com/event/pickleball/2023-11-16/
LOCATION:Canora Composite School\, 223 8 Avenue\, Canora\, Saskatchewan\, S0A 0L0\, Canada
ORGANIZER;CN="Canora Leisure Services":MAILTO:leisure.canora@sasktel.net
END:VEVENT
BEGIN:VEVENT
DTSTART;TZID=America/Regina:20231109T190000
DTEND;TZID=America/Regina:20231109T190000
DTSTAMP:20260423T220610
CREATED:20231016T170907Z
LAST-MODIFIED:20231016T171345Z
UID:10001837-1699556400-1699556400@canora.com
SUMMARY:Pickleball
DESCRIPTION:Mondays and Thursdays @ 7pm at CCS (high school). Bring clean shoes. Equipment available to use. \nPlease join and follow Canora Pickleball on Facebook for scheduling changes. \nhttps://www.facebook.com/groups/1160365267925296 \n 
URL:https://canora.com/event/pickleball/2023-11-09/
LOCATION:Canora Composite School\, 223 8 Avenue\, Canora\, Saskatchewan\, S0A 0L0\, Canada
ORGANIZER;CN="Canora Leisure Services":MAILTO:leisure.canora@sasktel.net
END:VEVENT
BEGIN:VEVENT
DTSTART;TZID=America/Regina:20231106T190000
DTEND;TZID=America/Regina:20231106T190000
DTSTAMP:20260423T220610
CREATED:20231016T170907Z
LAST-MODIFIED:20231016T171345Z
UID:10001836-1699297200-1699297200@canora.com
SUMMARY:Pickleball
DESCRIPTION:Mondays and Thursdays @ 7pm at CCS (high school). Bring clean shoes. Equipment available to use. \nPlease join and follow Canora Pickleball on Facebook for scheduling changes. \nhttps://www.facebook.com/groups/1160365267925296 \n 
URL:https://canora.com/event/pickleball/2023-11-06/
LOCATION:Canora Composite School\, 223 8 Avenue\, Canora\, Saskatchewan\, S0A 0L0\, Canada
ORGANIZER;CN="Canora Leisure Services":MAILTO:leisure.canora@sasktel.net
END:VEVENT
BEGIN:VEVENT
DTSTART;TZID=America/Regina:20231102T190000
DTEND;TZID=America/Regina:20231102T190000
DTSTAMP:20260423T220610
CREATED:20231016T170907Z
LAST-MODIFIED:20231016T171345Z
UID:10001835-1698951600-1698951600@canora.com
SUMMARY:Pickleball
DESCRIPTION:Mondays and Thursdays @ 7pm at CCS (high school). Bring clean shoes. Equipment available to use. \nPlease join and follow Canora Pickleball on Facebook for scheduling changes. \nhttps://www.facebook.com/groups/1160365267925296 \n 
URL:https://canora.com/event/pickleball/2023-11-02/
LOCATION:Canora Composite School\, 223 8 Avenue\, Canora\, Saskatchewan\, S0A 0L0\, Canada
ORGANIZER;CN="Canora Leisure Services":MAILTO:leisure.canora@sasktel.net
END:VEVENT
BEGIN:VEVENT
DTSTART;TZID=America/Regina:20231030T190000
DTEND;TZID=America/Regina:20231030T190000
DTSTAMP:20260423T220610
CREATED:20231016T170907Z
LAST-MODIFIED:20231016T171345Z
UID:10001834-1698692400-1698692400@canora.com
SUMMARY:Pickleball
DESCRIPTION:Mondays and Thursdays @ 7pm at CCS (high school). Bring clean shoes. Equipment available to use. \nPlease join and follow Canora Pickleball on Facebook for scheduling changes. \nhttps://www.facebook.com/groups/1160365267925296 \n 
URL:https://canora.com/event/pickleball/2023-10-30/
LOCATION:Canora Composite School\, 223 8 Avenue\, Canora\, Saskatchewan\, S0A 0L0\, Canada
ORGANIZER;CN="Canora Leisure Services":MAILTO:leisure.canora@sasktel.net
END:VEVENT
BEGIN:VEVENT
DTSTART;TZID=America/Regina:20231023T190000
DTEND;TZID=America/Regina:20231023T190000
DTSTAMP:20260423T220610
CREATED:20231016T170907Z
LAST-MODIFIED:20231016T171345Z
UID:10001832-1698087600-1698087600@canora.com
SUMMARY:Pickleball
DESCRIPTION:Mondays and Thursdays @ 7pm at CCS (high school). Bring clean shoes. Equipment available to use. \nPlease join and follow Canora Pickleball on Facebook for scheduling changes. \nhttps://www.facebook.com/groups/1160365267925296 \n 
URL:https://canora.com/event/pickleball/2023-10-23/
LOCATION:Canora Composite School\, 223 8 Avenue\, Canora\, Saskatchewan\, S0A 0L0\, Canada
ORGANIZER;CN="Canora Leisure Services":MAILTO:leisure.canora@sasktel.net
END:VEVENT
BEGIN:VEVENT
DTSTART;TZID=America/Regina:20231019T190000
DTEND;TZID=America/Regina:20231019T190000
DTSTAMP:20260423T220610
CREATED:20231016T170907Z
LAST-MODIFIED:20231016T171345Z
UID:10001831-1697742000-1697742000@canora.com
SUMMARY:Pickleball
DESCRIPTION:Mondays and Thursdays @ 7pm at CCS (high school). Bring clean shoes. Equipment available to use. \nPlease join and follow Canora Pickleball on Facebook for scheduling changes. \nhttps://www.facebook.com/groups/1160365267925296 \n 
URL:https://canora.com/event/pickleball/2023-10-19/
LOCATION:Canora Composite School\, 223 8 Avenue\, Canora\, Saskatchewan\, S0A 0L0\, Canada
ORGANIZER;CN="Canora Leisure Services":MAILTO:leisure.canora@sasktel.net
END:VEVENT
BEGIN:VEVENT
DTSTART;TZID=America/Regina:20231016T190000
DTEND;TZID=America/Regina:20231016T190000
DTSTAMP:20260423T220610
CREATED:20231016T170907Z
LAST-MODIFIED:20231016T171345Z
UID:10001830-1697482800-1697482800@canora.com
SUMMARY:Pickleball
DESCRIPTION:Mondays and Thursdays @ 7pm at CCS (high school). Bring clean shoes. Equipment available to use. \nPlease join and follow Canora Pickleball on Facebook for scheduling changes. \nhttps://www.facebook.com/groups/1160365267925296 \n 
URL:https://canora.com/event/pickleball/2023-10-16/
LOCATION:Canora Composite School\, 223 8 Avenue\, Canora\, Saskatchewan\, S0A 0L0\, Canada
ORGANIZER;CN="Canora Leisure Services":MAILTO:leisure.canora@sasktel.net
END:VEVENT
END:VCALENDAR