BEGIN:VCALENDAR
VERSION:2.0
PRODID:-//Town of Canora - ECPv6.15.17//NONSGML v1.0//EN
CALSCALE:GREGORIAN
METHOD:PUBLISH
X-ORIGINAL-URL:https://canora.com
X-WR-CALDESC:Events for Town of Canora
REFRESH-INTERVAL;VALUE=DURATION:PT1H
X-Robots-Tag:noindex
X-PUBLISHED-TTL:PT1H
BEGIN:VTIMEZONE
TZID:America/Regina
BEGIN:STANDARD
TZOFFSETFROM:-0600
TZOFFSETTO:-0600
TZNAME:CST
DTSTART:20150101T000000
END:STANDARD
END:VTIMEZONE
BEGIN:VEVENT
DTSTART;TZID=America/Regina:20161112T200000
DTEND;TZID=America/Regina:20161112T200000
DTSTAMP:20260419T095618
CREATED:20161018T221422Z
LAST-MODIFIED:20161018T221422Z
UID:10000059-1478980800-1478980800@canora.com
SUMMARY:Canora Senior's Dance
DESCRIPTION:Lunch Served \nMusic By: Zayshley Band \nFor more information contact: \nErnie Kozak: 306-563-5224 \nDave Popowich: 306-563-5001
URL:https://canora.com/event/canora-seniors-dance/
LOCATION:Ukrainian Catholic Hall\, 229 5th Avenue West\, Canora\, SK\, S0A 0L0\, Canada
END:VEVENT
END:VCALENDAR