BEGIN:VCALENDAR
VERSION:2.0
PRODID:-//Town of Canora - ECPv6.15.17//NONSGML v1.0//EN
CALSCALE:GREGORIAN
METHOD:PUBLISH
X-ORIGINAL-URL:https://canora.com
X-WR-CALDESC:Events for Town of Canora
REFRESH-INTERVAL;VALUE=DURATION:PT1H
X-Robots-Tag:noindex
X-PUBLISHED-TTL:PT1H
BEGIN:VTIMEZONE
TZID:America/Regina
BEGIN:STANDARD
TZOFFSETFROM:-0600
TZOFFSETTO:-0600
TZNAME:CST
DTSTART:20150101T000000
END:STANDARD
END:VTIMEZONE
BEGIN:VEVENT
DTSTART;TZID=America/Regina:20161011T190000
DTEND;TZID=America/Regina:20161011T210000
DTSTAMP:20260419T172128
CREATED:20161003T172329Z
LAST-MODIFIED:20161003T172329Z
UID:10000043-1476212400-1476219600@canora.com
SUMMARY:ALL-CANDIDATES FORUM
DESCRIPTION:
URL:https://canora.com/event/all-candidates-forum/
LOCATION:Sylvia Fedoruk Centre\, 701 Main Street\, Canada
END:VEVENT
BEGIN:VEVENT
DTSTART;TZID=America/Regina:20161015T070000
DTEND;TZID=America/Regina:20161015T110000
DTSTAMP:20260419T172128
CREATED:20161013T215949Z
LAST-MODIFIED:20161013T215949Z
UID:10000045-1476514800-1476529200@canora.com
SUMMARY:Canora & District Firefighters Pancake Breakfast
DESCRIPTION:
URL:https://canora.com/event/canora-district-firefighters-pancake-breakfast/
LOCATION:Fire Hall\, Main Street\, Canora\, SK\, S0A 0L0\, Canada
END:VEVENT
END:VCALENDAR