BEGIN:VCALENDAR
VERSION:2.0
PRODID:-//Town of Canora - ECPv6.15.17//NONSGML v1.0//EN
CALSCALE:GREGORIAN
METHOD:PUBLISH
X-WR-CALNAME:Town of Canora
X-ORIGINAL-URL:https://canora.com
X-WR-CALDESC:Events for Town of Canora
REFRESH-INTERVAL;VALUE=DURATION:PT1H
X-Robots-Tag:noindex
X-PUBLISHED-TTL:PT1H
BEGIN:VTIMEZONE
TZID:America/Regina
BEGIN:STANDARD
TZOFFSETFROM:-0600
TZOFFSETTO:-0600
TZNAME:CST
DTSTART:20230101T000000
END:STANDARD
END:VTIMEZONE
BEGIN:VEVENT
DTSTART;TZID=America/Regina:20241027T100000
DTEND;TZID=America/Regina:20241027T183000
DTSTAMP:20260424T054413
CREATED:20241023T152916Z
LAST-MODIFIED:20241023T153330Z
UID:10002947-1730023200-1730053800@canora.com
SUMMARY:Under 18 Hockey Tournament
DESCRIPTION:Rink Schedule link below \nSkating & Hockey
URL:https://canora.com/event/under-18-hockey-tournament/2024-10-27/
LOCATION:Canora Civic Centre\, 711 Main Street\, Canora\, Saskatchewan\, S0A 0L0\, Canada
GEO:51.6315739;-102.4386783
X-APPLE-STRUCTURED-LOCATION;VALUE=URI;X-ADDRESS=Canora Civic Centre 711 Main Street Canora Saskatchewan S0A 0L0 Canada;X-APPLE-RADIUS=500;X-TITLE=711 Main Street:geo:-102.4386783,51.6315739
END:VEVENT
BEGIN:VEVENT
DTSTART;TZID=America/Regina:20241026T113000
DTEND;TZID=America/Regina:20241026T200000
DTSTAMP:20260424T054413
CREATED:20241023T152916Z
LAST-MODIFIED:20241023T153330Z
UID:10002946-1729942200-1729972800@canora.com
SUMMARY:Under 18 Hockey Tournament
DESCRIPTION:Rink Schedule link below \nSkating & Hockey
URL:https://canora.com/event/under-18-hockey-tournament/2024-10-26/
LOCATION:Canora Civic Centre\, 711 Main Street\, Canora\, Saskatchewan\, S0A 0L0\, Canada
GEO:51.6315739;-102.4386783
X-APPLE-STRUCTURED-LOCATION;VALUE=URI;X-ADDRESS=Canora Civic Centre 711 Main Street Canora Saskatchewan S0A 0L0 Canada;X-APPLE-RADIUS=500;X-TITLE=711 Main Street:geo:-102.4386783,51.6315739
END:VEVENT
BEGIN:VEVENT
DTSTART;TZID=America/Regina:20241024T193000
DTEND;TZID=America/Regina:20241024T193000
DTSTAMP:20260424T054413
CREATED:20241003T210305Z
LAST-MODIFIED:20241003T211121Z
UID:10002940-1729798200-1729798200@canora.com
SUMMARY:Tom & Kalissa Landa
DESCRIPTION:Canora Arts Council presents\nStars for Saskatchewan Concert Series\nTom & Kalissa Landa\nOctober 24\, 7:30 @ C.C.S.\nAn array of music on fiddle & guitar
URL:https://canora.com/event/tom-kalissa-landa/
LOCATION:Canora Composite School\, 223 8 Avenue\, Canora\, Saskatchewan\, S0A 0L0\, Canada
ATTACH;FMTTYPE=image/png:https://canora.com/wp-content/uploads/2024/10/Screenshot-1201.png
END:VEVENT
BEGIN:VEVENT
DTSTART;TZID=America/Regina:20241020T163000
DTEND;TZID=America/Regina:20241020T183000
DTSTAMP:20260424T054413
CREATED:20241007T172906Z
LAST-MODIFIED:20241007T173042Z
UID:10002941-1729441800-1729449000@canora.com
SUMMARY:Fall Supper
DESCRIPTION:
URL:https://canora.com/event/fall-supper-5/
LOCATION:St. Joseph’s Catholic Church\, 201 4th Avenue East\, Canora\, Saskatchewan\, S0A 0L0\, Canada
ATTACH;FMTTYPE=image/jpeg:https://canora.com/wp-content/uploads/2024/10/oct-20-2024.jpg
GEO:51.6343703;-102.4401175
X-APPLE-STRUCTURED-LOCATION;VALUE=URI;X-ADDRESS=St. Joseph’s Catholic Church 201 4th Avenue East Canora Saskatchewan S0A 0L0 Canada;X-APPLE-RADIUS=500;X-TITLE=201 4th Avenue East:geo:-102.4401175,51.6343703
END:VEVENT
BEGIN:VEVENT
DTSTART;TZID=America/Regina:20241017T190000
DTEND;TZID=America/Regina:20241017T190000
DTSTAMP:20260424T054413
CREATED:20241010T174959Z
LAST-MODIFIED:20241010T175014Z
UID:10002943-1729191600-1729191600@canora.com
SUMMARY:Curling Annual General Meeting
DESCRIPTION:
URL:https://canora.com/event/curling-annual-general-meeting/
LOCATION:Sylvia Fedoruk Center\, 701 Main Street\, Canora\, Saskatchewan\, S0A 0L0\, Canada
ATTACH;FMTTYPE=image/png:https://canora.com/wp-content/uploads/2016/11/BRAND.png
ORGANIZER;CN="Canora Curling Club":MAILTO:canoracurling@gmail.com
GEO:51.6317348;-102.4385717
X-APPLE-STRUCTURED-LOCATION;VALUE=URI;X-ADDRESS=Sylvia Fedoruk Center 701 Main Street Canora Saskatchewan S0A 0L0 Canada;X-APPLE-RADIUS=500;X-TITLE=701 Main Street:geo:-102.4385717,51.6317348
END:VEVENT
BEGIN:VEVENT
DTSTART;TZID=America/Regina:20241015T190000
DTEND;TZID=America/Regina:20241015T190000
DTSTAMP:20260424T054413
CREATED:20240405T202455Z
LAST-MODIFIED:20240405T202633Z
UID:10002776-1729018800-1729018800@canora.com
SUMMARY:Town Council Meeting
DESCRIPTION:Town Council conducts its regular meetings on the 1st and 3rd Tuesday of every month. \nThe meeting takes place at the Town Office and begins at 7 pm. \nIf you would like to have a delegation attend a council meeting\, please submit your request by 12 pm (noon) on the Friday before the council meeting.\nSubmitting requests early assists Town Council and Administration.
URL:https://canora.com/event/town-council-meeting-5/2024-10-15/
LOCATION:Council Chambers\, 418 Main Street\, Canora
ATTACH;FMTTYPE=image/gif:https://canora.com/wp-content/uploads/2018/03/favicon.gif
ORGANIZER;CN="Town of Canora":MAILTO:cdo.canora@sasktel.net
END:VEVENT
BEGIN:VEVENT
DTSTART;TZID=America/Regina:20241012T080000
DTEND;TZID=America/Regina:20241012T230000
DTSTAMP:20260424T054413
CREATED:20241010T173510Z
LAST-MODIFIED:20241010T173510Z
UID:10002942-1728720000-1728774000@canora.com
SUMMARY:Pancake Breakfast
DESCRIPTION:
URL:https://canora.com/event/pancake-breakfast/
LOCATION:Sylvia Fedoruk Center\, 701 Main Street\, Canora\, Saskatchewan\, S0A 0L0\, Canada
ATTACH;FMTTYPE=image/jpeg:https://canora.com/wp-content/uploads/2024/10/462176208_582729430767900_4329062546983393049_n.jpg
GEO:51.6317348;-102.4385717
X-APPLE-STRUCTURED-LOCATION;VALUE=URI;X-ADDRESS=Sylvia Fedoruk Center 701 Main Street Canora Saskatchewan S0A 0L0 Canada;X-APPLE-RADIUS=500;X-TITLE=701 Main Street:geo:-102.4385717,51.6317348
END:VEVENT
BEGIN:VEVENT
DTSTART;TZID=America/Regina:20241009T090000
DTEND;TZID=America/Regina:20241009T160000
DTSTAMP:20260424T054413
CREATED:20240912T144943Z
LAST-MODIFIED:20240912T145925Z
UID:10002934-1728464400-1728489600@canora.com
SUMMARY:Council nomination deadline
DESCRIPTION:Deadline to submit nominations for mayor and/or council is 4 p.m.
URL:https://canora.com/event/18027/
LOCATION:Saskatchewan
END:VEVENT
BEGIN:VEVENT
DTSTART;TZID=America/Regina:20241002T130000
DTEND;TZID=America/Regina:20241002T150000
DTSTAMP:20260424T054413
CREATED:20240515T150747Z
LAST-MODIFIED:20240515T150836Z
UID:10002831-1727874000-1727881200@canora.com
SUMMARY:Seniors Golf
DESCRIPTION:
URL:https://canora.com/event/seniors-golf-2/2024-10-02/
LOCATION:Golf Course\, 333 Canora Ave. \, Canora\, Saskatchewan\, S0A 0L0\, Canada
ATTACH;FMTTYPE=image/jpeg:https://canora.com/wp-content/uploads/2024/05/156672168_4003038136382376_1388155919206106536_n.jpg
ORGANIZER;CN="Canora Golf Club":MAILTO:canoragolfclub@gmail.com
END:VEVENT
BEGIN:VEVENT
DTSTART;TZID=America/Regina:20241001T190000
DTEND;TZID=America/Regina:20241001T190000
DTSTAMP:20260424T054413
CREATED:20240405T202348Z
LAST-MODIFIED:20240405T202538Z
UID:10002753-1727809200-1727809200@canora.com
SUMMARY:Town Council Meeting
DESCRIPTION:Town Council conducts its regular meetings on the 1st and 3rd Tuesday of every month. \nThe meeting takes place at the Town Office and begins at 7 pm. \nIf you would like to have a delegation attend a council meeting\, please submit your request by 12 pm (noon) on the Friday before the council meeting.\nSubmitting requests early assists Town Council and Administration.
URL:https://canora.com/event/town-council-meeting-4/2024-10-01/
LOCATION:Council Chambers\, 418 Main Street\, Canora
ATTACH;FMTTYPE=image/gif:https://canora.com/wp-content/uploads/2018/03/favicon.gif
ORGANIZER;CN="Town of Canora":MAILTO:cdo.canora@sasktel.net
END:VEVENT
BEGIN:VEVENT
DTSTART;TZID=America/Regina:20240929T163000
DTEND;TZID=America/Regina:20240929T183000
DTSTAMP:20260424T054413
CREATED:20240918T173014Z
LAST-MODIFIED:20240918T173300Z
UID:10002937-1727627400-1727634600@canora.com
SUMMARY:UCWL Fall Supper
DESCRIPTION:Meal includes; Turkey\, dressing\, cranberry sauce\, meatballs\, cabbage rolls\, mashed potatoes \n 
URL:https://canora.com/event/ucwl-fall-supper-2/
LOCATION:Ukrainian Catholic Hall\, 229 5th Avenue West\, Canora\, SK\, S0A 0L0\, Canada
ATTACH;FMTTYPE=image/jpeg:https://canora.com/wp-content/uploads/2024/09/plate-of-food_LorraineStevenson.jpg
ORGANIZER;CN="UCWL":MAILTO:ahrycak@gmail.com
END:VEVENT
BEGIN:VEVENT
DTSTART;TZID=America/Regina:20240929T110000
DTEND;TZID=America/Regina:20240929T170000
DTSTAMP:20260424T054413
CREATED:20240515T190409Z
LAST-MODIFIED:20240926T172240Z
UID:10002939-1727607600-1727629200@canora.com
SUMMARY:Mens Night
DESCRIPTION:
URL:https://canora.com/event/mens-night-4/2024-09-29/
LOCATION:Golf Course\, 333 Canora Ave. \, Canora\, Saskatchewan\, S0A 0L0\, Canada
ATTACH;FMTTYPE=image/jpeg:https://canora.com/wp-content/uploads/2024/05/435924897_1162754951795121_924308671486001653_n.jpg
ORGANIZER;CN="Canora Golf Club":MAILTO:canoragolfclub@gmail.com
END:VEVENT
BEGIN:VEVENT
DTSTART;TZID=America/Regina:20240926T173000
DTEND;TZID=America/Regina:20240926T173000
DTSTAMP:20260424T054413
CREATED:20240515T190409Z
LAST-MODIFIED:20240926T172240Z
UID:10002938-1727371800-1727371800@canora.com
SUMMARY:Mens Night
DESCRIPTION:
URL:https://canora.com/event/mens-night-4/2024-09-26/
LOCATION:Golf Course\, 333 Canora Ave. \, Canora\, Saskatchewan\, S0A 0L0\, Canada
ATTACH;FMTTYPE=image/jpeg:https://canora.com/wp-content/uploads/2024/05/435924897_1162754951795121_924308671486001653_n.jpg
ORGANIZER;CN="Canora Golf Club":MAILTO:canoragolfclub@gmail.com
END:VEVENT
BEGIN:VEVENT
DTSTART;TZID=America/Regina:20240925T130000
DTEND;TZID=America/Regina:20240925T150000
DTSTAMP:20260424T054413
CREATED:20240515T150747Z
LAST-MODIFIED:20240515T150836Z
UID:10002830-1727269200-1727276400@canora.com
SUMMARY:Seniors Golf
DESCRIPTION:
URL:https://canora.com/event/seniors-golf-2/2024-09-25/
LOCATION:Golf Course\, 333 Canora Ave. \, Canora\, Saskatchewan\, S0A 0L0\, Canada
ATTACH;FMTTYPE=image/jpeg:https://canora.com/wp-content/uploads/2024/05/156672168_4003038136382376_1388155919206106536_n.jpg
ORGANIZER;CN="Canora Golf Club":MAILTO:canoragolfclub@gmail.com
END:VEVENT
BEGIN:VEVENT
DTSTART;TZID=America/Regina:20240919T173000
DTEND;TZID=America/Regina:20240919T173000
DTSTAMP:20260424T054413
CREATED:20240515T190409Z
LAST-MODIFIED:20240926T172240Z
UID:10002850-1726767000-1726767000@canora.com
SUMMARY:Mens Night
DESCRIPTION:
URL:https://canora.com/event/mens-night-4/2024-09-19/
LOCATION:Golf Course\, 333 Canora Ave. \, Canora\, Saskatchewan\, S0A 0L0\, Canada
ATTACH;FMTTYPE=image/jpeg:https://canora.com/wp-content/uploads/2024/05/435924897_1162754951795121_924308671486001653_n.jpg
ORGANIZER;CN="Canora Golf Club":MAILTO:canoragolfclub@gmail.com
END:VEVENT
BEGIN:VEVENT
DTSTART;TZID=America/Regina:20240918T130000
DTEND;TZID=America/Regina:20240918T150000
DTSTAMP:20260424T054413
CREATED:20240515T150747Z
LAST-MODIFIED:20240515T150836Z
UID:10002829-1726664400-1726671600@canora.com
SUMMARY:Seniors Golf
DESCRIPTION:
URL:https://canora.com/event/seniors-golf-2/2024-09-18/
LOCATION:Golf Course\, 333 Canora Ave. \, Canora\, Saskatchewan\, S0A 0L0\, Canada
ATTACH;FMTTYPE=image/jpeg:https://canora.com/wp-content/uploads/2024/05/156672168_4003038136382376_1388155919206106536_n.jpg
ORGANIZER;CN="Canora Golf Club":MAILTO:canoragolfclub@gmail.com
END:VEVENT
BEGIN:VEVENT
DTSTART;TZID=America/Regina:20240918T090000
DTEND;TZID=America/Regina:20240918T160000
DTSTAMP:20260424T054413
CREATED:20240912T145238Z
LAST-MODIFIED:20240912T145839Z
UID:10002936-1726650000-1726675200@canora.com
SUMMARY:Council nominations open
DESCRIPTION:Nomination period for mayor and council begins today. \nNomination forms are available at the town office.
URL:https://canora.com/event/council-nominations-open/
LOCATION:Saskatchewan
END:VEVENT
BEGIN:VEVENT
DTSTART;TZID=America/Regina:20240917T190000
DTEND;TZID=America/Regina:20240917T190000
DTSTAMP:20260424T054413
CREATED:20240405T202455Z
LAST-MODIFIED:20240405T202633Z
UID:10002775-1726599600-1726599600@canora.com
SUMMARY:Town Council Meeting
DESCRIPTION:Town Council conducts its regular meetings on the 1st and 3rd Tuesday of every month. \nThe meeting takes place at the Town Office and begins at 7 pm. \nIf you would like to have a delegation attend a council meeting\, please submit your request by 12 pm (noon) on the Friday before the council meeting.\nSubmitting requests early assists Town Council and Administration.
URL:https://canora.com/event/town-council-meeting-5/2024-09-17/
LOCATION:Council Chambers\, 418 Main Street\, Canora
ATTACH;FMTTYPE=image/gif:https://canora.com/wp-content/uploads/2018/03/favicon.gif
ORGANIZER;CN="Town of Canora":MAILTO:cdo.canora@sasktel.net
END:VEVENT
BEGIN:VEVENT
DTSTART;TZID=America/Regina:20240914T100000
DTEND;TZID=America/Regina:20240914T100000
DTSTAMP:20260424T054414
CREATED:20240826T191542Z
LAST-MODIFIED:20240826T191610Z
UID:10002932-1726308000-1726308000@canora.com
SUMMARY:The Cobras 4th Annual Texas Scramble
DESCRIPTION:
URL:https://canora.com/event/the-cobras-4th-annual-texas-scramble/
LOCATION:Activity Centre (Golf Course)\, 333 Canora Avenue\, Canora\, SK\, S0A 0L0\, Canada
ATTACH;FMTTYPE=image/jpeg:https://canora.com/wp-content/uploads/2024/08/455827248_1040114801451887_3885431158830713498_n.jpg
GEO:51.6341203;-102.4255996
X-APPLE-STRUCTURED-LOCATION;VALUE=URI;X-ADDRESS=Activity Centre (Golf Course) 333 Canora Avenue Canora SK S0A 0L0 Canada;X-APPLE-RADIUS=500;X-TITLE=333 Canora Avenue:geo:-102.4255996,51.6341203
END:VEVENT
BEGIN:VEVENT
DTSTART;TZID=America/Regina:20240912T173000
DTEND;TZID=America/Regina:20240912T173000
DTSTAMP:20260424T054414
CREATED:20240515T190409Z
LAST-MODIFIED:20240926T172240Z
UID:10002849-1726162200-1726162200@canora.com
SUMMARY:Mens Night
DESCRIPTION:
URL:https://canora.com/event/mens-night-4/2024-09-12/
LOCATION:Golf Course\, 333 Canora Ave. \, Canora\, Saskatchewan\, S0A 0L0\, Canada
ATTACH;FMTTYPE=image/jpeg:https://canora.com/wp-content/uploads/2024/05/435924897_1162754951795121_924308671486001653_n.jpg
ORGANIZER;CN="Canora Golf Club":MAILTO:canoragolfclub@gmail.com
END:VEVENT
BEGIN:VEVENT
DTSTART;TZID=America/Regina:20240911T130000
DTEND;TZID=America/Regina:20240911T150000
DTSTAMP:20260424T054414
CREATED:20240515T150747Z
LAST-MODIFIED:20240515T150836Z
UID:10002828-1726059600-1726066800@canora.com
SUMMARY:Seniors Golf
DESCRIPTION:
URL:https://canora.com/event/seniors-golf-2/2024-09-11/
LOCATION:Golf Course\, 333 Canora Ave. \, Canora\, Saskatchewan\, S0A 0L0\, Canada
ATTACH;FMTTYPE=image/jpeg:https://canora.com/wp-content/uploads/2024/05/156672168_4003038136382376_1388155919206106536_n.jpg
ORGANIZER;CN="Canora Golf Club":MAILTO:canoragolfclub@gmail.com
END:VEVENT
BEGIN:VEVENT
DTSTART;TZID=America/Regina:20240908T120000
DTEND;TZID=America/Regina:20240908T120000
DTSTAMP:20260424T054414
CREATED:20240826T191927Z
LAST-MODIFIED:20240826T191927Z
UID:10002933-1725796800-1725796800@canora.com
SUMMARY:Two-Person Mixed Tournament
DESCRIPTION:
URL:https://canora.com/event/two-person-mixed-tournament/
LOCATION:Activity Centre (Golf Course)\, 333 Canora Avenue\, Canora\, SK\, S0A 0L0\, Canada
ATTACH;FMTTYPE=image/jpeg:https://canora.com/wp-content/uploads/2024/08/457048241_1229112838492665_8461874359910702375_n.jpg
ORGANIZER;CN="Canora Golf Club":MAILTO:canoragolfclub@gmail.com
GEO:51.6341203;-102.4255996
X-APPLE-STRUCTURED-LOCATION;VALUE=URI;X-ADDRESS=Activity Centre (Golf Course) 333 Canora Avenue Canora SK S0A 0L0 Canada;X-APPLE-RADIUS=500;X-TITLE=333 Canora Avenue:geo:-102.4255996,51.6341203
END:VEVENT
BEGIN:VEVENT
DTSTART;TZID=America/Regina:20240905T173000
DTEND;TZID=America/Regina:20240905T173000
DTSTAMP:20260424T054414
CREATED:20240515T190409Z
LAST-MODIFIED:20240926T172240Z
UID:10002848-1725557400-1725557400@canora.com
SUMMARY:Mens Night
DESCRIPTION:
URL:https://canora.com/event/mens-night-4/2024-09-05/
LOCATION:Golf Course\, 333 Canora Ave. \, Canora\, Saskatchewan\, S0A 0L0\, Canada
ATTACH;FMTTYPE=image/jpeg:https://canora.com/wp-content/uploads/2024/05/435924897_1162754951795121_924308671486001653_n.jpg
ORGANIZER;CN="Canora Golf Club":MAILTO:canoragolfclub@gmail.com
END:VEVENT
BEGIN:VEVENT
DTSTART;TZID=America/Regina:20240904T130000
DTEND;TZID=America/Regina:20240904T150000
DTSTAMP:20260424T054414
CREATED:20240515T150747Z
LAST-MODIFIED:20240515T150836Z
UID:10002827-1725454800-1725462000@canora.com
SUMMARY:Seniors Golf
DESCRIPTION:
URL:https://canora.com/event/seniors-golf-2/2024-09-04/
LOCATION:Golf Course\, 333 Canora Ave. \, Canora\, Saskatchewan\, S0A 0L0\, Canada
ATTACH;FMTTYPE=image/jpeg:https://canora.com/wp-content/uploads/2024/05/156672168_4003038136382376_1388155919206106536_n.jpg
ORGANIZER;CN="Canora Golf Club":MAILTO:canoragolfclub@gmail.com
END:VEVENT
BEGIN:VEVENT
DTSTART;TZID=America/Regina:20240903T190000
DTEND;TZID=America/Regina:20240903T190000
DTSTAMP:20260424T054414
CREATED:20240405T202348Z
LAST-MODIFIED:20240405T202538Z
UID:10002752-1725390000-1725390000@canora.com
SUMMARY:Town Council Meeting
DESCRIPTION:Town Council conducts its regular meetings on the 1st and 3rd Tuesday of every month. \nThe meeting takes place at the Town Office and begins at 7 pm. \nIf you would like to have a delegation attend a council meeting\, please submit your request by 12 pm (noon) on the Friday before the council meeting.\nSubmitting requests early assists Town Council and Administration.
URL:https://canora.com/event/town-council-meeting-4/2024-09-03/
LOCATION:Council Chambers\, 418 Main Street\, Canora
ATTACH;FMTTYPE=image/gif:https://canora.com/wp-content/uploads/2018/03/favicon.gif
ORGANIZER;CN="Town of Canora":MAILTO:cdo.canora@sasktel.net
END:VEVENT
BEGIN:VEVENT
DTSTART;TZID=America/Regina:20240903T173000
DTEND;TZID=America/Regina:20240903T173000
DTSTAMP:20260424T054414
CREATED:20240829T140334Z
LAST-MODIFIED:20240829T140334Z
UID:10002871-1725384600-1725384600@canora.com
SUMMARY:Fun Night!
DESCRIPTION:Every Tuesday \nScramble \nFun\, Food\, & prizes \nWeekly Sponsors
URL:https://canora.com/event/fun-night-4-2/
LOCATION:Activity Centre (Golf Course)\, 333 Canora Avenue\, Canora\, SK\, S0A 0L0\, Canada
ATTACH;FMTTYPE=image/jpeg:https://canora.com/wp-content/uploads/2024/06/golfers-having-fun-green.jpeg
ORGANIZER;CN="Canora Golf Club":MAILTO:canoragolfclub@gmail.com
GEO:51.6341203;-102.4255996
X-APPLE-STRUCTURED-LOCATION;VALUE=URI;X-ADDRESS=Activity Centre (Golf Course) 333 Canora Avenue Canora SK S0A 0L0 Canada;X-APPLE-RADIUS=500;X-TITLE=333 Canora Avenue:geo:-102.4255996,51.6341203
END:VEVENT
BEGIN:VEVENT
DTSTART;TZID=America/Regina:20240829T173000
DTEND;TZID=America/Regina:20240829T173000
DTSTAMP:20260424T054414
CREATED:20240515T190409Z
LAST-MODIFIED:20240926T172240Z
UID:10002847-1724952600-1724952600@canora.com
SUMMARY:Mens Night
DESCRIPTION:
URL:https://canora.com/event/mens-night-4/2024-08-29/
LOCATION:Golf Course\, 333 Canora Ave. \, Canora\, Saskatchewan\, S0A 0L0\, Canada
ATTACH;FMTTYPE=image/jpeg:https://canora.com/wp-content/uploads/2024/05/435924897_1162754951795121_924308671486001653_n.jpg
ORGANIZER;CN="Canora Golf Club":MAILTO:canoragolfclub@gmail.com
END:VEVENT
BEGIN:VEVENT
DTSTART;TZID=America/Regina:20240828T130000
DTEND;TZID=America/Regina:20240828T150000
DTSTAMP:20260424T054414
CREATED:20240515T150747Z
LAST-MODIFIED:20240515T150836Z
UID:10002826-1724850000-1724857200@canora.com
SUMMARY:Seniors Golf
DESCRIPTION:
URL:https://canora.com/event/seniors-golf-2/2024-08-28/
LOCATION:Golf Course\, 333 Canora Ave. \, Canora\, Saskatchewan\, S0A 0L0\, Canada
ATTACH;FMTTYPE=image/jpeg:https://canora.com/wp-content/uploads/2024/05/156672168_4003038136382376_1388155919206106536_n.jpg
ORGANIZER;CN="Canora Golf Club":MAILTO:canoragolfclub@gmail.com
END:VEVENT
BEGIN:VEVENT
DTSTART;TZID=America/Regina:20240827T173000
DTEND;TZID=America/Regina:20240827T173000
DTSTAMP:20260424T054414
CREATED:20240625T193950Z
LAST-MODIFIED:20240625T194026Z
UID:10002870-1724779800-1724779800@canora.com
SUMMARY:Fun Night!
DESCRIPTION:Every Tuesday \nScramble \nFun\, Food\, & prizes \nWeekly Sponsors
URL:https://canora.com/event/fun-night-4/2024-08-27/
LOCATION:Activity Centre (Golf Course)\, 333 Canora Avenue\, Canora\, SK\, S0A 0L0\, Canada
ATTACH;FMTTYPE=image/jpeg:https://canora.com/wp-content/uploads/2024/06/golfers-having-fun-green.jpeg
ORGANIZER;CN="Canora Golf Club":MAILTO:canoragolfclub@gmail.com
GEO:51.6341203;-102.4255996
X-APPLE-STRUCTURED-LOCATION;VALUE=URI;X-ADDRESS=Activity Centre (Golf Course) 333 Canora Avenue Canora SK S0A 0L0 Canada;X-APPLE-RADIUS=500;X-TITLE=333 Canora Avenue:geo:-102.4255996,51.6341203
END:VEVENT
BEGIN:VEVENT
DTSTART;TZID=America/Regina:20240825T110000
DTEND;TZID=America/Regina:20240825T230000
DTSTAMP:20260424T054414
CREATED:20240820T162034Z
LAST-MODIFIED:20240820T162034Z
UID:10002930-1724583600-1724626800@canora.com
SUMMARY:Ag Days!
DESCRIPTION:
URL:https://canora.com/event/ag-days-6-3/
LOCATION:Sportsgrounds
ATTACH;FMTTYPE=image/jpeg:https://canora.com/wp-content/uploads/2024/07/451430809_886110683558218_3194884459680892953_n.jpg
END:VEVENT
END:VCALENDAR