BEGIN:VCALENDAR
VERSION:2.0
PRODID:-//Town of Canora - ECPv6.15.17//NONSGML v1.0//EN
CALSCALE:GREGORIAN
METHOD:PUBLISH
X-WR-CALNAME:Town of Canora
X-ORIGINAL-URL:https://canora.com
X-WR-CALDESC:Events for Town of Canora
REFRESH-INTERVAL;VALUE=DURATION:PT1H
X-Robots-Tag:noindex
X-PUBLISHED-TTL:PT1H
BEGIN:VTIMEZONE
TZID:America/Regina
BEGIN:STANDARD
TZOFFSETFROM:-0600
TZOFFSETTO:-0600
TZNAME:CST
DTSTART:20240101T000000
END:STANDARD
END:VTIMEZONE
BEGIN:VEVENT
DTSTART;TZID=America/Regina:20250415T190000
DTEND;TZID=America/Regina:20250415T190000
DTSTAMP:20260423T094704
CREATED:20240405T202455Z
LAST-MODIFIED:20240405T202633Z
UID:10002782-1744743600-1744743600@canora.com
SUMMARY:Town Council Meeting
DESCRIPTION:Town Council conducts its regular meetings on the 1st and 3rd Tuesday of every month. \nThe meeting takes place at the Town Office and begins at 7 pm. \nIf you would like to have a delegation attend a council meeting\, please submit your request by 12 pm (noon) on the Friday before the council meeting.\nSubmitting requests early assists Town Council and Administration.
URL:https://canora.com/event/town-council-meeting-5/2025-04-15/
LOCATION:Council Chambers\, 418 Main Street\, Canora
ATTACH;FMTTYPE=image/gif:https://canora.com/wp-content/uploads/2018/03/favicon.gif
ORGANIZER;CN="Town of Canora":MAILTO:cdo.canora@sasktel.net
END:VEVENT
BEGIN:VEVENT
DTSTART;TZID=America/Regina:20250414T190000
DTEND;TZID=America/Regina:20250414T210000
DTSTAMP:20260423T094704
CREATED:20250318T205623Z
LAST-MODIFIED:20250401T170521Z
UID:10004516-1744657200-1744664400@canora.com
SUMMARY:Drop-In Pickleball
DESCRIPTION:Drop-In \nNo Charge \nEquipment available to borrow. \nClean shoes needed.
URL:https://canora.com/event/drop-in-pickleball/2025-04-14/
LOCATION:Canora Composite School\, 223 8 Avenue\, Canora\, Saskatchewan\, S0A 0L0\, Canada
END:VEVENT
BEGIN:VEVENT
DTSTART;TZID=America/Regina:20250412T173000
DTEND;TZID=America/Regina:20250412T173000
DTSTAMP:20260423T094704
CREATED:20250310T211734Z
LAST-MODIFIED:20250310T211734Z
UID:10004502-1744479000-1744479000@canora.com
SUMMARY:Farmer's Night Out
DESCRIPTION:Come one\, come all! Let’s kick off spring with an evening filled with laughs\, good food and an evening of letting loose on the dance floor!
URL:https://canora.com/event/farmers-night-out-3/
LOCATION:Sylvia Fedoruk Center\, 701 Main Street\, Canora\, Saskatchewan\, S0A 0L0\, Canada
ATTACH;FMTTYPE=image/jpeg:https://canora.com/wp-content/uploads/2025/03/Night-out.jpg
GEO:51.6317348;-102.4385717
X-APPLE-STRUCTURED-LOCATION;VALUE=URI;X-ADDRESS=Sylvia Fedoruk Center 701 Main Street Canora Saskatchewan S0A 0L0 Canada;X-APPLE-RADIUS=500;X-TITLE=701 Main Street:geo:-102.4385717,51.6317348
END:VEVENT
BEGIN:VEVENT
DTSTART;TZID=America/Regina:20250411T180000
DTEND;TZID=America/Regina:20250411T180000
DTSTAMP:20260423T094704
CREATED:20250310T211940Z
LAST-MODIFIED:20250310T211940Z
UID:10004503-1744394400-1744394400@canora.com
SUMMARY:CMHA Awards Banquet
DESCRIPTION:
URL:https://canora.com/event/cmha-awards-banquet/
LOCATION:Rainbow Hall\, 203 1st Avenue E\, Canora
ATTACH;FMTTYPE=image/jpeg:https://canora.com/wp-content/uploads/2025/03/475553916_1379281723345315_4875438880025419933_n.jpg
END:VEVENT
BEGIN:VEVENT
DTSTART;TZID=America/Regina:20250410T193000
DTEND;TZID=America/Regina:20250410T193000
DTSTAMP:20260423T094704
CREATED:20241118T151126Z
LAST-MODIFIED:20241118T151126Z
UID:10002958-1744313400-1744313400@canora.com
SUMMARY:The Wardens
DESCRIPTION:
URL:https://canora.com/event/the-wardens/
LOCATION:Canora Composite School\, 223 8 Avenue\, Canora\, Saskatchewan\, S0A 0L0\, Canada
ATTACH;FMTTYPE=image/jpeg:https://canora.com/wp-content/uploads/2024/11/2024-25-concert-scaled.jpg
END:VEVENT
BEGIN:VEVENT
DTSTART;TZID=America/Regina:20250407T190000
DTEND;TZID=America/Regina:20250407T210000
DTSTAMP:20260423T094704
CREATED:20250318T205623Z
LAST-MODIFIED:20250401T170521Z
UID:10004514-1744052400-1744059600@canora.com
SUMMARY:Drop-In Pickleball
DESCRIPTION:Drop-In \nNo Charge \nEquipment available to borrow. \nClean shoes needed.
URL:https://canora.com/event/drop-in-pickleball/2025-04-07/
LOCATION:Canora Composite School\, 223 8 Avenue\, Canora\, Saskatchewan\, S0A 0L0\, Canada
END:VEVENT
BEGIN:VEVENT
DTSTART;TZID=America/Regina:20250406T140000
DTEND;TZID=America/Regina:20250406T140000
DTSTAMP:20260423T094704
CREATED:20250306T152024Z
LAST-MODIFIED:20250331T155838Z
UID:10004474-1743948000-1743948000@canora.com
SUMMARY:50th Annual Spring Concert
DESCRIPTION:Silver Collection \n 
URL:https://canora.com/event/49th-annual-spring-concert/
LOCATION:Canora Composite School\, 223 8 Avenue\, Canora\, Saskatchewan\, S0A 0L0\, Canada
ATTACH;FMTTYPE=image/jpeg:https://canora.com/wp-content/uploads/2025/03/UKR-DNCE.jpg
END:VEVENT
BEGIN:VEVENT
DTSTART;TZID=America/Regina:20250405T150000
DTEND;TZID=America/Regina:20250405T160000
DTSTAMP:20260423T094704
CREATED:20250402T191447Z
LAST-MODIFIED:20250402T191448Z
UID:10004645-1743865200-1743868800@canora.com
SUMMARY:Pet Vaccination Clinic
DESCRIPTION:
URL:https://canora.com/event/pet-vaccination-clinic/
LOCATION:Sports Services Centre
ATTACH;FMTTYPE=image/jpeg:https://canora.com/wp-content/uploads/2025/04/484955100_1479756260081003_285076944888925474_n.jpg
END:VEVENT
BEGIN:VEVENT
DTSTART;TZID=America/Regina:20250401T190000
DTEND;TZID=America/Regina:20250401T190000
DTSTAMP:20260423T094704
CREATED:20240405T202348Z
LAST-MODIFIED:20240405T202538Z
UID:10002759-1743534000-1743534000@canora.com
SUMMARY:Town Council Meeting
DESCRIPTION:Town Council conducts its regular meetings on the 1st and 3rd Tuesday of every month. \nThe meeting takes place at the Town Office and begins at 7 pm. \nIf you would like to have a delegation attend a council meeting\, please submit your request by 12 pm (noon) on the Friday before the council meeting.\nSubmitting requests early assists Town Council and Administration.
URL:https://canora.com/event/town-council-meeting-4/2025-04-01/
LOCATION:Council Chambers\, 418 Main Street\, Canora
ATTACH;FMTTYPE=image/gif:https://canora.com/wp-content/uploads/2018/03/favicon.gif
ORGANIZER;CN="Town of Canora":MAILTO:cdo.canora@sasktel.net
END:VEVENT
BEGIN:VEVENT
DTSTART;TZID=America/Regina:20250326T160000
DTEND;TZID=America/Regina:20250326T183000
DTSTAMP:20260423T094704
CREATED:20250311T200507Z
LAST-MODIFIED:20250311T200507Z
UID:10004504-1743004800-1743013800@canora.com
SUMMARY:Borscht & Perogies
DESCRIPTION:Questions \nLiz Bahnuik \n(306)260-9454 \nlizanne1950@hotmail.com
URL:https://canora.com/event/borscht-perogies-4/
LOCATION:St. Joseph’s Catholic Church\, 201 4th Avenue East\, Canora\, Saskatchewan\, S0A 0L0\, Canada
ATTACH;FMTTYPE=image/jpeg:https://canora.com/wp-content/uploads/2022/02/st-joes-e1741723390870.jpg
GEO:51.6343703;-102.4401175
X-APPLE-STRUCTURED-LOCATION;VALUE=URI;X-ADDRESS=St. Joseph’s Catholic Church 201 4th Avenue East Canora Saskatchewan S0A 0L0 Canada;X-APPLE-RADIUS=500;X-TITLE=201 4th Avenue East:geo:-102.4401175,51.6343703
END:VEVENT
BEGIN:VEVENT
DTSTART;TZID=America/Regina:20250324T190000
DTEND;TZID=America/Regina:20250324T190000
DTSTAMP:20260423T094704
CREATED:20250317T191937Z
LAST-MODIFIED:20250317T192016Z
UID:10004513-1742842800-1742842800@canora.com
SUMMARY:U15 'A' Final HWY 9 Preds VS Langenburg
DESCRIPTION:HWY 9 Preds VS Langenburg\nBest of 3 for the 'A' Championship\nhttps://www.majorhockeyleague.ca/leagues/bracketV2.cfm?leagueID=32846&clientID=6687
URL:https://canora.com/event/u18-b-final-2/
LOCATION:Canora Civic Centre\, 711 Main Street\, Canora\, Saskatchewan\, S0A 0L0\, Canada
ATTACH;FMTTYPE=image/jpeg:https://canora.com/wp-content/uploads/2025/03/themeBannerContent_361.jpg
GEO:51.6315739;-102.4386783
X-APPLE-STRUCTURED-LOCATION;VALUE=URI;X-ADDRESS=Canora Civic Centre 711 Main Street Canora Saskatchewan S0A 0L0 Canada;X-APPLE-RADIUS=500;X-TITLE=711 Main Street:geo:-102.4386783,51.6315739
END:VEVENT
BEGIN:VEVENT
DTSTART;TZID=America/Regina:20250323T190000
DTEND;TZID=America/Regina:20250323T190000
DTSTAMP:20260423T094704
CREATED:20250317T175801Z
LAST-MODIFIED:20250317T191849Z
UID:10004512-1742756400-1742756400@canora.com
SUMMARY:U18 'B' Final Canora VS Langenburg
DESCRIPTION:Canora VS Langenburg\nBest of 3 for the 'B' Championship\nhttps://www.majorhockeyleague.ca/leagues/bracketV2.cfm?leagueID=32846&clientID=6687
URL:https://canora.com/event/u18-b-final/2025-03-23/
LOCATION:Canora Civic Centre\, 711 Main Street\, Canora\, Saskatchewan\, S0A 0L0\, Canada
ATTACH;FMTTYPE=image/png:https://canora.com/wp-content/uploads/2024/11/Screenshot-1233.png
GEO:51.6315739;-102.4386783
X-APPLE-STRUCTURED-LOCATION;VALUE=URI;X-ADDRESS=Canora Civic Centre 711 Main Street Canora Saskatchewan S0A 0L0 Canada;X-APPLE-RADIUS=500;X-TITLE=711 Main Street:geo:-102.4386783,51.6315739
END:VEVENT
BEGIN:VEVENT
DTSTART;TZID=America/Regina:20250321T200000
DTEND;TZID=America/Regina:20250321T200000
DTSTAMP:20260423T094704
CREATED:20250317T145342Z
LAST-MODIFIED:20250317T214940Z
UID:10004509-1742587200-1742587200@canora.com
SUMMARY:SEHL Final Game 2
DESCRIPTION:Come join the action as the Canora Cobras host the defending SEHL champion Rocanville Tigers in Game 2 after the Cobras took Game 1 in Rocanville to hold a 1-0 lead in the best of 5 series.
URL:https://canora.com/event/sehl-final-game-2-2/
LOCATION:Canora Civic Centre\, 711 Main Street\, Canora\, Saskatchewan\, S0A 0L0\, Canada
ATTACH;FMTTYPE=image/png:https://canora.com/wp-content/uploads/2024/10/SEHL-Transp.png
GEO:51.6315739;-102.4386783
X-APPLE-STRUCTURED-LOCATION;VALUE=URI;X-ADDRESS=Canora Civic Centre 711 Main Street Canora Saskatchewan S0A 0L0 Canada;X-APPLE-RADIUS=500;X-TITLE=711 Main Street:geo:-102.4386783,51.6315739
END:VEVENT
BEGIN:VEVENT
DTSTART;TZID=America/Regina:20250318T190000
DTEND;TZID=America/Regina:20250318T190000
DTSTAMP:20260423T094704
CREATED:20240405T202455Z
LAST-MODIFIED:20240405T202633Z
UID:10002781-1742324400-1742324400@canora.com
SUMMARY:Town Council Meeting
DESCRIPTION:Town Council conducts its regular meetings on the 1st and 3rd Tuesday of every month. \nThe meeting takes place at the Town Office and begins at 7 pm. \nIf you would like to have a delegation attend a council meeting\, please submit your request by 12 pm (noon) on the Friday before the council meeting.\nSubmitting requests early assists Town Council and Administration.
URL:https://canora.com/event/town-council-meeting-5/2025-03-18/
LOCATION:Council Chambers\, 418 Main Street\, Canora
ATTACH;FMTTYPE=image/gif:https://canora.com/wp-content/uploads/2018/03/favicon.gif
ORGANIZER;CN="Town of Canora":MAILTO:cdo.canora@sasktel.net
END:VEVENT
BEGIN:VEVENT
DTSTART;TZID=America/Regina:20250316T120000
DTEND;TZID=America/Regina:20250316T120000
DTSTAMP:20260423T094704
CREATED:20250310T193012Z
LAST-MODIFIED:20250310T193012Z
UID:10004500-1742126400-1742126400@canora.com
SUMMARY:Skating Club Ice Show
DESCRIPTION:
URL:https://canora.com/event/skating-club-ice-show/
LOCATION:Canora Civic Centre\, 711 Main Street\, Canora\, Saskatchewan\, S0A 0L0\, Canada
ATTACH;FMTTYPE=image/jpeg:https://canora.com/wp-content/uploads/2025/03/296934688_100657586092253_3201494246354293170_n.jpg
GEO:51.6315739;-102.4386783
X-APPLE-STRUCTURED-LOCATION;VALUE=URI;X-ADDRESS=Canora Civic Centre 711 Main Street Canora Saskatchewan S0A 0L0 Canada;X-APPLE-RADIUS=500;X-TITLE=711 Main Street:geo:-102.4386783,51.6315739
END:VEVENT
BEGIN:VEVENT
DTSTART;TZID=America/Regina:20250308T183000
DTEND;TZID=America/Regina:20250308T183000
DTSTAMP:20260423T094704
CREATED:20250205T171113Z
LAST-MODIFIED:20250211T161222Z
UID:10004461-1741458600-1741458600@canora.com
SUMMARY:13th Lamplighter Loppet
DESCRIPTION:
URL:https://canora.com/event/13th-lamplighter-loppet/
LOCATION:Good Spirit Lake
END:VEVENT
BEGIN:VEVENT
DTSTART;TZID=America/Regina:20250307T200000
DTEND;TZID=America/Regina:20250307T200000
DTSTAMP:20260423T094704
CREATED:20250224T164644Z
LAST-MODIFIED:20250225T145741Z
UID:10004472-1741377600-1741377600@canora.com
SUMMARY:SEHL Playoffs - Canora Cobras VS Theodore Buffs
DESCRIPTION:
URL:https://canora.com/event/sehl-playoffs-canora-cobras-vs-theodore-buffs-2/
LOCATION:Canora Civic Centre\, 711 Main Street\, Canora\, Saskatchewan\, S0A 0L0\, Canada
ATTACH;FMTTYPE=image/png:https://canora.com/wp-content/uploads/2024/10/SEHL-Transp.png
GEO:51.6315739;-102.4386783
X-APPLE-STRUCTURED-LOCATION;VALUE=URI;X-ADDRESS=Canora Civic Centre 711 Main Street Canora Saskatchewan S0A 0L0 Canada;X-APPLE-RADIUS=500;X-TITLE=711 Main Street:geo:-102.4386783,51.6315739
END:VEVENT
BEGIN:VEVENT
DTSTART;TZID=America/Regina:20250307T163000
DTEND;TZID=America/Regina:20250307T183000
DTSTAMP:20260423T094704
CREATED:20250210T202328Z
LAST-MODIFIED:20250210T202329Z
UID:10004463-1741365000-1741372200@canora.com
SUMMARY:Borscht\, Clamchowder\, & Perogy Supper
DESCRIPTION:Borscht\, Clam chowder\, Perogies\, dessert & beverages will be served. \nCost is: \n$15 for ages 13 and over; \n$10 for ages 7-12; \nFree for ages 6 and under
URL:https://canora.com/event/borscht-clamchowder-perogy-supper/
LOCATION:Ukrainian Catholic Hall\, 229 5th Avenue West\, Canora\, SK\, S0A 0L0\, Canada
ORGANIZER;CN="UCWL":MAILTO:ahrycak@gmail.com
END:VEVENT
BEGIN:VEVENT
DTSTART;TZID=America/Regina:20250306T193000
DTEND;TZID=America/Regina:20250306T193000
DTSTAMP:20260423T094704
CREATED:20241118T151046Z
LAST-MODIFIED:20241118T151046Z
UID:10002957-1741289400-1741289400@canora.com
SUMMARY:Prairie Sons
DESCRIPTION:
URL:https://canora.com/event/prairie-sons/
LOCATION:Canora Composite School\, 223 8 Avenue\, Canora\, Saskatchewan\, S0A 0L0\, Canada
ATTACH;FMTTYPE=image/jpeg:https://canora.com/wp-content/uploads/2024/11/2024-25-concert-scaled.jpg
END:VEVENT
BEGIN:VEVENT
DTSTART;TZID=America/Regina:20250304T190000
DTEND;TZID=America/Regina:20250304T190000
DTSTAMP:20260423T094704
CREATED:20240405T202348Z
LAST-MODIFIED:20240405T202538Z
UID:10002758-1741114800-1741114800@canora.com
SUMMARY:Town Council Meeting
DESCRIPTION:Town Council conducts its regular meetings on the 1st and 3rd Tuesday of every month. \nThe meeting takes place at the Town Office and begins at 7 pm. \nIf you would like to have a delegation attend a council meeting\, please submit your request by 12 pm (noon) on the Friday before the council meeting.\nSubmitting requests early assists Town Council and Administration.
URL:https://canora.com/event/town-council-meeting-4/2025-03-04/
LOCATION:Council Chambers\, 418 Main Street\, Canora
ATTACH;FMTTYPE=image/gif:https://canora.com/wp-content/uploads/2018/03/favicon.gif
ORGANIZER;CN="Town of Canora":MAILTO:cdo.canora@sasktel.net
END:VEVENT
BEGIN:VEVENT
DTSTART;TZID=America/Regina:20250301T193000
DTEND;TZID=America/Regina:20250301T193000
DTSTAMP:20260423T094704
CREATED:20250224T164115Z
LAST-MODIFIED:20250225T145654Z
UID:10004468-1740857400-1740857400@canora.com
SUMMARY:SEHL Playoffs - Canora Cobras VS Theodore Buffs
DESCRIPTION:
URL:https://canora.com/event/sehl-playoffs-canora-cobras-vs-theodore-buffs/
LOCATION:Canora Civic Centre\, 711 Main Street\, Canora\, Saskatchewan\, S0A 0L0\, Canada
ATTACH;FMTTYPE=image/png:https://canora.com/wp-content/uploads/2024/10/SEHL-Transp.png
GEO:51.6315739;-102.4386783
X-APPLE-STRUCTURED-LOCATION;VALUE=URI;X-ADDRESS=Canora Civic Centre 711 Main Street Canora Saskatchewan S0A 0L0 Canada;X-APPLE-RADIUS=500;X-TITLE=711 Main Street:geo:-102.4386783,51.6315739
END:VEVENT
BEGIN:VEVENT
DTSTART;TZID=America/Regina:20250301T180000
DTEND;TZID=America/Regina:20250301T180000
DTSTAMP:20260423T094704
CREATED:20250219T164559Z
LAST-MODIFIED:20250219T164559Z
UID:10004467-1740852000-1740852000@canora.com
SUMMARY:36th Annual Banquet & Awards Night
DESCRIPTION:
URL:https://canora.com/event/36th-annual-banquet-awards-night/
LOCATION:Rainbow Hall\, 203 1st Avenue E\, Canora
ATTACH;FMTTYPE=image/jpeg:https://canora.com/wp-content/uploads/2025/02/477355493_3905744353002942_8820482968122441720_n.jpg
END:VEVENT
BEGIN:VEVENT
DTSTART;TZID=America/Regina:20250222T083000
DTEND;TZID=America/Regina:20250222T110000
DTSTAMP:20260423T094704
CREATED:20250211T200547Z
LAST-MODIFIED:20250211T200547Z
UID:10004466-1740213000-1740222000@canora.com
SUMMARY:44th Annual Duck Mountain Loppet
DESCRIPTION:
URL:https://canora.com/event/44th-annual-duck-mountain-loppet/
LOCATION:Madge Lake Golf Course
ATTACH;FMTTYPE=image/jpeg:https://canora.com/wp-content/uploads/2025/02/Duck-Mountain-Loppet_Feb_01_2025-page-001.jpg
END:VEVENT
BEGIN:VEVENT
DTSTART;TZID=America/Regina:20250220T180000
DTEND;TZID=America/Regina:20250220T220000
DTSTAMP:20260423T094704
CREATED:20241202T200954Z
LAST-MODIFIED:20241202T201125Z
UID:10003563-1740074400-1740088800@canora.com
SUMMARY:Rec League Curling
DESCRIPTION:
URL:https://canora.com/event/rec-league-curling-3/2025-02-20/
LOCATION:Sylvia Fedoruk Center\, 701 Main Street\, Canora\, Saskatchewan\, S0A 0L0\, Canada
ORGANIZER;CN="Canora Curling Club":MAILTO:canoracurling@gmail.com
GEO:51.6317348;-102.4385717
X-APPLE-STRUCTURED-LOCATION;VALUE=URI;X-ADDRESS=Sylvia Fedoruk Center 701 Main Street Canora Saskatchewan S0A 0L0 Canada;X-APPLE-RADIUS=500;X-TITLE=701 Main Street:geo:-102.4385717,51.6317348
END:VEVENT
BEGIN:VEVENT
DTSTART;VALUE=DATE:20250220
DTEND;VALUE=DATE:20250224
DTSTAMP:20260423T094704
CREATED:20241203T171101Z
LAST-MODIFIED:20241203T171108Z
UID:10004104-1740009600-1740355199@canora.com
SUMMARY:Town and Country Bonspiel
DESCRIPTION:
URL:https://canora.com/event/town-and-country-bonspiel/
LOCATION:Sylvia Fedoruk Centre/Canora Curling Rink\, 701 Main Street\, Canora\, SK\, S0A 0L0\, Canada
ATTACH;FMTTYPE=image/png:https://canora.com/wp-content/uploads/2024/12/curling-stones_lg-e1733169894180.png
ORGANIZER;CN="Canora Curling Club":MAILTO:canoracurling@gmail.com
END:VEVENT
BEGIN:VEVENT
DTSTART;TZID=America/Regina:20250219T183000
DTEND;TZID=America/Regina:20250219T200000
DTSTAMP:20260423T094704
CREATED:20241202T202032Z
LAST-MODIFIED:20241203T162309Z
UID:10003631-1739989800-1739995200@canora.com
SUMMARY:Youth Curling
DESCRIPTION:
URL:https://canora.com/event/youth-curling-4/2025-02-19/
LOCATION:Sylvia Fedoruk Center\, 701 Main Street\, Canora\, Saskatchewan\, S0A 0L0\, Canada
ORGANIZER;CN="Canora Curling Club":MAILTO:canoracurling@gmail.com
GEO:51.6317348;-102.4385717
X-APPLE-STRUCTURED-LOCATION;VALUE=URI;X-ADDRESS=Sylvia Fedoruk Center 701 Main Street Canora Saskatchewan S0A 0L0 Canada;X-APPLE-RADIUS=500;X-TITLE=701 Main Street:geo:-102.4385717,51.6317348
END:VEVENT
BEGIN:VEVENT
DTSTART;TZID=America/Regina:20250218T190000
DTEND;TZID=America/Regina:20250218T190000
DTSTAMP:20260423T094704
CREATED:20240405T202455Z
LAST-MODIFIED:20240405T202633Z
UID:10002780-1739905200-1739905200@canora.com
SUMMARY:Town Council Meeting
DESCRIPTION:Town Council conducts its regular meetings on the 1st and 3rd Tuesday of every month. \nThe meeting takes place at the Town Office and begins at 7 pm. \nIf you would like to have a delegation attend a council meeting\, please submit your request by 12 pm (noon) on the Friday before the council meeting.\nSubmitting requests early assists Town Council and Administration.
URL:https://canora.com/event/town-council-meeting-5/2025-02-18/
LOCATION:Council Chambers\, 418 Main Street\, Canora
ATTACH;FMTTYPE=image/gif:https://canora.com/wp-content/uploads/2018/03/favicon.gif
ORGANIZER;CN="Town of Canora":MAILTO:cdo.canora@sasktel.net
END:VEVENT
BEGIN:VEVENT
DTSTART;TZID=America/Regina:20250217T173000
DTEND;TZID=America/Regina:20250217T173000
DTSTAMP:20260423T094704
CREATED:20250211T161704Z
LAST-MODIFIED:20250211T162005Z
UID:10004465-1739813400-1739813400@canora.com
SUMMARY:Senior C Provincial Game 2 - Canora Cobras VS Foam Lake Flyers
DESCRIPTION:
URL:https://canora.com/event/senior-c-provincial-game-2-canora-cobras-vs-foam-lake-flyers/
LOCATION:Canora Civic Centre\, 711 Main Street\, Canora\, Saskatchewan\, S0A 0L0\, Canada
ATTACH;FMTTYPE=image/jpeg:https://canora.com/wp-content/uploads/2025/02/476357934_1179835464146486_6145539848095651922_n.jpg
GEO:51.6315739;-102.4386783
X-APPLE-STRUCTURED-LOCATION;VALUE=URI;X-ADDRESS=Canora Civic Centre 711 Main Street Canora Saskatchewan S0A 0L0 Canada;X-APPLE-RADIUS=500;X-TITLE=711 Main Street:geo:-102.4386783,51.6315739
END:VEVENT
BEGIN:VEVENT
DTSTART;TZID=America/Regina:20250217T100000
DTEND;TZID=America/Regina:20250217T190000
DTSTAMP:20260423T094704
CREATED:20241203T170704Z
LAST-MODIFIED:20241203T170705Z
UID:10004103-1739786400-1739818800@canora.com
SUMMARY:Family Day Stick Bonspiel
DESCRIPTION:
URL:https://canora.com/event/family-day-stick-bonspiel-2/
LOCATION:Sylvia Fedoruk Center\, 701 Main Street\, Canora\, Saskatchewan\, S0A 0L0\, Canada
ATTACH;FMTTYPE=image/png:https://canora.com/wp-content/uploads/2024/12/Screenshot-1238.png
ORGANIZER;CN="Canora Curling Club":MAILTO:canoracurling@gmail.com
GEO:51.6317348;-102.4385717
X-APPLE-STRUCTURED-LOCATION;VALUE=URI;X-ADDRESS=Sylvia Fedoruk Center 701 Main Street Canora Saskatchewan S0A 0L0 Canada;X-APPLE-RADIUS=500;X-TITLE=701 Main Street:geo:-102.4385717,51.6317348
END:VEVENT
BEGIN:VEVENT
DTSTART;TZID=America/Regina:20250215T140000
DTEND;TZID=America/Regina:20250215T160000
DTSTAMP:20260423T094704
CREATED:20250122T163902Z
LAST-MODIFIED:20250122T163902Z
UID:10004460-1739628000-1739635200@canora.com
SUMMARY:Valentine's Tea & Bake Sale
DESCRIPTION:
URL:https://canora.com/event/valentines-tea-bake-sale-2/
LOCATION:St. Joseph’s Catholic Church\, 201 4th Avenue East\, Canora\, Saskatchewan\, S0A 0L0\, Canada
ATTACH;FMTTYPE=image/jpeg:https://canora.com/wp-content/uploads/2025/01/Valentine-tea-bake.jpg
GEO:51.6343703;-102.4401175
X-APPLE-STRUCTURED-LOCATION;VALUE=URI;X-ADDRESS=St. Joseph’s Catholic Church 201 4th Avenue East Canora Saskatchewan S0A 0L0 Canada;X-APPLE-RADIUS=500;X-TITLE=201 4th Avenue East:geo:-102.4401175,51.6343703
END:VEVENT
END:VCALENDAR