BEGIN:VCALENDAR
VERSION:2.0
PRODID:-//Town of Canora - ECPv6.15.17//NONSGML v1.0//EN
CALSCALE:GREGORIAN
METHOD:PUBLISH
X-WR-CALNAME:Town of Canora
X-ORIGINAL-URL:https://canora.com
X-WR-CALDESC:Events for Town of Canora
REFRESH-INTERVAL;VALUE=DURATION:PT1H
X-Robots-Tag:noindex
X-PUBLISHED-TTL:PT1H
BEGIN:VTIMEZONE
TZID:America/Regina
BEGIN:STANDARD
TZOFFSETFROM:-0600
TZOFFSETTO:-0600
TZNAME:CST
DTSTART:20240101T000000
END:STANDARD
END:VTIMEZONE
BEGIN:VEVENT
DTSTART;TZID=America/Regina:20250603T190000
DTEND;TZID=America/Regina:20250603T190000
DTSTAMP:20260423T015603
CREATED:20240405T202348Z
LAST-MODIFIED:20240405T202538Z
UID:10002761-1748977200-1748977200@canora.com
SUMMARY:Town Council Meeting
DESCRIPTION:Town Council conducts its regular meetings on the 1st and 3rd Tuesday of every month. \nThe meeting takes place at the Town Office and begins at 7 pm. \nIf you would like to have a delegation attend a council meeting\, please submit your request by 12 pm (noon) on the Friday before the council meeting.\nSubmitting requests early assists Town Council and Administration.
URL:https://canora.com/event/town-council-meeting-4/2025-06-03/
LOCATION:Council Chambers\, 418 Main Street\, Canora
ATTACH;FMTTYPE=image/gif:https://canora.com/wp-content/uploads/2018/03/favicon.gif
ORGANIZER;CN="Town of Canora":MAILTO:cdo.canora@sasktel.net
END:VEVENT
BEGIN:VEVENT
DTSTART;TZID=America/Regina:20250603T170000
DTEND;TZID=America/Regina:20250603T170000
DTSTAMP:20260423T015603
CREATED:20250602T173854Z
LAST-MODIFIED:20250909T220805Z
UID:10004804-1748970000-1748970000@canora.com
SUMMARY:Fun Night!
DESCRIPTION:Texas Scramble Golf \nWeekly Sponsors\, Food\,  & Prizes
URL:https://canora.com/event/fun-night-5/2025-06-03/
LOCATION:Activity Centre (Golf Course)\, 333 Canora Avenue\, Canora\, SK\, S0A 0L0\, Canada
ATTACH;FMTTYPE=image/jpeg:https://canora.com/wp-content/uploads/2024/06/golfers-having-fun-green.jpeg
ORGANIZER;CN="Canora Golf Club":MAILTO:canoragolfclub@gmail.com
GEO:51.6341203;-102.4255996
X-APPLE-STRUCTURED-LOCATION;VALUE=URI;X-ADDRESS=Activity Centre (Golf Course) 333 Canora Avenue Canora SK S0A 0L0 Canada;X-APPLE-RADIUS=500;X-TITLE=333 Canora Avenue:geo:-102.4255996,51.6341203
END:VEVENT
BEGIN:VEVENT
DTSTART;TZID=America/Regina:20250602T190000
DTEND;TZID=America/Regina:20250602T210000
DTSTAMP:20260423T015603
CREATED:20250318T205623Z
LAST-MODIFIED:20250401T170521Z
UID:10004530-1748890800-1748898000@canora.com
SUMMARY:Drop-In Pickleball
DESCRIPTION:Drop-In \nNo Charge \nEquipment available to borrow. \nClean shoes needed.
URL:https://canora.com/event/drop-in-pickleball/2025-06-02/
LOCATION:Canora Composite School\, 223 8 Avenue\, Canora\, Saskatchewan\, S0A 0L0\, Canada
END:VEVENT
BEGIN:VEVENT
DTSTART;TZID=America/Regina:20250601T130000
DTEND;TZID=America/Regina:20250601T130000
DTSTAMP:20260423T015603
CREATED:20250522T201212Z
LAST-MODIFIED:20250522T201212Z
UID:10004734-1748782800-1748782800@canora.com
SUMMARY:Decoration Day Ceremony
DESCRIPTION:Decoration Day Ceremony 1:00 PM @ the Cemetary \nCoffee & Cupcakes afterwards at Legion Dugout
URL:https://canora.com/event/decoration-day-ceremony/
LOCATION:Cemetary
ATTACH;FMTTYPE=image/png:https://canora.com/wp-content/uploads/2025/05/Legion.png
END:VEVENT
BEGIN:VEVENT
DTSTART;TZID=America/Regina:20250531T120000
DTEND;TZID=America/Regina:20250531T173000
DTSTAMP:20260423T015603
CREATED:20250522T152623Z
LAST-MODIFIED:20250528T150416Z
UID:10004727-1748692800-1748712600@canora.com
SUMMARY:SESBL Canora Supers VS Grandview Lakers
DESCRIPTION:Double header Saturday!
URL:https://canora.com/event/sesbl-canora-supers-vs-grandview-lakers/
LOCATION:Al Sapieha Field\, 1 Nelson Street\, Canora\, Saskatchewan\, S0A 0L0\, Canada
ATTACH;FMTTYPE=image/jpeg:https://canora.com/wp-content/uploads/2025/05/305225585_371204131892363_5847719110998920293_n.jpg
END:VEVENT
BEGIN:VEVENT
DTSTART;TZID=America/Regina:20250530T113000
DTEND;TZID=America/Regina:20250530T133000
DTSTAMP:20260423T015603
CREATED:20250522T151606Z
LAST-MODIFIED:20250522T151606Z
UID:10004725-1748604600-1748611800@canora.com
SUMMARY:Homemade Soup
DESCRIPTION:Two types of homemade soup will be served along with homemade bun\, dessert & beverage for $10
URL:https://canora.com/event/homemade-soup/
LOCATION:Ukrainian  Heritage Museum\, 215 Main Street\, Canora
GEO:51.6357118;-102.436567
X-APPLE-STRUCTURED-LOCATION;VALUE=URI;X-ADDRESS=Ukrainian  Heritage Museum 215 Main Street Canora;X-APPLE-RADIUS=500;X-TITLE=215 Main Street:geo:-102.436567,51.6357118
END:VEVENT
BEGIN:VEVENT
DTSTART;TZID=America/Regina:20250529T190000
DTEND;TZID=America/Regina:20250529T210000
DTSTAMP:20260423T015603
CREATED:20250318T205623Z
LAST-MODIFIED:20250401T170521Z
UID:10004529-1748545200-1748552400@canora.com
SUMMARY:Drop-In Pickleball
DESCRIPTION:Drop-In \nNo Charge \nEquipment available to borrow. \nClean shoes needed.
URL:https://canora.com/event/drop-in-pickleball/2025-05-29/
LOCATION:Canora Composite School\, 223 8 Avenue\, Canora\, Saskatchewan\, S0A 0L0\, Canada
END:VEVENT
BEGIN:VEVENT
DTSTART;TZID=America/Regina:20250528T130000
DTEND;TZID=America/Regina:20250528T150000
DTSTAMP:20260423T015603
CREATED:20250506T205534Z
LAST-MODIFIED:20251015T155828Z
UID:10004654-1748437200-1748444400@canora.com
SUMMARY:Seniors Golf
DESCRIPTION:
URL:https://canora.com/event/seniors-golf-3/2025-05-28/
LOCATION:Activity Centre (Golf Course)\, 333 Canora Avenue\, Canora\, SK\, S0A 0L0\, Canada
ORGANIZER;CN="Canora Golf Club":MAILTO:canoragolfclub@gmail.com
GEO:51.6341203;-102.4255996
X-APPLE-STRUCTURED-LOCATION;VALUE=URI;X-ADDRESS=Activity Centre (Golf Course) 333 Canora Avenue Canora SK S0A 0L0 Canada;X-APPLE-RADIUS=500;X-TITLE=333 Canora Avenue:geo:-102.4255996,51.6341203
END:VEVENT
BEGIN:VEVENT
DTSTART;TZID=America/Regina:20250526T190000
DTEND;TZID=America/Regina:20250526T210000
DTSTAMP:20260423T015603
CREATED:20250318T205623Z
LAST-MODIFIED:20250401T170521Z
UID:10004528-1748286000-1748293200@canora.com
SUMMARY:Drop-In Pickleball
DESCRIPTION:Drop-In \nNo Charge \nEquipment available to borrow. \nClean shoes needed.
URL:https://canora.com/event/drop-in-pickleball/2025-05-26/
LOCATION:Canora Composite School\, 223 8 Avenue\, Canora\, Saskatchewan\, S0A 0L0\, Canada
END:VEVENT
BEGIN:VEVENT
DTSTART;TZID=America/Regina:20250523T183000
DTEND;TZID=America/Regina:20250523T183000
DTSTAMP:20260423T015603
CREATED:20250522T152411Z
LAST-MODIFIED:20250522T152411Z
UID:10004726-1748025000-1748025000@canora.com
SUMMARY:SESBL Canora Supers VS Saltcoats Lakers
DESCRIPTION:2025 Season Home opener! \n 
URL:https://canora.com/event/sesbl-canora-supers-vs-saltcoats-lakers-3/
LOCATION:Al Sapieha Field\, 1 Nelson Street\, Canora\, Saskatchewan\, S0A 0L0\, Canada
ATTACH;FMTTYPE=image/jpeg:https://canora.com/wp-content/uploads/2025/05/305225585_371204131892363_5847719110998920293_n.jpg
END:VEVENT
BEGIN:VEVENT
DTSTART;TZID=America/Regina:20250522T190000
DTEND;TZID=America/Regina:20250522T210000
DTSTAMP:20260423T015603
CREATED:20250318T205623Z
LAST-MODIFIED:20250401T170521Z
UID:10004527-1747940400-1747947600@canora.com
SUMMARY:Drop-In Pickleball
DESCRIPTION:Drop-In \nNo Charge \nEquipment available to borrow. \nClean shoes needed.
URL:https://canora.com/event/drop-in-pickleball/2025-05-22/
LOCATION:Canora Composite School\, 223 8 Avenue\, Canora\, Saskatchewan\, S0A 0L0\, Canada
END:VEVENT
BEGIN:VEVENT
DTSTART;TZID=America/Regina:20250521T130000
DTEND;TZID=America/Regina:20250521T150000
DTSTAMP:20260423T015603
CREATED:20250506T205534Z
LAST-MODIFIED:20251015T155828Z
UID:10004653-1747832400-1747839600@canora.com
SUMMARY:Seniors Golf
DESCRIPTION:
URL:https://canora.com/event/seniors-golf-3/2025-05-21/
LOCATION:Activity Centre (Golf Course)\, 333 Canora Avenue\, Canora\, SK\, S0A 0L0\, Canada
ORGANIZER;CN="Canora Golf Club":MAILTO:canoragolfclub@gmail.com
GEO:51.6341203;-102.4255996
X-APPLE-STRUCTURED-LOCATION;VALUE=URI;X-ADDRESS=Activity Centre (Golf Course) 333 Canora Avenue Canora SK S0A 0L0 Canada;X-APPLE-RADIUS=500;X-TITLE=333 Canora Avenue:geo:-102.4255996,51.6341203
END:VEVENT
BEGIN:VEVENT
DTSTART;TZID=America/Regina:20250520T190000
DTEND;TZID=America/Regina:20250520T190000
DTSTAMP:20260423T015603
CREATED:20240405T202455Z
LAST-MODIFIED:20240405T202633Z
UID:10002783-1747767600-1747767600@canora.com
SUMMARY:Town Council Meeting
DESCRIPTION:Town Council conducts its regular meetings on the 1st and 3rd Tuesday of every month. \nThe meeting takes place at the Town Office and begins at 7 pm. \nIf you would like to have a delegation attend a council meeting\, please submit your request by 12 pm (noon) on the Friday before the council meeting.\nSubmitting requests early assists Town Council and Administration.
URL:https://canora.com/event/town-council-meeting-5/2025-05-20/
LOCATION:Council Chambers\, 418 Main Street\, Canora
ATTACH;FMTTYPE=image/gif:https://canora.com/wp-content/uploads/2018/03/favicon.gif
ORGANIZER;CN="Town of Canora":MAILTO:cdo.canora@sasktel.net
END:VEVENT
BEGIN:VEVENT
DTSTART;TZID=America/Regina:20250520T170000
DTEND;TZID=America/Regina:20250520T170000
DTSTAMP:20260423T015603
CREATED:20250522T162719Z
LAST-MODIFIED:20250522T162821Z
UID:10004731-1747760400-1747760400@canora.com
SUMMARY:Lesson Registration Opens
DESCRIPTION:Swimming Lessons
URL:https://canora.com/event/lesson-registration-opens/2025-05-20/
LOCATION:Canora Aquatic Park\, 601 $th Street\, Canora\, Saskatchewan\, S0A 0L0\, Canada
ATTACH;FMTTYPE=image/png:https://canora.com/wp-content/uploads/2025/05/Swim-for-life-logo.png
ORGANIZER;CN="Canora Leisure Services":MAILTO:leisure.canora@sasktel.net
END:VEVENT
BEGIN:VEVENT
DTSTART;TZID=America/Regina:20250519T190000
DTEND;TZID=America/Regina:20250519T210000
DTSTAMP:20260423T015603
CREATED:20250318T205623Z
LAST-MODIFIED:20250401T170521Z
UID:10004526-1747681200-1747688400@canora.com
SUMMARY:Drop-In Pickleball
DESCRIPTION:Drop-In \nNo Charge \nEquipment available to borrow. \nClean shoes needed.
URL:https://canora.com/event/drop-in-pickleball/2025-05-19/
LOCATION:Canora Composite School\, 223 8 Avenue\, Canora\, Saskatchewan\, S0A 0L0\, Canada
END:VEVENT
BEGIN:VEVENT
DTSTART;TZID=America/Regina:20250516T130000
DTEND;TZID=America/Regina:20250516T130000
DTSTAMP:20260423T015603
CREATED:20240405T200223Z
LAST-MODIFIED:20240405T200426Z
UID:10002746-1747400400-1747400400@canora.com
SUMMARY:Canora Campgrounds Open
DESCRIPTION:Camping \n \n 
URL:https://canora.com/event/canora-campgrounds-open/2025-05-16/
LOCATION:SK
ATTACH;FMTTYPE=image/jpeg:https://canora.com/wp-content/uploads/2020/07/20200709_141601-scaled.jpg
ORGANIZER;CN="Canora Leisure Services":MAILTO:leisure.canora@sasktel.net
END:VEVENT
BEGIN:VEVENT
DTSTART;TZID=America/Regina:20250516T110000
DTEND;TZID=America/Regina:20250516T140000
DTSTAMP:20260423T015603
CREATED:20250429T202912Z
LAST-MODIFIED:20250429T204953Z
UID:10004649-1747393200-1747404000@canora.com
SUMMARY:BBQ Fundraiser!
DESCRIPTION:Come support the class 2025 while enjoying some good BBQ at the CO-OP!
URL:https://canora.com/event/bbq-fundraiser/
LOCATION:Gateway Co-op Food Store\, 707 Norway Road S\, Canora\, Canada
ATTACH;FMTTYPE=image/jpeg:https://canora.com/wp-content/uploads/2025/04/IMG_2931.jpg
END:VEVENT
BEGIN:VEVENT
DTSTART;TZID=America/Regina:20250515T190000
DTEND;TZID=America/Regina:20250515T210000
DTSTAMP:20260423T015603
CREATED:20250318T205623Z
LAST-MODIFIED:20250401T170521Z
UID:10004525-1747335600-1747342800@canora.com
SUMMARY:Drop-In Pickleball
DESCRIPTION:Drop-In \nNo Charge \nEquipment available to borrow. \nClean shoes needed.
URL:https://canora.com/event/drop-in-pickleball/2025-05-15/
LOCATION:Canora Composite School\, 223 8 Avenue\, Canora\, Saskatchewan\, S0A 0L0\, Canada
END:VEVENT
BEGIN:VEVENT
DTSTART;TZID=America/Regina:20250514T130000
DTEND;TZID=America/Regina:20250514T150000
DTSTAMP:20260423T015603
CREATED:20250506T205534Z
LAST-MODIFIED:20251015T155828Z
UID:10004652-1747227600-1747234800@canora.com
SUMMARY:Seniors Golf
DESCRIPTION:
URL:https://canora.com/event/seniors-golf-3/2025-05-14/
LOCATION:Activity Centre (Golf Course)\, 333 Canora Avenue\, Canora\, SK\, S0A 0L0\, Canada
ORGANIZER;CN="Canora Golf Club":MAILTO:canoragolfclub@gmail.com
GEO:51.6341203;-102.4255996
X-APPLE-STRUCTURED-LOCATION;VALUE=URI;X-ADDRESS=Activity Centre (Golf Course) 333 Canora Avenue Canora SK S0A 0L0 Canada;X-APPLE-RADIUS=500;X-TITLE=333 Canora Avenue:geo:-102.4255996,51.6341203
END:VEVENT
BEGIN:VEVENT
DTSTART;TZID=America/Regina:20250512T190000
DTEND;TZID=America/Regina:20250512T210000
DTSTAMP:20260423T015603
CREATED:20250318T205623Z
LAST-MODIFIED:20250401T170521Z
UID:10004524-1747076400-1747083600@canora.com
SUMMARY:Drop-In Pickleball
DESCRIPTION:Drop-In \nNo Charge \nEquipment available to borrow. \nClean shoes needed.
URL:https://canora.com/event/drop-in-pickleball/2025-05-12/
LOCATION:Canora Composite School\, 223 8 Avenue\, Canora\, Saskatchewan\, S0A 0L0\, Canada
END:VEVENT
BEGIN:VEVENT
DTSTART;TZID=America/Regina:20250508T190000
DTEND;TZID=America/Regina:20250508T210000
DTSTAMP:20260423T015603
CREATED:20250318T205623Z
LAST-MODIFIED:20250401T170521Z
UID:10004523-1746730800-1746738000@canora.com
SUMMARY:Drop-In Pickleball
DESCRIPTION:Drop-In \nNo Charge \nEquipment available to borrow. \nClean shoes needed.
URL:https://canora.com/event/drop-in-pickleball/2025-05-08/
LOCATION:Canora Composite School\, 223 8 Avenue\, Canora\, Saskatchewan\, S0A 0L0\, Canada
END:VEVENT
BEGIN:VEVENT
DTSTART;TZID=America/Regina:20250507T130000
DTEND;TZID=America/Regina:20250507T150000
DTSTAMP:20260423T015603
CREATED:20250506T205534Z
LAST-MODIFIED:20251015T155828Z
UID:10004651-1746622800-1746630000@canora.com
SUMMARY:Seniors Golf
DESCRIPTION:
URL:https://canora.com/event/seniors-golf-3/2025-05-07/
LOCATION:Activity Centre (Golf Course)\, 333 Canora Avenue\, Canora\, SK\, S0A 0L0\, Canada
ORGANIZER;CN="Canora Golf Club":MAILTO:canoragolfclub@gmail.com
GEO:51.6341203;-102.4255996
X-APPLE-STRUCTURED-LOCATION;VALUE=URI;X-ADDRESS=Activity Centre (Golf Course) 333 Canora Avenue Canora SK S0A 0L0 Canada;X-APPLE-RADIUS=500;X-TITLE=333 Canora Avenue:geo:-102.4255996,51.6341203
END:VEVENT
BEGIN:VEVENT
DTSTART;TZID=America/Regina:20250506T190000
DTEND;TZID=America/Regina:20250506T190000
DTSTAMP:20260423T015603
CREATED:20250429T205905Z
LAST-MODIFIED:20250429T210403Z
UID:10004650-1746558000-1746558000@canora.com
SUMMARY:Golf Annual General Meeting
DESCRIPTION:
URL:https://canora.com/event/golf-annual-general-meeting-3/
LOCATION:Activity Centre (Golf Course)\, 333 Canora Avenue\, Canora\, SK\, S0A 0L0\, Canada
ATTACH;FMTTYPE=image/png:https://canora.com/wp-content/uploads/2025/04/Picture1.png
ORGANIZER;CN="Canora Golf Club":MAILTO:canoragolfclub@gmail.com
GEO:51.6341203;-102.4255996
X-APPLE-STRUCTURED-LOCATION;VALUE=URI;X-ADDRESS=Activity Centre (Golf Course) 333 Canora Avenue Canora SK S0A 0L0 Canada;X-APPLE-RADIUS=500;X-TITLE=333 Canora Avenue:geo:-102.4255996,51.6341203
END:VEVENT
BEGIN:VEVENT
DTSTART;TZID=America/Regina:20250506T190000
DTEND;TZID=America/Regina:20250506T190000
DTSTAMP:20260423T015603
CREATED:20240405T202348Z
LAST-MODIFIED:20240405T202538Z
UID:10002760-1746558000-1746558000@canora.com
SUMMARY:Town Council Meeting
DESCRIPTION:Town Council conducts its regular meetings on the 1st and 3rd Tuesday of every month. \nThe meeting takes place at the Town Office and begins at 7 pm. \nIf you would like to have a delegation attend a council meeting\, please submit your request by 12 pm (noon) on the Friday before the council meeting.\nSubmitting requests early assists Town Council and Administration.
URL:https://canora.com/event/town-council-meeting-4/2025-05-06/
LOCATION:Council Chambers\, 418 Main Street\, Canora
ATTACH;FMTTYPE=image/gif:https://canora.com/wp-content/uploads/2018/03/favicon.gif
ORGANIZER;CN="Town of Canora":MAILTO:cdo.canora@sasktel.net
END:VEVENT
BEGIN:VEVENT
DTSTART;TZID=America/Regina:20250505T190000
DTEND;TZID=America/Regina:20250505T210000
DTSTAMP:20260423T015603
CREATED:20250318T205623Z
LAST-MODIFIED:20250401T170521Z
UID:10004522-1746471600-1746478800@canora.com
SUMMARY:Drop-In Pickleball
DESCRIPTION:Drop-In \nNo Charge \nEquipment available to borrow. \nClean shoes needed.
URL:https://canora.com/event/drop-in-pickleball/2025-05-05/
LOCATION:Canora Composite School\, 223 8 Avenue\, Canora\, Saskatchewan\, S0A 0L0\, Canada
END:VEVENT
BEGIN:VEVENT
DTSTART;TZID=America/Regina:20250502T170000
DTEND;TZID=America/Regina:20250502T233000
DTSTAMP:20260423T015603
CREATED:20250313T175745Z
LAST-MODIFIED:20250313T175745Z
UID:10004505-1746205200-1746228600@canora.com
SUMMARY:Cinco De Mayo
DESCRIPTION:
URL:https://canora.com/event/cinco-de-mayo-3/
LOCATION:Sylvia Fedoruk Centre\, 701 Main Street\, Canada
ATTACH;FMTTYPE=image/jpeg:https://canora.com/wp-content/uploads/2025/03/1436650_Cinco_De_Mayo_2025_CC_N_J52_V1a.jpg
ORGANIZER;CN="Tourism Committee":MAILTO:cdo.canora@sasktel.net
END:VEVENT
BEGIN:VEVENT
DTSTART;TZID=America/Regina:20250501T190000
DTEND;TZID=America/Regina:20250501T210000
DTSTAMP:20260423T015603
CREATED:20250318T205623Z
LAST-MODIFIED:20250401T170521Z
UID:10004521-1746126000-1746133200@canora.com
SUMMARY:Drop-In Pickleball
DESCRIPTION:Drop-In \nNo Charge \nEquipment available to borrow. \nClean shoes needed.
URL:https://canora.com/event/drop-in-pickleball/2025-05-01/
LOCATION:Canora Composite School\, 223 8 Avenue\, Canora\, Saskatchewan\, S0A 0L0\, Canada
END:VEVENT
BEGIN:VEVENT
DTSTART;TZID=America/Regina:20250501T183000
DTEND;TZID=America/Regina:20250501T183000
DTSTAMP:20260423T015603
CREATED:20250423T175152Z
LAST-MODIFIED:20250423T175152Z
UID:10004648-1746124200-1746124200@canora.com
SUMMARY:Soccer Club AGM
DESCRIPTION:For outlook on the 2025 Season. Coaches needed!
URL:https://canora.com/event/soccer-club-agm/
LOCATION:Sylvia Fedoruk Center\, 701 Main Street\, Canora\, Saskatchewan\, S0A 0L0\, Canada
ATTACH;FMTTYPE=image/jpeg:https://canora.com/wp-content/uploads/2025/04/Soccer.jpg
GEO:51.6317348;-102.4385717
X-APPLE-STRUCTURED-LOCATION;VALUE=URI;X-ADDRESS=Sylvia Fedoruk Center 701 Main Street Canora Saskatchewan S0A 0L0 Canada;X-APPLE-RADIUS=500;X-TITLE=701 Main Street:geo:-102.4385717,51.6317348
END:VEVENT
BEGIN:VEVENT
DTSTART;TZID=America/Regina:20250429T190000
DTEND;TZID=America/Regina:20250429T190000
DTSTAMP:20260423T015603
CREATED:20250331T221550Z
LAST-MODIFIED:20250409T195731Z
UID:10004644-1745953200-1745953200@canora.com
SUMMARY:Minor Hockey AGM
DESCRIPTION:
URL:https://canora.com/event/minor-hockey-agm/
LOCATION:Sylvia Fedoruk Cente (Upstairs)\, Main Street\, Canora\, SK\, S0A 0L0\, Canada
ATTACH;FMTTYPE=image/jpeg:https://canora.com/wp-content/uploads/2025/03/489989287_1415799136360240_1300010556056096480_n.jpg
END:VEVENT
BEGIN:VEVENT
DTSTART;TZID=America/Regina:20250428T190000
DTEND;TZID=America/Regina:20250428T210000
DTSTAMP:20260423T015603
CREATED:20250318T205623Z
LAST-MODIFIED:20250401T170521Z
UID:10004520-1745866800-1745874000@canora.com
SUMMARY:Drop-In Pickleball
DESCRIPTION:Drop-In \nNo Charge \nEquipment available to borrow. \nClean shoes needed.
URL:https://canora.com/event/drop-in-pickleball/2025-04-28/
LOCATION:Canora Composite School\, 223 8 Avenue\, Canora\, Saskatchewan\, S0A 0L0\, Canada
END:VEVENT
END:VCALENDAR