BEGIN:VCALENDAR
VERSION:2.0
PRODID:-//Town of Canora - ECPv6.15.17//NONSGML v1.0//EN
CALSCALE:GREGORIAN
METHOD:PUBLISH
X-WR-CALNAME:Town of Canora
X-ORIGINAL-URL:https://canora.com
X-WR-CALDESC:Events for Town of Canora
REFRESH-INTERVAL;VALUE=DURATION:PT1H
X-Robots-Tag:noindex
X-PUBLISHED-TTL:PT1H
BEGIN:VTIMEZONE
TZID:America/Regina
BEGIN:STANDARD
TZOFFSETFROM:-0600
TZOFFSETTO:-0600
TZNAME:CST
DTSTART:20180101T000000
END:STANDARD
END:VTIMEZONE
BEGIN:VEVENT
DTSTART;TZID=America/Regina:20190504T193000
DTEND;TZID=America/Regina:20190504T233000
DTSTAMP:20260422T162507
CREATED:20190424T191632Z
LAST-MODIFIED:20190424T191632Z
UID:10000522-1556998200-1557012600@canora.com
SUMMARY:Seniors Dance
DESCRIPTION:
URL:https://canora.com/event/seniors-dance-4/
LOCATION:Ukrainian Catholic Hall\, 229 5th Avenue West\, Canora\, SK\, S0A 0L0\, Canada
END:VEVENT
BEGIN:VEVENT
DTSTART;TZID=America/Regina:20190505T130000
DTEND;TZID=America/Regina:20190505T170000
DTSTAMP:20260422T162507
CREATED:20190416T144910Z
LAST-MODIFIED:20190416T144910Z
UID:10000520-1557061200-1557075600@canora.com
SUMMARY:The Holodomor National Awareness Tour
DESCRIPTION:The Holodomor National Awareness Tour is coming to Canora on May 5th!\n\n\n \n\n\nThe public can explore this exhibit from 1 pm to 5 pm at Canora Composite School\n\n\n \n\n\nThe Royal Canadian Legion - Branch No. 52\, the Ukrainian Canadian Congress - Canora Branch\, and the Canora Ukrainian Heritage Museum made this stop possible.\n\n\n \n\n\nLearn more at https://holodomortour.ca/the-holodomor-national-awareness-tour/
URL:https://canora.com/event/the-holodomor-national-awareness-tour/
LOCATION:Canora Composite School\, 223 8 Avenue\, Canora\, Saskatchewan\, S0A 0L0\, Canada
END:VEVENT
BEGIN:VEVENT
DTSTART;TZID=America/Regina:20190511T130000
DTEND;TZID=America/Regina:20190511T153000
DTSTAMP:20260422T162507
CREATED:20190417T210737Z
LAST-MODIFIED:20190417T210737Z
UID:10000521-1557579600-1557588600@canora.com
SUMMARY:Spring Tea\, Raffle & Bake Sale
DESCRIPTION:
URL:https://canora.com/event/spring-tea-raffle-bake-sale-2/
LOCATION:Canora Hospital\, 1219 Main St.\, Canora\, SK\, S0A 0L0\, Canada
GEO:51.6255604;-102.4408497
X-APPLE-STRUCTURED-LOCATION;VALUE=URI;X-ADDRESS=Canora Hospital 1219 Main St. Canora SK S0A 0L0 Canada;X-APPLE-RADIUS=500;X-TITLE=1219 Main St.:geo:-102.4408497,51.6255604
END:VEVENT
BEGIN:VEVENT
DTSTART;TZID=America/Regina:20190516T190000
DTEND;TZID=America/Regina:20190516T210000
DTSTAMP:20260422T162507
CREATED:20190326T150631Z
LAST-MODIFIED:20190326T150631Z
UID:10000502-1558033200-1558040400@canora.com
SUMMARY:RCMP Town Hall Meeting
DESCRIPTION:
URL:https://canora.com/event/rcmp-town-hall-meeting-2/
LOCATION:Sturgis Town Hall\, Sturgis\, Saskatchewan\, S0A 4A0\, Canada
END:VEVENT
BEGIN:VEVENT
DTSTART;TZID=America/Regina:20190521T170000
DTEND;TZID=America/Regina:20190521T170000
DTSTAMP:20260422T162507
CREATED:20190509T160310Z
LAST-MODIFIED:20190509T160344Z
UID:10000524-1558458000-1558458000@canora.com
SUMMARY:CCS Grad Bottle Drive
DESCRIPTION:Curbside pickup @ 5:00 pm on May 21st
URL:https://canora.com/event/ccs-grad-bottle-drive/
LOCATION:Saskatchewan
END:VEVENT
BEGIN:VEVENT
DTSTART;TZID=America/Regina:20190521T190000
DTEND;TZID=America/Regina:20190521T220000
DTSTAMP:20260422T162507
CREATED:20180919T203327Z
LAST-MODIFIED:20190611T152640Z
UID:10000290-1558465200-1558476000@canora.com
SUMMARY:Town Council Meeting
DESCRIPTION:Town Council conducts its regular meetings on the 1st and 3rd Tuesday of every month. \nThe meeting takes place at the Town Office and begins at 7 pm. \nIf you would like to have a delegation attend a council meeting\, please submit your request by 12 pm (noon) on the Friday before the council meeting.\nSubmitting requests early assists Town Council and Administration.
URL:https://canora.com/event/town-council-meeting/2019-05-21/
LOCATION:Town Office\, 418 Main Street\, Canora\, SK\, S0A 0L0\, Canada
END:VEVENT
BEGIN:VEVENT
DTSTART;TZID=America/Regina:20190529T190000
DTEND;TZID=America/Regina:20190529T210000
DTSTAMP:20260422T162507
CREATED:20190516T144117Z
LAST-MODIFIED:20190516T144117Z
UID:10000525-1559156400-1559163600@canora.com
SUMMARY:CEDC: 2nd Local Business Meeting
DESCRIPTION:
URL:https://canora.com/event/cedc-2nd-local-business-meeting/
LOCATION:Town Office\, 418 Main Street\, Canora\, SK\, S0A 0L0\, Canada
ORGANIZER;CN="Canora Economic Development Commission":MAILTO:cdo.canora@sasktel.net
END:VEVENT
BEGIN:VEVENT
DTSTART;VALUE=DATE:20190601
DTEND;VALUE=DATE:20190602
DTSTAMP:20260422T162507
CREATED:20190503T190110Z
LAST-MODIFIED:20190604T170213Z
UID:10000523-1559347200-1559433599@canora.com
SUMMARY:Canora Minor Ball Day
DESCRIPTION:
URL:https://canora.com/event/canora-minor-ball-day-2/
LOCATION:Sports Grounds\, Canora\, Saskatchewan\, S0A 0L0\, Canada
END:VEVENT
BEGIN:VEVENT
DTSTART;TZID=America/Regina:20190601T110000
DTEND;TZID=America/Regina:20190601T140000
DTSTAMP:20260422T162507
CREATED:20190410T162127Z
LAST-MODIFIED:20190410T162127Z
UID:10000508-1559386800-1559397600@canora.com
SUMMARY:RCMP BBQ & Open House
DESCRIPTION:
URL:https://canora.com/event/rcmp-bbq-open-house/
LOCATION:RCMP\, 510 Main Street\, Canora\, Saskatchewan\, S0A 0L0
END:VEVENT
BEGIN:VEVENT
DTSTART;TZID=America/Regina:20190601T150000
DTEND;TZID=America/Regina:20190601T220000
DTSTAMP:20260422T162507
CREATED:20190521T222829Z
LAST-MODIFIED:20190527T160033Z
UID:10000527-1559401200-1559426400@canora.com
SUMMARY:Poker Tournament
DESCRIPTION:Supper and Bar \nCall the Club for more details!
URL:https://canora.com/event/poker-tournament/
LOCATION:Activity Centre (Golf Course)\, 333 Canora Avenue\, Canora\, SK\, S0A 0L0\, Canada
ORGANIZER;CN="Canora Golf Club":MAILTO:canoragolfclub@gmail.com
GEO:51.6341203;-102.4255996
X-APPLE-STRUCTURED-LOCATION;VALUE=URI;X-ADDRESS=Activity Centre (Golf Course) 333 Canora Avenue Canora SK S0A 0L0 Canada;X-APPLE-RADIUS=500;X-TITLE=333 Canora Avenue:geo:-102.4255996,51.6341203
END:VEVENT
BEGIN:VEVENT
DTSTART;VALUE=DATE:20190608
DTEND;VALUE=DATE:20190610
DTSTAMP:20260422T162507
CREATED:20190410T173212Z
LAST-MODIFIED:20190531T154103Z
UID:10000519-1559952000-1560124799@canora.com
SUMMARY:Community Garage Sale
DESCRIPTION:Save a buck and get to know your neighbours a little better? Sign me up! \nCanora’s Community Garage Sale is taking place this summer on Saturday\, June 8th\, and Sunday\, June 9th. \nWe look forward to hearing from you and searching for local treasures! \n \n 
URL:https://canora.com/event/community-garage-sale/
LOCATION:Town of Canora\, Canora\, SK\, S0A 0L0\, Canada
ORGANIZER;CN="Town of Canora":MAILTO:cdo.canora@sasktel.net
END:VEVENT
BEGIN:VEVENT
DTSTART;TZID=America/Regina:20190608T090000
DTEND;TZID=America/Regina:20190609T170000
DTSTAMP:20260422T162507
CREATED:20190225T200640Z
LAST-MODIFIED:20190225T200640Z
UID:10000491-1559984400-1560099600@canora.com
SUMMARY:River Ridge Fish & Game Gun Show
DESCRIPTION:
URL:https://canora.com/event/river-ridge-fish-game-gun-show-3/
LOCATION:Sylvia Fedoruk Center\, 701 Main Street\, Canora\, Saskatchewan\, S0A 0L0\, Canada
GEO:51.6317348;-102.4385717
X-APPLE-STRUCTURED-LOCATION;VALUE=URI;X-ADDRESS=Sylvia Fedoruk Center 701 Main Street Canora Saskatchewan S0A 0L0 Canada;X-APPLE-RADIUS=500;X-TITLE=701 Main Street:geo:-102.4385717,51.6317348
END:VEVENT
BEGIN:VEVENT
DTSTART;TZID=America/Regina:20190618T190000
DTEND;TZID=America/Regina:20190618T220000
DTSTAMP:20260422T162507
CREATED:20180919T203327Z
LAST-MODIFIED:20190611T152640Z
UID:10000291-1560884400-1560895200@canora.com
SUMMARY:Town Council Meeting
DESCRIPTION:Town Council conducts its regular meetings on the 1st and 3rd Tuesday of every month. \nThe meeting takes place at the Town Office and begins at 7 pm. \nIf you would like to have a delegation attend a council meeting\, please submit your request by 12 pm (noon) on the Friday before the council meeting.\nSubmitting requests early assists Town Council and Administration.
URL:https://canora.com/event/town-council-meeting/2019-06-18/
LOCATION:Town Office\, 418 Main Street\, Canora\, SK\, S0A 0L0\, Canada
END:VEVENT
BEGIN:VEVENT
DTSTART;TZID=America/Regina:20190622T090000
DTEND;TZID=America/Regina:20190622T180000
DTSTAMP:20260422T162507
CREATED:20190620T143551Z
LAST-MODIFIED:20190620T145038Z
UID:10000537-1561194000-1561226400@canora.com
SUMMARY:U13 BASEBALL PLAYOFFS
DESCRIPTION:Parkland Minor Baseball League playoffs are being held in Canora at the Sports Grounds. 8 teams teams play for the championship on Saturday\, June 22nd . The action starts at 9:00 am. Concession is available. \n \nPlease follow Canora Minor Ball's facebook page for any news in case of  last minute cancellations due to weather.
URL:https://canora.com/event/u13-baseball-playoffs/
LOCATION:Sports Grounds\, Canora\, Saskatchewan\, S0A 0L0\, Canada
END:VEVENT
BEGIN:VEVENT
DTSTART;TZID=America/Regina:20190622T193000
DTEND;TZID=America/Regina:20190622T233000
DTSTAMP:20260422T162507
CREATED:20190610T154349Z
LAST-MODIFIED:20190610T164516Z
UID:10000534-1561231800-1561246200@canora.com
SUMMARY:Seniors' Dance
DESCRIPTION:
URL:https://canora.com/event/seniors-dance-5/
LOCATION:Ukrainian Catholic Hall\, 229 5th Avenue West\, Canora\, SK\, S0A 0L0\, Canada
END:VEVENT
BEGIN:VEVENT
DTSTART;TZID=America/Regina:20190630T123000
DTEND;TZID=America/Regina:20190630T190000
DTSTAMP:20260422T162507
CREATED:20190521T223205Z
LAST-MODIFIED:20190521T223218Z
UID:10000528-1561897800-1561921200@canora.com
SUMMARY:Gus Wolos Give-R-Go Classic
DESCRIPTION:Call the Canora Golf Club for details. \nGolf
URL:https://canora.com/event/gus-wolos-give-r-go-classic/
LOCATION:Activity Centre (Golf Course)\, 333 Canora Avenue\, Canora\, SK\, S0A 0L0\, Canada
ORGANIZER;CN="Canora Golf Club":MAILTO:canoragolfclub@gmail.com
GEO:51.6341203;-102.4255996
X-APPLE-STRUCTURED-LOCATION;VALUE=URI;X-ADDRESS=Activity Centre (Golf Course) 333 Canora Avenue Canora SK S0A 0L0 Canada;X-APPLE-RADIUS=500;X-TITLE=333 Canora Avenue:geo:-102.4255996,51.6341203
END:VEVENT
BEGIN:VEVENT
DTSTART;TZID=America/Regina:20190703T100000
DTEND;TZID=America/Regina:20190703T160000
DTSTAMP:20260422T162507
CREATED:20190410T172737Z
LAST-MODIFIED:20190410T172737Z
UID:10000518-1562148000-1562169600@canora.com
SUMMARY:Visitor Centre & CN Museum Opening Day
DESCRIPTION:Canora's Visitor Centre & CN Museum is open for the season on July 3rd! \nThe museum is located at 100 Railway Avenue along Highway No. 5\nThe facility is the oldest Class 3 railway station still operating in Saskatchewan and displays CN Rail memorabilia\, pioneer artifacts\, local art and souvenirs as well as tourist information. \nThe season runs until August 30th.
URL:https://canora.com/event/visitor-centre-cn-museum-opening-day/
LOCATION:Visitors Centre & CN Museum\, 100 Railway Avenue\, Canora
ORGANIZER;CN="Tourism Committee":MAILTO:cdo.canora@sasktel.net
GEO:51.6372416;-102.4366927
X-APPLE-STRUCTURED-LOCATION;VALUE=URI;X-ADDRESS=Visitors Centre & CN Museum 100 Railway Avenue Canora;X-APPLE-RADIUS=500;X-TITLE=100 Railway Avenue:geo:-102.4366927,51.6372416
END:VEVENT
BEGIN:VEVENT
DTSTART;TZID=America/Regina:20190704T100000
DTEND;TZID=America/Regina:20190704T160000
DTSTAMP:20260422T162507
CREATED:20190410T170824Z
LAST-MODIFIED:20190410T170824Z
UID:10000509-1562234400-1562256000@canora.com
SUMMARY:Canora's Farmer's Market
DESCRIPTION:Meet and buy from local producers and makers every Thursday this summer at the Visitor Centre & CN Museum\, starting July 4th and running until August 29th. \nThe Vendor Application form is available below: \nFarmer's Market Vendor Application \nAll vendors should complete and submit an application before the Farmer's Market begins.\nEvery vendor must have a completed application on file to participate in the Farmer's Market.  \nEvery vendor must also follow all requirements\, including public health.\nIt is the responsibility of the vendor to inform themselves and meet these requirements. \nPlease contact Community Development at (306) 563 - 5574 or email cdo.canora@sasktel.net if you have any questions
URL:https://canora.com/event/canoras-farmers-market/2019-07-04/
LOCATION:Visitors Centre & CN Museum\, 100 Railway Avenue\, Canora
ORGANIZER;CN="Community Development":MAILTO:cdo.canora@sasktel.net
GEO:51.6372416;-102.4366927
X-APPLE-STRUCTURED-LOCATION;VALUE=URI;X-ADDRESS=Visitors Centre & CN Museum 100 Railway Avenue Canora;X-APPLE-RADIUS=500;X-TITLE=100 Railway Avenue:geo:-102.4366927,51.6372416
END:VEVENT
BEGIN:VEVENT
DTSTART;TZID=America/Regina:20190708T090000
DTEND;TZID=America/Regina:20190708T170000
DTSTAMP:20260422T162507
CREATED:20190212T220520Z
LAST-MODIFIED:20190212T221120Z
UID:10000476-1562576400-1562605200@canora.com
SUMMARY:Basketball Day Camp
DESCRIPTION:
URL:https://canora.com/event/basketball-day-camps/2019-07-08/
LOCATION:Canora Composite School\, Canora\, SK\, S0A 0L0\, Canada
ORGANIZER;CN="Canora Leisure Services":MAILTO:leisure.canora@sasktel.net
END:VEVENT
BEGIN:VEVENT
DTSTART;TZID=America/Regina:20190709T090000
DTEND;TZID=America/Regina:20190709T170000
DTSTAMP:20260422T162507
CREATED:20190212T220520Z
LAST-MODIFIED:20190212T221120Z
UID:10000477-1562662800-1562691600@canora.com
SUMMARY:Basketball Day Camp
DESCRIPTION:
URL:https://canora.com/event/basketball-day-camps/2019-07-09/
LOCATION:Canora Composite School\, Canora\, SK\, S0A 0L0\, Canada
ORGANIZER;CN="Canora Leisure Services":MAILTO:leisure.canora@sasktel.net
END:VEVENT
BEGIN:VEVENT
DTSTART;TZID=America/Regina:20190710T090000
DTEND;TZID=America/Regina:20190710T170000
DTSTAMP:20260422T162507
CREATED:20190212T220520Z
LAST-MODIFIED:20190212T221120Z
UID:10000478-1562749200-1562778000@canora.com
SUMMARY:Basketball Day Camp
DESCRIPTION:
URL:https://canora.com/event/basketball-day-camps/2019-07-10/
LOCATION:Canora Composite School\, Canora\, SK\, S0A 0L0\, Canada
ORGANIZER;CN="Canora Leisure Services":MAILTO:leisure.canora@sasktel.net
END:VEVENT
BEGIN:VEVENT
DTSTART;TZID=America/Regina:20190711T090000
DTEND;TZID=America/Regina:20190711T170000
DTSTAMP:20260422T162507
CREATED:20190212T220520Z
LAST-MODIFIED:20190212T221120Z
UID:10000479-1562835600-1562864400@canora.com
SUMMARY:Basketball Day Camp
DESCRIPTION:
URL:https://canora.com/event/basketball-day-camps/2019-07-11/
LOCATION:Canora Composite School\, Canora\, SK\, S0A 0L0\, Canada
ORGANIZER;CN="Canora Leisure Services":MAILTO:leisure.canora@sasktel.net
END:VEVENT
BEGIN:VEVENT
DTSTART;TZID=America/Regina:20190711T100000
DTEND;TZID=America/Regina:20190711T160000
DTSTAMP:20260422T162507
CREATED:20190410T170824Z
LAST-MODIFIED:20190410T170824Z
UID:10000510-1562839200-1562860800@canora.com
SUMMARY:Canora's Farmer's Market
DESCRIPTION:Meet and buy from local producers and makers every Thursday this summer at the Visitor Centre & CN Museum\, starting July 4th and running until August 29th. \nThe Vendor Application form is available below: \nFarmer's Market Vendor Application \nAll vendors should complete and submit an application before the Farmer's Market begins.\nEvery vendor must have a completed application on file to participate in the Farmer's Market.  \nEvery vendor must also follow all requirements\, including public health.\nIt is the responsibility of the vendor to inform themselves and meet these requirements. \nPlease contact Community Development at (306) 563 - 5574 or email cdo.canora@sasktel.net if you have any questions
URL:https://canora.com/event/canoras-farmers-market/2019-07-11/
LOCATION:Visitors Centre & CN Museum\, 100 Railway Avenue\, Canora
ORGANIZER;CN="Community Development":MAILTO:cdo.canora@sasktel.net
GEO:51.6372416;-102.4366927
X-APPLE-STRUCTURED-LOCATION;VALUE=URI;X-ADDRESS=Visitors Centre & CN Museum 100 Railway Avenue Canora;X-APPLE-RADIUS=500;X-TITLE=100 Railway Avenue:geo:-102.4366927,51.6372416
END:VEVENT
BEGIN:VEVENT
DTSTART;TZID=America/Regina:20190712T090000
DTEND;TZID=America/Regina:20190712T170000
DTSTAMP:20260422T162507
CREATED:20190212T220520Z
LAST-MODIFIED:20190212T221120Z
UID:10000480-1562922000-1562950800@canora.com
SUMMARY:Basketball Day Camp
DESCRIPTION:
URL:https://canora.com/event/basketball-day-camps/2019-07-12/
LOCATION:Canora Composite School\, Canora\, SK\, S0A 0L0\, Canada
ORGANIZER;CN="Canora Leisure Services":MAILTO:leisure.canora@sasktel.net
END:VEVENT
BEGIN:VEVENT
DTSTART;VALUE=DATE:20190714
DTEND;VALUE=DATE:20190715
DTSTAMP:20260422T162507
CREATED:20190221T194654Z
LAST-MODIFIED:20190628T230025Z
UID:10000488-1563062400-1563148799@canora.com
SUMMARY:Canora Hole-In-One Tournament
DESCRIPTION:
URL:https://canora.com/event/canora-hole-in-one-tournament/
LOCATION:Activity Centre (Golf Course)\, 333 Canora Avenue\, Canora\, SK\, S0A 0L0\, Canada
ORGANIZER;CN="Canora Golf Club":MAILTO:canoragolfclub@gmail.com
GEO:51.6341203;-102.4255996
X-APPLE-STRUCTURED-LOCATION;VALUE=URI;X-ADDRESS=Activity Centre (Golf Course) 333 Canora Avenue Canora SK S0A 0L0 Canada;X-APPLE-RADIUS=500;X-TITLE=333 Canora Avenue:geo:-102.4255996,51.6341203
END:VEVENT
BEGIN:VEVENT
DTSTART;TZID=America/Regina:20190714T080000
DTEND;TZID=America/Regina:20190721T170000
DTSTAMP:20260422T162507
CREATED:20190702T164052Z
LAST-MODIFIED:20190702T164440Z
UID:10000539-1563091200-1563728400@canora.com
SUMMARY:2019 CANORA IN BLOOM SCHEDULE
DESCRIPTION:
URL:https://canora.com/event/2019-canora-in-bloom-schedule/
LOCATION:Saskatchewan
END:VEVENT
BEGIN:VEVENT
DTSTART;TZID=America/Regina:20190715T133000
DTEND;TZID=America/Regina:20190715T153000
DTSTAMP:20260422T162507
CREATED:20190522T212727Z
LAST-MODIFIED:20190529T172900Z
UID:10000533-1563197400-1563204600@canora.com
SUMMARY:Water Polo!
DESCRIPTION:Water Polo Sask is coming to Canora to implement a program during Canora in Bloom. \nThe pool will take registrations for youth ages 9  and up looking to participate. If we take enough registrations we will divide the sessions into to two groups at different times (1:30pm & 2:30pm) \nhttps://canora.com/water-polo/
URL:https://canora.com/event/water-polo/
LOCATION:Canora Swimming Pool\, 928 3rd St\, Canora\, Saskatchewan\, S0A 0L0\, Canada
ORGANIZER;CN="Canora Leisure Services":MAILTO:leisure.canora@sasktel.net
END:VEVENT
BEGIN:VEVENT
DTSTART;TZID=America/Regina:20190716T180000
DTEND;TZID=America/Regina:20190716T210000
DTSTAMP:20260422T162507
CREATED:20190704T161312Z
LAST-MODIFIED:20190704T161312Z
UID:10000540-1563300000-1563310800@canora.com
SUMMARY:Fun Night
DESCRIPTION:The Town of Canora is sponsoring "Fun Night" at the golf course during Canora In Bloom. Grab a partner\, book a cart\, and enjoy a night out!
URL:https://canora.com/event/fun-night/
LOCATION:Activity Centre (Golf Course)\, 333 Canora Avenue\, Canora\, SK\, S0A 0L0\, Canada
ORGANIZER;CN="Canora Leisure Services":MAILTO:leisure.canora@sasktel.net
GEO:51.6341203;-102.4255996
X-APPLE-STRUCTURED-LOCATION;VALUE=URI;X-ADDRESS=Activity Centre (Golf Course) 333 Canora Avenue Canora SK S0A 0L0 Canada;X-APPLE-RADIUS=500;X-TITLE=333 Canora Avenue:geo:-102.4255996,51.6341203
END:VEVENT
BEGIN:VEVENT
DTSTART;VALUE=DATE:20190717
DTEND;VALUE=DATE:20190718
DTSTAMP:20260422T162507
CREATED:20190614T143919Z
LAST-MODIFIED:20190614T143919Z
UID:10000536-1563321600-1563407999@canora.com
SUMMARY:
DESCRIPTION:Crossroads Credit Union\, Gateway Co-op\, and Leisure Services invite you to enjoy at day at the pool. Come for a hot dog\, cupcake\, and a ride on the water slide!
URL:https://canora.com/event/11040/
LOCATION:Canora Swimming Pool\, 928 3rd St\, Canora\, Saskatchewan\, S0A 0L0\, Canada
ORGANIZER;CN="Canora Leisure Services":MAILTO:leisure.canora@sasktel.net
END:VEVENT
BEGIN:VEVENT
DTSTART;TZID=America/Regina:20190717T133000
DTEND;TZID=America/Regina:20190717T153000
DTSTAMP:20260422T162507
CREATED:20190613T205336Z
LAST-MODIFIED:20190708T161443Z
UID:10000535-1563370200-1563377400@canora.com
SUMMARY:Pool Party
DESCRIPTION:Crossroads Credit Union\, Gateway Co-op\, and Canora Leisure Services are preparing a day of fun at the pool. \nSponsored hot dog BBQ\, Cupcakes\, and a water slide. \n \n  \n 
URL:https://canora.com/event/pool-party-2/
LOCATION:Canora Swimming Pool\, 928 3rd St\, Canora\, Saskatchewan\, S0A 0L0\, Canada
ORGANIZER;CN="Canora Leisure Services":MAILTO:leisure.canora@sasktel.net
END:VEVENT
END:VCALENDAR