BEGIN:VCALENDAR
VERSION:2.0
PRODID:-//Town of Canora - ECPv6.15.17//NONSGML v1.0//EN
CALSCALE:GREGORIAN
METHOD:PUBLISH
X-WR-CALNAME:Town of Canora
X-ORIGINAL-URL:https://canora.com
X-WR-CALDESC:Events for Town of Canora
REFRESH-INTERVAL;VALUE=DURATION:PT1H
X-Robots-Tag:noindex
X-PUBLISHED-TTL:PT1H
BEGIN:VTIMEZONE
TZID:America/Regina
BEGIN:STANDARD
TZOFFSETFROM:-0600
TZOFFSETTO:-0600
TZNAME:CST
DTSTART:20170101T000000
END:STANDARD
END:VTIMEZONE
BEGIN:VEVENT
DTSTART;TZID=America/Regina:20181013T133000
DTEND;TZID=America/Regina:20181013T153000
DTSTAMP:20260421T185940
CREATED:20180912T192913Z
LAST-MODIFIED:20180912T192913Z
UID:10000267-1539437400-1539444600@canora.com
SUMMARY:October Pie & Coffee
DESCRIPTION:Drop by the Canora Hospital Dining Room for Pie & Coffee. \nSponsored by the Canora Hospital Auxiliary.
URL:https://canora.com/event/october-pie-coffee/
LOCATION:Canora Hospital Dining Room
END:VEVENT
BEGIN:VEVENT
DTSTART;TZID=America/Regina:20181015T183000
DTEND;TZID=America/Regina:20181015T210000
DTSTAMP:20260421T185940
CREATED:20180918T152943Z
LAST-MODIFIED:20180918T152943Z
UID:10000282-1539628200-1539637200@canora.com
SUMMARY:Conversational Ukrainian
DESCRIPTION:Interactive 18 hour course on Mondays \nTuition $225 + GST \nRegister by Oct. 1 \n(306) 563-6808 \nContact Betty for any questions
URL:https://canora.com/event/conversational-ukrainian/
LOCATION:Parkland College
END:VEVENT
BEGIN:VEVENT
DTSTART;TZID=America/Regina:20181016T190000
DTEND;TZID=America/Regina:20181016T220000
DTSTAMP:20260421T185940
CREATED:20180919T203327Z
LAST-MODIFIED:20190611T152640Z
UID:10000285-1539716400-1539727200@canora.com
SUMMARY:Town Council Meeting
DESCRIPTION:Town Council conducts its regular meetings on the 1st and 3rd Tuesday of every month. \nThe meeting takes place at the Town Office and begins at 7 pm. \nIf you would like to have a delegation attend a council meeting\, please submit your request by 12 pm (noon) on the Friday before the council meeting.\nSubmitting requests early assists Town Council and Administration.
URL:https://canora.com/event/town-council-meeting/2018-10-16/
LOCATION:Town Office\, 418 Main Street\, Canora\, SK\, S0A 0L0\, Canada
END:VEVENT
BEGIN:VEVENT
DTSTART;TZID=America/Regina:20181019T093000
DTEND;TZID=America/Regina:20181019T120000
DTSTAMP:20260421T185940
CREATED:20180912T194006Z
LAST-MODIFIED:20180912T194006Z
UID:10000269-1539941400-1539950400@canora.com
SUMMARY:LiveWell with Chronic Conditions
DESCRIPTION:
URL:https://canora.com/event/livewell-with-chronic-conditions/2018-10-19/
LOCATION:Canora Hospital\, 1219 Main St.\, Canora\, SK\, S0A 0L0\, Canada
GEO:51.6255604;-102.4408497
X-APPLE-STRUCTURED-LOCATION;VALUE=URI;X-ADDRESS=Canora Hospital 1219 Main St. Canora SK S0A 0L0 Canada;X-APPLE-RADIUS=500;X-TITLE=1219 Main St.:geo:-102.4408497,51.6255604
END:VEVENT
BEGIN:VEVENT
DTSTART;TZID=America/Regina:20181020T193000
DTEND;TZID=America/Regina:20181020T233000
DTSTAMP:20260421T185940
CREATED:20181003T191203Z
LAST-MODIFIED:20181003T191203Z
UID:10000433-1540063800-1540078200@canora.com
SUMMARY:Canora Seniors Dance
DESCRIPTION:The Canora Seniors Dance is taking place on October 20th\, from 7:30 pm to 11:30 pm\, at the Ukrainian Catholic Hall. \n\nPotluck Lunch\nMusic by Zayshley's\n\n$10 per person \nFor more information\, contact Ernie Kozak at (306) 563 - 5224 or Dave Popowich at (306) 563 - 5001 \n 
URL:https://canora.com/event/canora-seniors-dance-8/
LOCATION:Ukrainian Catholic Hall\, 229 5th Avenue West\, Canora\, SK\, S0A 0L0\, Canada
END:VEVENT
BEGIN:VEVENT
DTSTART;TZID=America/Regina:20181023T193000
DTEND;TZID=America/Regina:20181023T193000
DTSTAMP:20260421T185940
CREATED:20180905T144459Z
LAST-MODIFIED:20180905T190256Z
UID:10000263-1540323000-1540323000@canora.com
SUMMARY:Ghostboy
DESCRIPTION:http://ghostboymusic.com/ \nThe Canora Arts Council presents; The Stars For Saskatchewan Concert Series. Three dates and three different performing artists.
URL:https://canora.com/event/ghost-boy/
LOCATION:Canora Composite School\, Canora\, SK\, S0A 0L0\, Canada
END:VEVENT
BEGIN:VEVENT
DTSTART;TZID=America/Regina:20181026T093000
DTEND;TZID=America/Regina:20181026T120000
DTSTAMP:20260421T185940
CREATED:20180912T194006Z
LAST-MODIFIED:20180912T194006Z
UID:10000270-1540546200-1540555200@canora.com
SUMMARY:LiveWell with Chronic Conditions
DESCRIPTION:
URL:https://canora.com/event/livewell-with-chronic-conditions/2018-10-26/
LOCATION:Canora Hospital\, 1219 Main St.\, Canora\, SK\, S0A 0L0\, Canada
GEO:51.6255604;-102.4408497
X-APPLE-STRUCTURED-LOCATION;VALUE=URI;X-ADDRESS=Canora Hospital 1219 Main St. Canora SK S0A 0L0 Canada;X-APPLE-RADIUS=500;X-TITLE=1219 Main St.:geo:-102.4408497,51.6255604
END:VEVENT
BEGIN:VEVENT
DTSTART;TZID=America/Regina:20181028T160000
DTEND;TZID=America/Regina:20181028T183000
DTSTAMP:20260421T185940
CREATED:20181009T145336Z
LAST-MODIFIED:20181009T145336Z
UID:10000434-1540742400-1540751400@canora.com
SUMMARY:St. Joseph's Fall Supper
DESCRIPTION:
URL:https://canora.com/event/st-josephs-fall-supper-2/
LOCATION:St. Joseph’s Catholic Church\, 201 4th Avenue East\, Canora\, Saskatchewan\, S0A 0L0\, Canada
GEO:51.6343703;-102.4401175
X-APPLE-STRUCTURED-LOCATION;VALUE=URI;X-ADDRESS=St. Joseph’s Catholic Church 201 4th Avenue East Canora Saskatchewan S0A 0L0 Canada;X-APPLE-RADIUS=500;X-TITLE=201 4th Avenue East:geo:-102.4401175,51.6343703
END:VEVENT
BEGIN:VEVENT
DTSTART;TZID=America/Regina:20181102T093000
DTEND;TZID=America/Regina:20181102T120000
DTSTAMP:20260421T185940
CREATED:20180912T194006Z
LAST-MODIFIED:20180912T194006Z
UID:10000271-1541151000-1541160000@canora.com
SUMMARY:LiveWell with Chronic Conditions
DESCRIPTION:
URL:https://canora.com/event/livewell-with-chronic-conditions/2018-11-02/
LOCATION:Canora Hospital\, 1219 Main St.\, Canora\, SK\, S0A 0L0\, Canada
GEO:51.6255604;-102.4408497
X-APPLE-STRUCTURED-LOCATION;VALUE=URI;X-ADDRESS=Canora Hospital 1219 Main St. Canora SK S0A 0L0 Canada;X-APPLE-RADIUS=500;X-TITLE=1219 Main St.:geo:-102.4408497,51.6255604
END:VEVENT
BEGIN:VEVENT
DTSTART;TZID=America/Regina:20181103T193000
DTEND;TZID=America/Regina:20181103T233000
DTSTAMP:20260421T185940
CREATED:20181025T213734Z
LAST-MODIFIED:20181025T213734Z
UID:10000454-1541273400-1541287800@canora.com
SUMMARY:Senior's Dance
DESCRIPTION:
URL:https://canora.com/event/seniors-dance-3/
LOCATION:Ukrainian Catholic Hall\, 229 5th Avenue West\, Canora\, SK\, S0A 0L0\, Canada
END:VEVENT
BEGIN:VEVENT
DTSTART;TZID=America/Regina:20181109T093000
DTEND;TZID=America/Regina:20181109T120000
DTSTAMP:20260421T185940
CREATED:20180912T194006Z
LAST-MODIFIED:20180912T194006Z
UID:10000272-1541755800-1541764800@canora.com
SUMMARY:LiveWell with Chronic Conditions
DESCRIPTION:
URL:https://canora.com/event/livewell-with-chronic-conditions/2018-11-09/
LOCATION:Canora Hospital\, 1219 Main St.\, Canora\, SK\, S0A 0L0\, Canada
GEO:51.6255604;-102.4408497
X-APPLE-STRUCTURED-LOCATION;VALUE=URI;X-ADDRESS=Canora Hospital 1219 Main St. Canora SK S0A 0L0 Canada;X-APPLE-RADIUS=500;X-TITLE=1219 Main St.:geo:-102.4408497,51.6255604
END:VEVENT
BEGIN:VEVENT
DTSTART;VALUE=DATE:20181111
DTEND;VALUE=DATE:20181112
DTSTAMP:20260421T185940
CREATED:20181108T151939Z
LAST-MODIFIED:20181108T151939Z
UID:10000457-1541894400-1541980799@canora.com
SUMMARY:Remembrance Day
DESCRIPTION:
URL:https://canora.com/event/remembrance-day/
LOCATION:Canora Town Office\, 418 Main Street\, Canora\, SK\, S0A 0L0\, Canada
END:VEVENT
BEGIN:VEVENT
DTSTART;TZID=America/Regina:20181114T190000
DTEND;TZID=America/Regina:20181114T210000
DTSTAMP:20260421T185940
CREATED:20181009T214830Z
LAST-MODIFIED:20181009T214830Z
UID:10000435-1542222000-1542229200@canora.com
SUMMARY:RCMP Town Hall Meeting
DESCRIPTION:
URL:https://canora.com/event/rcmp-town-hall-meeting/
LOCATION:Golf Course\, 333 Canora Ave. \, Canora\, Saskatchewan\, S0A 0L0\, Canada
END:VEVENT
BEGIN:VEVENT
DTSTART;TZID=America/Regina:20181116T093000
DTEND;TZID=America/Regina:20181116T120000
DTSTAMP:20260421T185940
CREATED:20180912T194006Z
LAST-MODIFIED:20180912T194006Z
UID:10000273-1542360600-1542369600@canora.com
SUMMARY:LiveWell with Chronic Conditions
DESCRIPTION:
URL:https://canora.com/event/livewell-with-chronic-conditions/2018-11-16/
LOCATION:Canora Hospital\, 1219 Main St.\, Canora\, SK\, S0A 0L0\, Canada
GEO:51.6255604;-102.4408497
X-APPLE-STRUCTURED-LOCATION;VALUE=URI;X-ADDRESS=Canora Hospital 1219 Main St. Canora SK S0A 0L0 Canada;X-APPLE-RADIUS=500;X-TITLE=1219 Main St.:geo:-102.4408497,51.6255604
END:VEVENT
BEGIN:VEVENT
DTSTART;TZID=America/Regina:20181117T193000
DTEND;TZID=America/Regina:20181117T193000
DTSTAMP:20260421T185940
CREATED:20181018T221758Z
LAST-MODIFIED:20181102T224507Z
UID:10000436-1542483000-1542483000@canora.com
SUMMARY:Yorkton Terriers VS Estevan Bruins
DESCRIPTION:The SJHL is coming to Canora!\nCanora Minor Hockey is partnering up with the Yorkton Terriers to bring junior hockey to the Civic Centre on November 17th\, 2018. Door open at 6:00pm.\nTickets will be on sale at Community Insurance and the Canora Town Office.\nAdvance tickets $12.00\nDoor Tickets $15.00\nOnly 400 advance tickets sold.\nGuaranteed $1000.00 50/50 take home!\nServices include food and beverage sales. Come check out what Canora Civic Centre can offer you in November. See you there!\n\n \n 
URL:https://canora.com/event/yorkton-terriers-vs-estevan-bruins/
LOCATION:Canora Civic Centre\, 711 Main Street\, Canora\, Saskatchewan\, S0A 0L0\, Canada
GEO:51.6315739;-102.4386783
X-APPLE-STRUCTURED-LOCATION;VALUE=URI;X-ADDRESS=Canora Civic Centre 711 Main Street Canora Saskatchewan S0A 0L0 Canada;X-APPLE-RADIUS=500;X-TITLE=711 Main Street:geo:-102.4386783,51.6315739
END:VEVENT
BEGIN:VEVENT
DTSTART;TZID=America/Regina:20181120T190000
DTEND;TZID=America/Regina:20181120T220000
DTSTAMP:20260421T185940
CREATED:20180919T203327Z
LAST-MODIFIED:20190611T152640Z
UID:10000286-1542740400-1542751200@canora.com
SUMMARY:Town Council Meeting
DESCRIPTION:Town Council conducts its regular meetings on the 1st and 3rd Tuesday of every month. \nThe meeting takes place at the Town Office and begins at 7 pm. \nIf you would like to have a delegation attend a council meeting\, please submit your request by 12 pm (noon) on the Friday before the council meeting.\nSubmitting requests early assists Town Council and Administration.
URL:https://canora.com/event/town-council-meeting/2018-11-20/
LOCATION:Town Office\, 418 Main Street\, Canora\, SK\, S0A 0L0\, Canada
END:VEVENT
BEGIN:VEVENT
DTSTART;TZID=America/Regina:20181120T193000
DTEND;TZID=America/Regina:20181120T193000
DTSTAMP:20260421T185940
CREATED:20180905T144737Z
LAST-MODIFIED:20180905T151218Z
UID:10000264-1542742200-1542742200@canora.com
SUMMARY:Pretty Archie
DESCRIPTION:The Canora Arts Council presents; The Stars For Saskatchewan Concert Series. Three dates and three different performing artists.
URL:https://canora.com/event/pretty-archie/
LOCATION:Canora Composite School\, Canora\, SK\, S0A 0L0\, Canada
END:VEVENT
BEGIN:VEVENT
DTSTART;TZID=America/Regina:20181121T180000
DTEND;TZID=America/Regina:20181121T180000
DTSTAMP:20260421T185940
CREATED:20181113T204716Z
LAST-MODIFIED:20181113T204753Z
UID:10000459-1542823200-1542823200@canora.com
SUMMARY:Cyber Safety & Digital Citizenship
DESCRIPTION:Keeping Kids Safe in the social Media & cell phone age.\nWill be discussed by Canora RCMP & school administrators.
URL:https://canora.com/event/cyber-safety-digital-citizenship/
LOCATION:CCS Student Centre
END:VEVENT
BEGIN:VEVENT
DTSTART;TZID=America/Regina:20181122T130000
DTEND;TZID=America/Regina:20181122T163000
DTSTAMP:20260421T185940
CREATED:20181106T192751Z
LAST-MODIFIED:20181106T192751Z
UID:10000455-1542891600-1542904200@canora.com
SUMMARY:Learn All About Health Services
DESCRIPTION:Canora's Hospital Auxiliary will be discussing: \n\nHome Care Services\nLong Term Care\nLifeline\nAdvanced Care Directive\nPill Packaging\nPharmacy Services\nFoot Care\nActive Ageing\nBlood pressure and Blood Glucose Monitoring\nRed Cross Friendly Visiting Program\nVolunteering \n\nFor more information contact Lorie Wasyliw at (306) 563 - 6317\, (306) 563 - 7272 or email lorlynwas@sasktel.net. \nCanora's Hospital Auxiliary looks forward to discussing these topics with you!
URL:https://canora.com/event/learn-all-about-health-services/
LOCATION:Keen Age Centre\, 409 Main St.\, Canora\, SK\, S0A 0L0\, Canada
END:VEVENT
BEGIN:VEVENT
DTSTART;TZID=America/Regina:20181122T160000
DTEND;TZID=America/Regina:20181122T183000
DTSTAMP:20260421T185940
CREATED:20181113T201717Z
LAST-MODIFIED:20181113T201717Z
UID:10000458-1542902400-1542911400@canora.com
SUMMARY:Perogie & Sausage Supper
DESCRIPTION:
URL:https://canora.com/event/perogie-sausage-supper-3/
LOCATION:Rainbow Hall\, 203 1st Avenue E\, Canora
END:VEVENT
BEGIN:VEVENT
DTSTART;TZID=America/Regina:20181122T190000
DTEND;TZID=America/Regina:20181122T200000
DTSTAMP:20260421T185940
CREATED:20181108T150131Z
LAST-MODIFIED:20181108T150131Z
UID:10000456-1542913200-1542916800@canora.com
SUMMARY:Bert McNair: Under the Living Skies
DESCRIPTION:Hosted by the Canora Public Library
URL:https://canora.com/event/bert-mcnair-under-the-living-skies/
LOCATION:Canora Library
END:VEVENT
BEGIN:VEVENT
DTSTART;TZID=America/Regina:20181124T150000
DTEND;TZID=America/Regina:20181124T210000
DTSTAMP:20260421T185940
CREATED:20180920T174503Z
LAST-MODIFIED:20181119T171406Z
UID:10000429-1543071600-1543093200@canora.com
SUMMARY:Winter Lights Festival - Grinchmas in Canora
DESCRIPTION:
URL:https://canora.com/event/winter-lights-festival-grinchmas-in-canora/
LOCATION:726 Main St.\, 726 Main Street\, Canora\, Saskatchewan\, S0A 0L0\, Canada
GEO:51.6312841;-102.4388147
X-APPLE-STRUCTURED-LOCATION;VALUE=URI;X-ADDRESS=726 Main St. 726 Main Street Canora Saskatchewan S0A 0L0 Canada;X-APPLE-RADIUS=500;X-TITLE=726 Main Street:geo:-102.4388147,51.6312841
END:VEVENT
BEGIN:VEVENT
DTSTART;TZID=America/Regina:20181125T100000
DTEND;TZID=America/Regina:20181125T133000
DTSTAMP:20260421T185940
CREATED:20181022T202654Z
LAST-MODIFIED:20181022T202654Z
UID:10000437-1543140000-1543152600@canora.com
SUMMARY:Winter Lights Festival - Pancake Breakfast with Santa
DESCRIPTION:Hosted by the Lioness Club at the Activity Centre. \nFrom 10 am to 1:30 pm on November 25th \n5 years old & Under - $2\n5 to 12 years old - $5\n13 years old and Up - $7.
URL:https://canora.com/event/winter-lights-festival-pancake-breakfast-with-santa/
LOCATION:Activity Centre (Golf Course)\, 333 Canora Avenue\, Canora\, SK\, S0A 0L0\, Canada
GEO:51.6341203;-102.4255996
X-APPLE-STRUCTURED-LOCATION;VALUE=URI;X-ADDRESS=Activity Centre (Golf Course) 333 Canora Avenue Canora SK S0A 0L0 Canada;X-APPLE-RADIUS=500;X-TITLE=333 Canora Avenue:geo:-102.4255996,51.6341203
END:VEVENT
BEGIN:VEVENT
DTSTART;TZID=America/Regina:20181126T180000
DTEND;TZID=America/Regina:20181126T200000
DTSTAMP:20260421T185940
CREATED:20181022T202944Z
LAST-MODIFIED:20181022T202944Z
UID:10000438-1543255200-1543262400@canora.com
SUMMARY:Winter Lights Festival - Sleigh Rides
DESCRIPTION:Sponsored by Nutrien Ag Solutions at the CN Museum / Visitor Centre \nFrom 6 pm to 8 pm
URL:https://canora.com/event/winter-lights-festival-sleigh-rides/
LOCATION:Visitors Centre & CN Museum\, 100 Railway Avenue\, Canora
GEO:51.6372416;-102.4366927
X-APPLE-STRUCTURED-LOCATION;VALUE=URI;X-ADDRESS=Visitors Centre & CN Museum 100 Railway Avenue Canora;X-APPLE-RADIUS=500;X-TITLE=100 Railway Avenue:geo:-102.4366927,51.6372416
END:VEVENT
BEGIN:VEVENT
DTSTART;TZID=America/Regina:20181127T133000
DTEND;TZID=America/Regina:20181127T163000
DTSTAMP:20260421T185940
CREATED:20181022T203335Z
LAST-MODIFIED:20181022T203335Z
UID:10000439-1543325400-1543336200@canora.com
SUMMARY:Winter Lights Festival - Whist
DESCRIPTION:Hosted by the Keen Age Centre\, starting at 1:30 pm
URL:https://canora.com/event/winter-lights-festival-whist/
LOCATION:Keen Age Centre\, 409 Main St.\, Canora\, SK\, S0A 0L0\, Canada
END:VEVENT
BEGIN:VEVENT
DTSTART;TZID=America/Regina:20181127T170000
DTEND;TZID=America/Regina:20181127T200000
DTSTAMP:20260421T185940
CREATED:20181022T203647Z
LAST-MODIFIED:20181126T151014Z
UID:10000440-1543338000-1543348800@canora.com
SUMMARY:Winter Lights Festival - Winter Family Skate
DESCRIPTION:Come skate with a special guest and enjoy a cup of hot chocolate courtesy of Crossroads Credit Union! \nNo Charge \nSponsored by Crossroads Credit Union and Canora Leisure Services @ the Civic Centre. \nFrom 5 pm to 8 pm on November 27th
URL:https://canora.com/event/winter-lights-festival-winter-family-skate/
LOCATION:Canora Civic Centre\, 711 Main Street\, Canora\, Saskatchewan\, S0A 0L0\, Canada
GEO:51.6315739;-102.4386783
X-APPLE-STRUCTURED-LOCATION;VALUE=URI;X-ADDRESS=Canora Civic Centre 711 Main Street Canora Saskatchewan S0A 0L0 Canada;X-APPLE-RADIUS=500;X-TITLE=711 Main Street:geo:-102.4386783,51.6315739
END:VEVENT
BEGIN:VEVENT
DTSTART;TZID=America/Regina:20181127T183000
DTEND;TZID=America/Regina:20181127T203000
DTSTAMP:20260421T185940
CREATED:20181022T203929Z
LAST-MODIFIED:20181126T151550Z
UID:10000441-1543343400-1543350600@canora.com
SUMMARY:Winter Lights Festival - Teen Bingo (12+)
DESCRIPTION:For 12 years and older. \nLots of great prizes for the winner of each round. \nSponsored by Crossroads Credit Union and Canora Leisure Services @ the Civic Centre (Skating Rink). \nFrom 6:30 pm to 8:30 pm on November 27th. \n$5 per person includes bingo cards & food special.
URL:https://canora.com/event/winter-lights-festival-teen-bingo-12/
LOCATION:Canora Civic Centre\, 711 Main Street\, Canora\, Saskatchewan\, S0A 0L0\, Canada
GEO:51.6315739;-102.4386783
X-APPLE-STRUCTURED-LOCATION;VALUE=URI;X-ADDRESS=Canora Civic Centre 711 Main Street Canora Saskatchewan S0A 0L0 Canada;X-APPLE-RADIUS=500;X-TITLE=711 Main Street:geo:-102.4386783,51.6315739
END:VEVENT
BEGIN:VEVENT
DTSTART;TZID=America/Regina:20181128T110000
DTEND;TZID=America/Regina:20181128T160000
DTSTAMP:20260421T185940
CREATED:20181022T224603Z
LAST-MODIFIED:20181022T224603Z
UID:10000443-1543402800-1543420800@canora.com
SUMMARY:Winter Lights Festival - Nursery School Bake Sale
DESCRIPTION:Hosted by the Canora Nursery School from 11 am to 4 pm
URL:https://canora.com/event/winter-lights-festival-nursery-school-bake-sale/
LOCATION:Canora Nursery School
END:VEVENT
BEGIN:VEVENT
DTSTART;TZID=America/Regina:20181128T133000
DTEND;TZID=America/Regina:20181128T163000
DTSTAMP:20260421T185940
CREATED:20181022T224432Z
LAST-MODIFIED:20181022T224432Z
UID:10000442-1543411800-1543422600@canora.com
SUMMARY:Winter Lights Festival - Bingo
DESCRIPTION:Hosted by the Keen Age Centre at 1:30 pm
URL:https://canora.com/event/winter-lights-festival-bingo/
LOCATION:Keen Age Centre\, 409 Main St.\, Canora\, SK\, S0A 0L0\, Canada
END:VEVENT
BEGIN:VEVENT
DTSTART;TZID=America/Regina:20181128T190000
DTEND;TZID=America/Regina:20181128T220000
DTSTAMP:20260421T185940
CREATED:20181022T224752Z
LAST-MODIFIED:20181126T151804Z
UID:10000444-1543431600-1543442400@canora.com
SUMMARY:Winter Lights Festival - Family Movie Night
DESCRIPTION:Sponsored by Canora Leisure Services & the Gateway Co-op starting at 7 pm at the Rainbow Hall
URL:https://canora.com/event/winter-lights-festival-family-movie-night/
LOCATION:Rainbow Hall\, 203 1st Avenue E\, Canora
END:VEVENT
END:VCALENDAR