BEGIN:VCALENDAR
VERSION:2.0
PRODID:-//Town of Canora - ECPv6.15.17//NONSGML v1.0//EN
CALSCALE:GREGORIAN
METHOD:PUBLISH
X-WR-CALNAME:Town of Canora
X-ORIGINAL-URL:https://canora.com
X-WR-CALDESC:Events for Town of Canora
REFRESH-INTERVAL;VALUE=DURATION:PT1H
X-Robots-Tag:noindex
X-PUBLISHED-TTL:PT1H
BEGIN:VTIMEZONE
TZID:America/Regina
BEGIN:STANDARD
TZOFFSETFROM:-0600
TZOFFSETTO:-0600
TZNAME:CST
DTSTART:20150101T000000
END:STANDARD
END:VTIMEZONE
BEGIN:VEVENT
DTSTART;TZID=America/Regina:20160526T183000
DTEND;TZID=America/Regina:20160526T213000
DTSTAMP:20260420T003903
CREATED:20160429T190126Z
LAST-MODIFIED:20160429T190126Z
UID:10000047-1464287400-1464298200@canora.com
SUMMARY:Senior Baseball
DESCRIPTION:Canora Supers VS Russell Bulls
URL:https://canora.com/event/senior-baseball-3/
LOCATION:Saskatchewan
END:VEVENT
BEGIN:VEVENT
DTSTART;TZID=America/Regina:20160525T183000
DTEND;TZID=America/Regina:20160525T213000
DTSTAMP:20260420T003903
CREATED:20160429T185934Z
LAST-MODIFIED:20160429T185934Z
UID:10000051-1464201000-1464211800@canora.com
SUMMARY:Senior Baseball
DESCRIPTION:Canora Supers VS Swan River Reds
URL:https://canora.com/event/senior-baseball-2/
LOCATION:Saskatchewan
END:VEVENT
BEGIN:VEVENT
DTSTART;VALUE=DATE:20160524
DTEND;VALUE=DATE:20160525
DTSTAMP:20260420T003903
CREATED:20160519T202129Z
LAST-MODIFIED:20160519T202129Z
UID:10000010-1464048000-1464134399@canora.com
SUMMARY:Canora Golf and Country
DESCRIPTION:Fun Night \nTuesday May 24th \nSponsored by: CROSSROADS CREDIT UNION \nCome to the Golf Club and enjoy an evening of great friends\, great refreshments\, great food and great prizes! \nCost: \n$2 for members \n$10 for non members Plus food \nSign up at the clubhouse or call 306-563-4104 \n 
URL:https://canora.com/event/canora-golf-country/
LOCATION:Saskatchewan
END:VEVENT
BEGIN:VEVENT
DTSTART;TZID=America/Regina:20160517T181500
DTEND;TZID=America/Regina:20160517T210000
DTSTAMP:20260420T003903
CREATED:20160429T175733Z
LAST-MODIFIED:20160429T185931Z
UID:10000050-1463508900-1463518800@canora.com
SUMMARY:Senior Baseball
DESCRIPTION:Canora Supers VS Roblin Stars
URL:https://canora.com/event/senior-baseball/
LOCATION:Saskatchewan
END:VEVENT
BEGIN:VEVENT
DTSTART;VALUE=DATE:20160517
DTEND;VALUE=DATE:20160518
DTSTAMP:20260420T003903
CREATED:20160505T170729Z
LAST-MODIFIED:20160505T171556Z
UID:10000007-1463443200-1463529599@canora.com
SUMMARY:Fun Night Kick Off - Canora Golf and Country
DESCRIPTION:Sponsored by \nLabatt Brewing Co. \nGreat Fun! Great Refreshments! Great Food! Great Prizes! \nSign up at the Clubhouse \n 
URL:https://canora.com/event/fun-night-kick-off-canora-golf-country/
LOCATION:Activity Centre (Golf Course)\, 333 Canora Avenue\, Canora\, SK\, S0A 0L0\, Canada
GEO:51.6341203;-102.4255996
X-APPLE-STRUCTURED-LOCATION;VALUE=URI;X-ADDRESS=Activity Centre (Golf Course) 333 Canora Avenue Canora SK S0A 0L0 Canada;X-APPLE-RADIUS=500;X-TITLE=333 Canora Avenue:geo:-102.4255996,51.6341203
END:VEVENT
BEGIN:VEVENT
DTSTART;TZID=America/Regina:20160129T080000
DTEND;TZID=America/Regina:20160129T170000
DTSTAMP:20260420T003903
CREATED:20160805T192907Z
LAST-MODIFIED:20160129T193430Z
UID:10000029-1454054400-1454086800@canora.com
SUMMARY:Pensioners Prom 2016
DESCRIPTION:The Pensioners Prom 2016 is right around the corner. Don't forget to submit your registration ASAP! August 5\,6\,7 2016. Mail registrations to Pensioners Prom Box 1178 Canora\, Sk SOA OLO. For more info contact Darlene 563-6848 or Glen 563-6578. Register email addresses at pensionersprom@sasktel.net. The Pensioners Prom is open to all Pensioners who attended Canora Schools and the class of 1970! The registration amount is $60.00.
URL:https://canora.com/event/4803/
LOCATION:Saskatchewan
END:VEVENT
END:VCALENDAR