BEGIN:VCALENDAR
VERSION:2.0
PRODID:-//Town of Canora - ECPv6.15.17//NONSGML v1.0//EN
CALSCALE:GREGORIAN
METHOD:PUBLISH
X-WR-CALNAME:Town of Canora
X-ORIGINAL-URL:https://canora.com
X-WR-CALDESC:Events for Town of Canora
REFRESH-INTERVAL;VALUE=DURATION:PT1H
X-Robots-Tag:noindex
X-PUBLISHED-TTL:PT1H
BEGIN:VTIMEZONE
TZID:America/Regina
BEGIN:STANDARD
TZOFFSETFROM:-0600
TZOFFSETTO:-0600
TZNAME:CST
DTSTART:20200101T000000
END:STANDARD
END:VTIMEZONE
BEGIN:VEVENT
DTSTART;TZID=America/Regina:20210614T183000
DTEND;TZID=America/Regina:20210614T183000
DTSTAMP:20260423T175515
CREATED:20210607T205631Z
LAST-MODIFIED:20210607T205631Z
UID:10000733-1623695400-1623695400@canora.com
SUMMARY:Senior Baseball Game
DESCRIPTION:Canora Supers VS Parkland Pirates
URL:https://canora.com/event/senior-baseball-game/
LOCATION:Al Sapieha Field\, 1 Nelson Street\, Canora\, Saskatchewan\, S0A 0L0\, Canada
END:VEVENT
BEGIN:VEVENT
DTSTART;TZID=America/Regina:20210615T080000
DTEND;TZID=America/Regina:20210615T170000
DTSTAMP:20260423T175515
CREATED:20210603T221205Z
LAST-MODIFIED:20210615T192104Z
UID:10000730-1623744000-1623776400@canora.com
SUMMARY:15U Baseball Game
DESCRIPTION:Canora VS Preeceville \nDiamond #3
URL:https://canora.com/event/15-baseball-game/
LOCATION:Sports Grounds\, Canora\, Saskatchewan\, S0A 0L0\, Canada
END:VEVENT
BEGIN:VEVENT
DTSTART;TZID=America/Regina:20210615T160000
DTEND;TZID=America/Regina:20210615T210000
DTSTAMP:20260423T175515
CREATED:20210519T225806Z
LAST-MODIFIED:20210907T150050Z
UID:10000672-1623772800-1623790800@canora.com
SUMMARY:Fun Night Golf!
DESCRIPTION:Call ahead to book your tee time every Tuesday and enjoy a round with your favorite people. Cart rental and food is available at the club house.
URL:https://canora.com/event/fun-night-golf/2021-06-15/
LOCATION:Activity Centre (Golf Course)\, 333 Canora Avenue\, Canora\, SK\, S0A 0L0\, Canada
ORGANIZER;CN="Canora Golf Club":MAILTO:canoragolfclub@gmail.com
GEO:51.6341203;-102.4255996
X-APPLE-STRUCTURED-LOCATION;VALUE=URI;X-ADDRESS=Activity Centre (Golf Course) 333 Canora Avenue Canora SK S0A 0L0 Canada;X-APPLE-RADIUS=500;X-TITLE=333 Canora Avenue:geo:-102.4255996,51.6341203
END:VEVENT
BEGIN:VEVENT
DTSTART;TZID=America/Regina:20210615T190000
DTEND;TZID=America/Regina:20210615T220000
DTSTAMP:20260423T175515
CREATED:20180919T203327Z
LAST-MODIFIED:20190611T152640Z
UID:10000314-1623783600-1623794400@canora.com
SUMMARY:Town Council Meeting
DESCRIPTION:Town Council conducts its regular meetings on the 1st and 3rd Tuesday of every month. \nThe meeting takes place at the Town Office and begins at 7 pm. \nIf you would like to have a delegation attend a council meeting\, please submit your request by 12 pm (noon) on the Friday before the council meeting.\nSubmitting requests early assists Town Council and Administration.
URL:https://canora.com/event/town-council-meeting/2021-06-15/
LOCATION:Town Office\, 418 Main Street\, Canora\, SK\, S0A 0L0\, Canada
END:VEVENT
BEGIN:VEVENT
DTSTART;TZID=America/Regina:20210616T130000
DTEND;TZID=America/Regina:20210616T130000
DTSTAMP:20260423T175515
CREATED:20210603T220715Z
LAST-MODIFIED:20210603T220715Z
UID:10000693-1623848400-1623848400@canora.com
SUMMARY:Afternoon Seniors Golf
DESCRIPTION:Come out and join the group while enjoying Canora's fabulous golf course.
URL:https://canora.com/event/afternoon-seniors-golf/2021-06-16/
LOCATION:Activity Centre (Golf Course)\, 333 Canora Avenue\, Canora\, SK\, S0A 0L0\, Canada
ORGANIZER;CN="Canora Golf Club":MAILTO:canoragolfclub@gmail.com
GEO:51.6341203;-102.4255996
X-APPLE-STRUCTURED-LOCATION;VALUE=URI;X-ADDRESS=Activity Centre (Golf Course) 333 Canora Avenue Canora SK S0A 0L0 Canada;X-APPLE-RADIUS=500;X-TITLE=333 Canora Avenue:geo:-102.4255996,51.6341203
END:VEVENT
BEGIN:VEVENT
DTSTART;TZID=America/Regina:20210617T100000
DTEND;TZID=America/Regina:20210617T140000
DTSTAMP:20260423T175515
CREATED:20210513T150825Z
LAST-MODIFIED:20210608T214604Z
UID:10000645-1623924000-1623938400@canora.com
SUMMARY:Rainbow Hall Markets
DESCRIPTION:
URL:https://canora.com/event/rainbow-hall-markets-5/2021-06-17/
LOCATION:Rainbow Hall\, 203 1st Avenue E\, Canora
END:VEVENT
BEGIN:VEVENT
DTSTART;TZID=America/Regina:20210617T173000
DTEND;TZID=America/Regina:20210617T173000
DTSTAMP:20260423T175515
CREATED:20210513T151535Z
LAST-MODIFIED:20210923T212807Z
UID:10000652-1623951000-1623951000@canora.com
SUMMARY:Men's Night
DESCRIPTION:Every Thursday 5:45 pm \nCall the Pro Shop to reserve your spot (306) 563-4104 \n 
URL:https://canora.com/event/mens-night/2021-06-17/
LOCATION:Activity Centre (Golf Course)\, 333 Canora Avenue\, Canora\, SK\, S0A 0L0\, Canada
ORGANIZER;CN="Canora Golf Club":MAILTO:canoragolfclub@gmail.com
GEO:51.6341203;-102.4255996
X-APPLE-STRUCTURED-LOCATION;VALUE=URI;X-ADDRESS=Activity Centre (Golf Course) 333 Canora Avenue Canora SK S0A 0L0 Canada;X-APPLE-RADIUS=500;X-TITLE=333 Canora Avenue:geo:-102.4255996,51.6341203
END:VEVENT
BEGIN:VEVENT
DTSTART;TZID=America/Regina:20210620T160000
DTEND;TZID=America/Regina:20210620T180000
DTSTAMP:20260423T175515
CREATED:20210429T223913Z
LAST-MODIFIED:20210503T140823Z
UID:10000639-1624204800-1624212000@canora.com
SUMMARY:Father's Day Perogy Supper
DESCRIPTION:
URL:https://canora.com/event/fathers-day-perogy-supper/
LOCATION:Rainbow Hall\, 203 1st Avenue E\, Canora
END:VEVENT
BEGIN:VEVENT
DTSTART;TZID=America/Regina:20210621T130000
DTEND;TZID=America/Regina:20210621T130000
DTSTAMP:20260423T175515
CREATED:20210603T220715Z
LAST-MODIFIED:20210603T220715Z
UID:10000694-1624280400-1624280400@canora.com
SUMMARY:Afternoon Seniors Golf
DESCRIPTION:Come out and join the group while enjoying Canora's fabulous golf course.
URL:https://canora.com/event/afternoon-seniors-golf/2021-06-21/
LOCATION:Activity Centre (Golf Course)\, 333 Canora Avenue\, Canora\, SK\, S0A 0L0\, Canada
ORGANIZER;CN="Canora Golf Club":MAILTO:canoragolfclub@gmail.com
GEO:51.6341203;-102.4255996
X-APPLE-STRUCTURED-LOCATION;VALUE=URI;X-ADDRESS=Activity Centre (Golf Course) 333 Canora Avenue Canora SK S0A 0L0 Canada;X-APPLE-RADIUS=500;X-TITLE=333 Canora Avenue:geo:-102.4255996,51.6341203
END:VEVENT
BEGIN:VEVENT
DTSTART;TZID=America/Regina:20210622T160000
DTEND;TZID=America/Regina:20210622T210000
DTSTAMP:20260423T175515
CREATED:20210519T225806Z
LAST-MODIFIED:20210907T150050Z
UID:10000673-1624377600-1624395600@canora.com
SUMMARY:Fun Night Golf!
DESCRIPTION:Call ahead to book your tee time every Tuesday and enjoy a round with your favorite people. Cart rental and food is available at the club house.
URL:https://canora.com/event/fun-night-golf/2021-06-22/
LOCATION:Activity Centre (Golf Course)\, 333 Canora Avenue\, Canora\, SK\, S0A 0L0\, Canada
ORGANIZER;CN="Canora Golf Club":MAILTO:canoragolfclub@gmail.com
GEO:51.6341203;-102.4255996
X-APPLE-STRUCTURED-LOCATION;VALUE=URI;X-ADDRESS=Activity Centre (Golf Course) 333 Canora Avenue Canora SK S0A 0L0 Canada;X-APPLE-RADIUS=500;X-TITLE=333 Canora Avenue:geo:-102.4255996,51.6341203
END:VEVENT
BEGIN:VEVENT
DTSTART;TZID=America/Regina:20210622T180000
DTEND;TZID=America/Regina:20210622T200000
DTSTAMP:20260423T175515
CREATED:20210603T221323Z
LAST-MODIFIED:20210603T221608Z
UID:10000731-1624384800-1624392000@canora.com
SUMMARY:15U Baseball Game
DESCRIPTION:Canora VS Sturgis \nDiamond #3
URL:https://canora.com/event/15u-baseball-game-2/
LOCATION:Sports Grounds\, Canora\, Saskatchewan\, S0A 0L0\, Canada
END:VEVENT
BEGIN:VEVENT
DTSTART;TZID=America/Regina:20210622T183000
DTEND;TZID=America/Regina:20210622T183000
DTSTAMP:20260423T175515
CREATED:20210607T205948Z
LAST-MODIFIED:20210607T205948Z
UID:10000734-1624386600-1624386600@canora.com
SUMMARY:Senior Baseball Game
DESCRIPTION:Canora Supers VS Yorkton Marlins
URL:https://canora.com/event/senior-baseball-game-2/
LOCATION:Al Sapieha Field\, 1 Nelson Street\, Canora\, Saskatchewan\, S0A 0L0\, Canada
END:VEVENT
BEGIN:VEVENT
DTSTART;TZID=America/Regina:20210623T130000
DTEND;TZID=America/Regina:20210623T130000
DTSTAMP:20260423T175515
CREATED:20210603T220715Z
LAST-MODIFIED:20210603T220715Z
UID:10000695-1624453200-1624453200@canora.com
SUMMARY:Afternoon Seniors Golf
DESCRIPTION:Come out and join the group while enjoying Canora's fabulous golf course.
URL:https://canora.com/event/afternoon-seniors-golf/2021-06-23/
LOCATION:Activity Centre (Golf Course)\, 333 Canora Avenue\, Canora\, SK\, S0A 0L0\, Canada
ORGANIZER;CN="Canora Golf Club":MAILTO:canoragolfclub@gmail.com
GEO:51.6341203;-102.4255996
X-APPLE-STRUCTURED-LOCATION;VALUE=URI;X-ADDRESS=Activity Centre (Golf Course) 333 Canora Avenue Canora SK S0A 0L0 Canada;X-APPLE-RADIUS=500;X-TITLE=333 Canora Avenue:geo:-102.4255996,51.6341203
END:VEVENT
BEGIN:VEVENT
DTSTART;TZID=America/Regina:20210623T183000
DTEND;TZID=America/Regina:20210623T183000
DTSTAMP:20260423T175515
CREATED:20210607T211413Z
LAST-MODIFIED:20210607T211636Z
UID:10000735-1624473000-1624473000@canora.com
SUMMARY:Senior Baseball Game
DESCRIPTION:Canora Supers VS Langenburg Legends
URL:https://canora.com/event/senior-baseball-game-3/
LOCATION:Al Sapieha Field\, 1 Nelson Street\, Canora\, Saskatchewan\, S0A 0L0\, Canada
END:VEVENT
BEGIN:VEVENT
DTSTART;TZID=America/Regina:20210624T173000
DTEND;TZID=America/Regina:20210624T173000
DTSTAMP:20260423T175515
CREATED:20210513T151535Z
LAST-MODIFIED:20210923T212807Z
UID:10000653-1624555800-1624555800@canora.com
SUMMARY:Men's Night
DESCRIPTION:Every Thursday 5:45 pm \nCall the Pro Shop to reserve your spot (306) 563-4104 \n 
URL:https://canora.com/event/mens-night/2021-06-24/
LOCATION:Activity Centre (Golf Course)\, 333 Canora Avenue\, Canora\, SK\, S0A 0L0\, Canada
ORGANIZER;CN="Canora Golf Club":MAILTO:canoragolfclub@gmail.com
GEO:51.6341203;-102.4255996
X-APPLE-STRUCTURED-LOCATION;VALUE=URI;X-ADDRESS=Activity Centre (Golf Course) 333 Canora Avenue Canora SK S0A 0L0 Canada;X-APPLE-RADIUS=500;X-TITLE=333 Canora Avenue:geo:-102.4255996,51.6341203
END:VEVENT
BEGIN:VEVENT
DTSTART;TZID=America/Regina:20210626T100000
DTEND;TZID=America/Regina:20210626T140000
DTSTAMP:20260423T175515
CREATED:20210513T150825Z
LAST-MODIFIED:20210608T214604Z
UID:10000646-1624701600-1624716000@canora.com
SUMMARY:Rainbow Hall Markets
DESCRIPTION:
URL:https://canora.com/event/rainbow-hall-markets-5/2021-06-26/
LOCATION:Rainbow Hall\, 203 1st Avenue E\, Canora
END:VEVENT
BEGIN:VEVENT
DTSTART;VALUE=DATE:20210627
DTEND;VALUE=DATE:20210628
DTSTAMP:20260423T175515
CREATED:20210608T212626Z
LAST-MODIFIED:20210608T212704Z
UID:10000739-1624752000-1624838399@canora.com
SUMMARY:Big & Little Golf Tournament
DESCRIPTION:
URL:https://canora.com/event/big-little-golf-tournament/
LOCATION:Activity Centre (Golf Course)\, 333 Canora Avenue\, Canora\, SK\, S0A 0L0\, Canada
ORGANIZER;CN="Canora Golf Club":MAILTO:canoragolfclub@gmail.com
GEO:51.6341203;-102.4255996
X-APPLE-STRUCTURED-LOCATION;VALUE=URI;X-ADDRESS=Activity Centre (Golf Course) 333 Canora Avenue Canora SK S0A 0L0 Canada;X-APPLE-RADIUS=500;X-TITLE=333 Canora Avenue:geo:-102.4255996,51.6341203
END:VEVENT
BEGIN:VEVENT
DTSTART;TZID=America/Regina:20210628T130000
DTEND;TZID=America/Regina:20210628T130000
DTSTAMP:20260423T175515
CREATED:20210603T220715Z
LAST-MODIFIED:20210603T220715Z
UID:10000696-1624885200-1624885200@canora.com
SUMMARY:Afternoon Seniors Golf
DESCRIPTION:Come out and join the group while enjoying Canora's fabulous golf course.
URL:https://canora.com/event/afternoon-seniors-golf/2021-06-28/
LOCATION:Activity Centre (Golf Course)\, 333 Canora Avenue\, Canora\, SK\, S0A 0L0\, Canada
ORGANIZER;CN="Canora Golf Club":MAILTO:canoragolfclub@gmail.com
GEO:51.6341203;-102.4255996
X-APPLE-STRUCTURED-LOCATION;VALUE=URI;X-ADDRESS=Activity Centre (Golf Course) 333 Canora Avenue Canora SK S0A 0L0 Canada;X-APPLE-RADIUS=500;X-TITLE=333 Canora Avenue:geo:-102.4255996,51.6341203
END:VEVENT
BEGIN:VEVENT
DTSTART;TZID=America/Regina:20210628T180000
DTEND;TZID=America/Regina:20210628T200000
DTSTAMP:20260423T175515
CREATED:20210603T221517Z
LAST-MODIFIED:20210603T221517Z
UID:10000732-1624903200-1624910400@canora.com
SUMMARY:15U Baseball
DESCRIPTION:Canora VS Sturgis \nDiamond #3
URL:https://canora.com/event/15u-baseball/
LOCATION:Sports Grounds\, Canora\, Saskatchewan\, S0A 0L0\, Canada
END:VEVENT
BEGIN:VEVENT
DTSTART;TZID=America/Regina:20210629T160000
DTEND;TZID=America/Regina:20210629T210000
DTSTAMP:20260423T175515
CREATED:20210519T225806Z
LAST-MODIFIED:20210907T150050Z
UID:10000674-1624982400-1625000400@canora.com
SUMMARY:Fun Night Golf!
DESCRIPTION:Call ahead to book your tee time every Tuesday and enjoy a round with your favorite people. Cart rental and food is available at the club house.
URL:https://canora.com/event/fun-night-golf/2021-06-29/
LOCATION:Activity Centre (Golf Course)\, 333 Canora Avenue\, Canora\, SK\, S0A 0L0\, Canada
ORGANIZER;CN="Canora Golf Club":MAILTO:canoragolfclub@gmail.com
GEO:51.6341203;-102.4255996
X-APPLE-STRUCTURED-LOCATION;VALUE=URI;X-ADDRESS=Activity Centre (Golf Course) 333 Canora Avenue Canora SK S0A 0L0 Canada;X-APPLE-RADIUS=500;X-TITLE=333 Canora Avenue:geo:-102.4255996,51.6341203
END:VEVENT
BEGIN:VEVENT
DTSTART;TZID=America/Regina:20210630T130000
DTEND;TZID=America/Regina:20210630T130000
DTSTAMP:20260423T175515
CREATED:20210603T220715Z
LAST-MODIFIED:20210603T220715Z
UID:10000697-1625058000-1625058000@canora.com
SUMMARY:Afternoon Seniors Golf
DESCRIPTION:Come out and join the group while enjoying Canora's fabulous golf course.
URL:https://canora.com/event/afternoon-seniors-golf/2021-06-30/
LOCATION:Activity Centre (Golf Course)\, 333 Canora Avenue\, Canora\, SK\, S0A 0L0\, Canada
ORGANIZER;CN="Canora Golf Club":MAILTO:canoragolfclub@gmail.com
GEO:51.6341203;-102.4255996
X-APPLE-STRUCTURED-LOCATION;VALUE=URI;X-ADDRESS=Activity Centre (Golf Course) 333 Canora Avenue Canora SK S0A 0L0 Canada;X-APPLE-RADIUS=500;X-TITLE=333 Canora Avenue:geo:-102.4255996,51.6341203
END:VEVENT
BEGIN:VEVENT
DTSTART;TZID=America/Regina:20210630T183000
DTEND;TZID=America/Regina:20210630T183000
DTSTAMP:20260423T175515
CREATED:20210607T212610Z
LAST-MODIFIED:20210607T212610Z
UID:10000736-1625077800-1625077800@canora.com
SUMMARY:Senior Baseball Game
DESCRIPTION:Canora Supers VS Yorkton Cardinals
URL:https://canora.com/event/senior-baseball-game-4/
LOCATION:Al Sapieha Field\, 1 Nelson Street\, Canora\, Saskatchewan\, S0A 0L0\, Canada
END:VEVENT
BEGIN:VEVENT
DTSTART;TZID=America/Regina:20210701T173000
DTEND;TZID=America/Regina:20210701T173000
DTSTAMP:20260423T175515
CREATED:20210513T151535Z
LAST-MODIFIED:20210923T212807Z
UID:10000654-1625160600-1625160600@canora.com
SUMMARY:Men's Night
DESCRIPTION:Every Thursday 5:45 pm \nCall the Pro Shop to reserve your spot (306) 563-4104 \n 
URL:https://canora.com/event/mens-night/2021-07-01/
LOCATION:Activity Centre (Golf Course)\, 333 Canora Avenue\, Canora\, SK\, S0A 0L0\, Canada
ORGANIZER;CN="Canora Golf Club":MAILTO:canoragolfclub@gmail.com
GEO:51.6341203;-102.4255996
X-APPLE-STRUCTURED-LOCATION;VALUE=URI;X-ADDRESS=Activity Centre (Golf Course) 333 Canora Avenue Canora SK S0A 0L0 Canada;X-APPLE-RADIUS=500;X-TITLE=333 Canora Avenue:geo:-102.4255996,51.6341203
END:VEVENT
BEGIN:VEVENT
DTSTART;TZID=America/Regina:20210705T130000
DTEND;TZID=America/Regina:20210705T130000
DTSTAMP:20260423T175515
CREATED:20210603T220715Z
LAST-MODIFIED:20210603T220715Z
UID:10000698-1625490000-1625490000@canora.com
SUMMARY:Afternoon Seniors Golf
DESCRIPTION:Come out and join the group while enjoying Canora's fabulous golf course.
URL:https://canora.com/event/afternoon-seniors-golf/2021-07-05/
LOCATION:Activity Centre (Golf Course)\, 333 Canora Avenue\, Canora\, SK\, S0A 0L0\, Canada
ORGANIZER;CN="Canora Golf Club":MAILTO:canoragolfclub@gmail.com
GEO:51.6341203;-102.4255996
X-APPLE-STRUCTURED-LOCATION;VALUE=URI;X-ADDRESS=Activity Centre (Golf Course) 333 Canora Avenue Canora SK S0A 0L0 Canada;X-APPLE-RADIUS=500;X-TITLE=333 Canora Avenue:geo:-102.4255996,51.6341203
END:VEVENT
BEGIN:VEVENT
DTSTART;TZID=America/Regina:20210705T183000
DTEND;TZID=America/Regina:20210705T183000
DTSTAMP:20260423T175515
CREATED:20210607T212720Z
LAST-MODIFIED:20210607T212720Z
UID:10000737-1625509800-1625509800@canora.com
SUMMARY:Senior Baseball Game
DESCRIPTION:Canora Supers VS Langenburg Legends
URL:https://canora.com/event/senior-baseball-game-5/
LOCATION:Al Sapieha Field\, 1 Nelson Street\, Canora\, Saskatchewan\, S0A 0L0\, Canada
END:VEVENT
BEGIN:VEVENT
DTSTART;TZID=America/Regina:20210706T160000
DTEND;TZID=America/Regina:20210706T210000
DTSTAMP:20260423T175515
CREATED:20210519T225806Z
LAST-MODIFIED:20210907T150050Z
UID:10000675-1625587200-1625605200@canora.com
SUMMARY:Fun Night Golf!
DESCRIPTION:Call ahead to book your tee time every Tuesday and enjoy a round with your favorite people. Cart rental and food is available at the club house.
URL:https://canora.com/event/fun-night-golf/2021-07-06/
LOCATION:Activity Centre (Golf Course)\, 333 Canora Avenue\, Canora\, SK\, S0A 0L0\, Canada
ORGANIZER;CN="Canora Golf Club":MAILTO:canoragolfclub@gmail.com
GEO:51.6341203;-102.4255996
X-APPLE-STRUCTURED-LOCATION;VALUE=URI;X-ADDRESS=Activity Centre (Golf Course) 333 Canora Avenue Canora SK S0A 0L0 Canada;X-APPLE-RADIUS=500;X-TITLE=333 Canora Avenue:geo:-102.4255996,51.6341203
END:VEVENT
BEGIN:VEVENT
DTSTART;TZID=America/Regina:20210707T130000
DTEND;TZID=America/Regina:20210707T130000
DTSTAMP:20260423T175515
CREATED:20210603T220715Z
LAST-MODIFIED:20210603T220715Z
UID:10000699-1625662800-1625662800@canora.com
SUMMARY:Afternoon Seniors Golf
DESCRIPTION:Come out and join the group while enjoying Canora's fabulous golf course.
URL:https://canora.com/event/afternoon-seniors-golf/2021-07-07/
LOCATION:Activity Centre (Golf Course)\, 333 Canora Avenue\, Canora\, SK\, S0A 0L0\, Canada
ORGANIZER;CN="Canora Golf Club":MAILTO:canoragolfclub@gmail.com
GEO:51.6341203;-102.4255996
X-APPLE-STRUCTURED-LOCATION;VALUE=URI;X-ADDRESS=Activity Centre (Golf Course) 333 Canora Avenue Canora SK S0A 0L0 Canada;X-APPLE-RADIUS=500;X-TITLE=333 Canora Avenue:geo:-102.4255996,51.6341203
END:VEVENT
BEGIN:VEVENT
DTSTART;TZID=America/Regina:20210707T183000
DTEND;TZID=America/Regina:20210707T183000
DTSTAMP:20260423T175515
CREATED:20210607T212834Z
LAST-MODIFIED:20210607T212834Z
UID:10000738-1625682600-1625682600@canora.com
SUMMARY:Senior Baseball Game
DESCRIPTION:Canora Supers VS Parkland Pirates
URL:https://canora.com/event/senior-baseball-game-6/
LOCATION:Al Sapieha Field\, 1 Nelson Street\, Canora\, Saskatchewan\, S0A 0L0\, Canada
END:VEVENT
BEGIN:VEVENT
DTSTART;TZID=America/Regina:20210708T173000
DTEND;TZID=America/Regina:20210708T173000
DTSTAMP:20260423T175515
CREATED:20210513T151535Z
LAST-MODIFIED:20210923T212807Z
UID:10000655-1625765400-1625765400@canora.com
SUMMARY:Men's Night
DESCRIPTION:Every Thursday 5:45 pm \nCall the Pro Shop to reserve your spot (306) 563-4104 \n 
URL:https://canora.com/event/mens-night/2021-07-08/
LOCATION:Activity Centre (Golf Course)\, 333 Canora Avenue\, Canora\, SK\, S0A 0L0\, Canada
ORGANIZER;CN="Canora Golf Club":MAILTO:canoragolfclub@gmail.com
GEO:51.6341203;-102.4255996
X-APPLE-STRUCTURED-LOCATION;VALUE=URI;X-ADDRESS=Activity Centre (Golf Course) 333 Canora Avenue Canora SK S0A 0L0 Canada;X-APPLE-RADIUS=500;X-TITLE=333 Canora Avenue:geo:-102.4255996,51.6341203
END:VEVENT
BEGIN:VEVENT
DTSTART;VALUE=DATE:20210711
DTEND;VALUE=DATE:20210712
DTSTAMP:20260423T175515
CREATED:20210608T213735Z
LAST-MODIFIED:20210608T213913Z
UID:10000740-1625961600-1626047999@canora.com
SUMMARY:Hole-In-One Tournament
DESCRIPTION:
URL:https://canora.com/event/hole-in-one-tournament/
LOCATION:Activity Centre (Golf Course)\, 333 Canora Avenue\, Canora\, SK\, S0A 0L0\, Canada
ORGANIZER;CN="Canora Golf Club":MAILTO:canoragolfclub@gmail.com
GEO:51.6341203;-102.4255996
X-APPLE-STRUCTURED-LOCATION;VALUE=URI;X-ADDRESS=Activity Centre (Golf Course) 333 Canora Avenue Canora SK S0A 0L0 Canada;X-APPLE-RADIUS=500;X-TITLE=333 Canora Avenue:geo:-102.4255996,51.6341203
END:VEVENT
END:VCALENDAR