BEGIN:VCALENDAR
VERSION:2.0
PRODID:-//Town of Canora - ECPv6.15.17//NONSGML v1.0//EN
CALSCALE:GREGORIAN
METHOD:PUBLISH
X-WR-CALNAME:Town of Canora
X-ORIGINAL-URL:https://canora.com
X-WR-CALDESC:Events for Town of Canora
REFRESH-INTERVAL;VALUE=DURATION:PT1H
X-Robots-Tag:noindex
X-PUBLISHED-TTL:PT1H
BEGIN:VTIMEZONE
TZID:America/Regina
BEGIN:STANDARD
TZOFFSETFROM:-0600
TZOFFSETTO:-0600
TZNAME:CST
DTSTART:20190101T000000
END:STANDARD
END:VTIMEZONE
BEGIN:VEVENT
DTSTART;TZID=America/Regina:20201005T150000
DTEND;TZID=America/Regina:20201005T190000
DTSTAMP:20260423T043154
CREATED:20201005T213822Z
LAST-MODIFIED:20201005T215942Z
UID:10000607-1601910000-1601924400@canora.com
SUMMARY:Rainbow Hall Markets
DESCRIPTION:
URL:https://canora.com/event/rainbow-hall-markets-2/
LOCATION:Rainbow Hall\, 203 1st Avenue E\, Canora
END:VEVENT
BEGIN:VEVENT
DTSTART;TZID=America/Regina:20201012T160000
DTEND;TZID=America/Regina:20201012T180000
DTSTAMP:20260423T043154
CREATED:20200928T164525Z
LAST-MODIFIED:20200928T164525Z
UID:10000606-1602518400-1602525600@canora.com
SUMMARY:Thanksgiving Meal
DESCRIPTION:
URL:https://canora.com/event/thanksgiving-meal/
LOCATION:Rainbow Hall\, 203 1st Avenue E\, Canora
END:VEVENT
BEGIN:VEVENT
DTSTART;TZID=America/Regina:20201014T150000
DTEND;TZID=America/Regina:20201014T190000
DTSTAMP:20260423T043154
CREATED:20200928T164354Z
LAST-MODIFIED:20201005T213711Z
UID:10000605-1602687600-1602702000@canora.com
SUMMARY:Rainbow Hall Markets
DESCRIPTION:
URL:https://canora.com/event/rainbow-hall-markets/
LOCATION:Rainbow Hall\, 203 1st Avenue E\, Canora
END:VEVENT
BEGIN:VEVENT
DTSTART;TZID=America/Regina:20201015T193000
DTEND;TZID=America/Regina:20201015T193000
DTSTAMP:20260423T043154
CREATED:20201015T173317Z
LAST-MODIFIED:20201015T174323Z
UID:10000610-1602790200-1602790200@canora.com
SUMMARY:Canora Curling Club Annual General Meeting
DESCRIPTION:Get informed for upcoming 2020-21 season!
URL:https://canora.com/event/canora-curling-club-annual-general-meeting/
LOCATION:Sylvia Fedoruk Center\, 701 Main Street\, Canora\, Saskatchewan\, S0A 0L0\, Canada
ORGANIZER;CN="Canora Curling Club":MAILTO:canoracurling@gmail.com
GEO:51.6317348;-102.4385717
X-APPLE-STRUCTURED-LOCATION;VALUE=URI;X-ADDRESS=Sylvia Fedoruk Center 701 Main Street Canora Saskatchewan S0A 0L0 Canada;X-APPLE-RADIUS=500;X-TITLE=701 Main Street:geo:-102.4385717,51.6317348
END:VEVENT
BEGIN:VEVENT
DTSTART;TZID=America/Regina:20201019T090000
DTEND;TZID=America/Regina:20201019T190000
DTSTAMP:20260423T043154
CREATED:20201016T224711Z
LAST-MODIFIED:20201016T224711Z
UID:10000611-1603098000-1603134000@canora.com
SUMMARY:Influenza Clinics
DESCRIPTION:
URL:https://canora.com/event/influenza-clinics/
LOCATION:Rainbow Hall\, 203 1st Avenue E\, Canora
END:VEVENT
BEGIN:VEVENT
DTSTART;TZID=America/Regina:20201020T100000
DTEND;TZID=America/Regina:20201020T201500
DTSTAMP:20260423T043154
CREATED:20201019T171832Z
LAST-MODIFIED:20201019T172642Z
UID:10000614-1603188000-1603224900@canora.com
SUMMARY:Advance Poll - Elections Saskatchewan
DESCRIPTION:
URL:https://canora.com/event/advance-poll-elections-sask/
LOCATION:Activity Centre\, 333 Canora Avenue
END:VEVENT
BEGIN:VEVENT
DTSTART;TZID=America/Regina:20201020T190000
DTEND;TZID=America/Regina:20201020T220000
DTSTAMP:20260423T043154
CREATED:20180919T203327Z
LAST-MODIFIED:20190611T152640Z
UID:10000306-1603220400-1603231200@canora.com
SUMMARY:Town Council Meeting
DESCRIPTION:Town Council conducts its regular meetings on the 1st and 3rd Tuesday of every month. \nThe meeting takes place at the Town Office and begins at 7 pm. \nIf you would like to have a delegation attend a council meeting\, please submit your request by 12 pm (noon) on the Friday before the council meeting.\nSubmitting requests early assists Town Council and Administration.
URL:https://canora.com/event/town-council-meeting/2020-10-20/
LOCATION:Town Office\, 418 Main Street\, Canora\, SK\, S0A 0L0\, Canada
END:VEVENT
BEGIN:VEVENT
DTSTART;TZID=America/Regina:20201021T110000
DTEND;TZID=America/Regina:20201021T201500
DTSTAMP:20260423T043154
CREATED:20201019T172143Z
LAST-MODIFIED:20201019T172225Z
UID:10000615-1603278000-1603311300@canora.com
SUMMARY:Advance Poll - Elections Saskatchewan
DESCRIPTION:
URL:https://canora.com/event/advance-poll-elections-saskatchewan/2020-10-21/
LOCATION:Activity Centre\, 333 Canora Avenue
END:VEVENT
BEGIN:VEVENT
DTSTART;TZID=America/Regina:20201022T110000
DTEND;TZID=America/Regina:20201022T201500
DTSTAMP:20260423T043154
CREATED:20201019T172143Z
LAST-MODIFIED:20201019T172225Z
UID:10000616-1603364400-1603397700@canora.com
SUMMARY:Advance Poll - Elections Saskatchewan
DESCRIPTION:
URL:https://canora.com/event/advance-poll-elections-saskatchewan/2020-10-22/
LOCATION:Activity Centre\, 333 Canora Avenue
END:VEVENT
BEGIN:VEVENT
DTSTART;TZID=America/Regina:20201023T110000
DTEND;TZID=America/Regina:20201023T201500
DTSTAMP:20260423T043154
CREATED:20201019T172143Z
LAST-MODIFIED:20201019T172225Z
UID:10000617-1603450800-1603484100@canora.com
SUMMARY:Advance Poll - Elections Saskatchewan
DESCRIPTION:
URL:https://canora.com/event/advance-poll-elections-saskatchewan/2020-10-23/
LOCATION:Activity Centre\, 333 Canora Avenue
END:VEVENT
BEGIN:VEVENT
DTSTART;TZID=America/Regina:20201024T110000
DTEND;TZID=America/Regina:20201024T201500
DTSTAMP:20260423T043154
CREATED:20201019T172143Z
LAST-MODIFIED:20201019T172225Z
UID:10000618-1603537200-1603570500@canora.com
SUMMARY:Advance Poll - Elections Saskatchewan
DESCRIPTION:
URL:https://canora.com/event/advance-poll-elections-saskatchewan/2020-10-24/
LOCATION:Activity Centre\, 333 Canora Avenue
END:VEVENT
BEGIN:VEVENT
DTSTART;TZID=America/Regina:20201026T100000
DTEND;TZID=America/Regina:20201026T180000
DTSTAMP:20260423T043154
CREATED:20201016T225014Z
LAST-MODIFIED:20201016T225014Z
UID:10000612-1603706400-1603735200@canora.com
SUMMARY:Influenza Clinics
DESCRIPTION:
URL:https://canora.com/event/influenza-clinics-2/
LOCATION:Canora Health & Wellness Clinic
END:VEVENT
BEGIN:VEVENT
DTSTART;TZID=America/Regina:20201026T110000
DTEND;TZID=America/Regina:20201026T201500
DTSTAMP:20260423T043154
CREATED:20201019T172416Z
LAST-MODIFIED:20201019T172416Z
UID:10000619-1603710000-1603743300@canora.com
SUMMARY:Saskatchewan Election
DESCRIPTION:
URL:https://canora.com/event/saskatchewan-election/
LOCATION:Activity Centre\, 333 Canora Avenue
END:VEVENT
BEGIN:VEVENT
DTSTART;TZID=America/Regina:20201031T110000
DTEND;TZID=America/Regina:20201031T150000
DTSTAMP:20260423T043154
CREATED:20201009T205153Z
LAST-MODIFIED:20201009T205153Z
UID:10000609-1604142000-1604156400@canora.com
SUMMARY:Advance poll
DESCRIPTION:
URL:https://canora.com/event/advance-poll/
LOCATION:SK
END:VEVENT
BEGIN:VEVENT
DTSTART;TZID=America/Regina:20201102T090000
DTEND;TZID=America/Regina:20201102T190000
DTSTAMP:20260423T043154
CREATED:20201016T225119Z
LAST-MODIFIED:20201016T225119Z
UID:10000613-1604307600-1604343600@canora.com
SUMMARY:Influenza Clinic
DESCRIPTION:
URL:https://canora.com/event/influenza-clinic/
LOCATION:Rainbow Hall\, 203 1st Avenue E\, Canora
END:VEVENT
BEGIN:VEVENT
DTSTART;TZID=America/Regina:20201109T090000
DTEND;TZID=America/Regina:20201109T200000
DTSTAMP:20260423T043154
CREATED:20201009T205116Z
LAST-MODIFIED:20201009T205116Z
UID:10000608-1604912400-1604952000@canora.com
SUMMARY:Municipal election
DESCRIPTION:
URL:https://canora.com/event/municipal-election/
LOCATION:SK
END:VEVENT
BEGIN:VEVENT
DTSTART;TZID=America/Regina:20201117T190000
DTEND;TZID=America/Regina:20201117T220000
DTSTAMP:20260423T043154
CREATED:20180919T203327Z
LAST-MODIFIED:20190611T152640Z
UID:10000307-1605639600-1605650400@canora.com
SUMMARY:Town Council Meeting
DESCRIPTION:Town Council conducts its regular meetings on the 1st and 3rd Tuesday of every month. \nThe meeting takes place at the Town Office and begins at 7 pm. \nIf you would like to have a delegation attend a council meeting\, please submit your request by 12 pm (noon) on the Friday before the council meeting.\nSubmitting requests early assists Town Council and Administration.
URL:https://canora.com/event/town-council-meeting/2020-11-17/
LOCATION:Town Office\, 418 Main Street\, Canora\, SK\, S0A 0L0\, Canada
END:VEVENT
BEGIN:VEVENT
DTSTART;TZID=America/Regina:20201121T100000
DTEND;TZID=America/Regina:20201121T140000
DTSTAMP:20260423T043154
CREATED:20201102T200035Z
LAST-MODIFIED:20201102T200035Z
UID:10000620-1605952800-1605967200@canora.com
SUMMARY:Rainbow Hall Markets
DESCRIPTION:
URL:https://canora.com/event/rainbow-hall-markets-3/
LOCATION:Rainbow Hall\, 203 1st Avenue E\, Canora
END:VEVENT
BEGIN:VEVENT
DTSTART;TZID=America/Regina:20201121T200000
DTEND;TZID=America/Regina:20201121T230000
DTSTAMP:20260423T043154
CREATED:20201103T160223Z
LAST-MODIFIED:20201112T143438Z
UID:10000623-1605988800-1605999600@canora.com
SUMMARY:Senior Hockey Game
DESCRIPTION:Canora Cobras vs Ituna Avalanche \nSeason Tickets on sale at Community Insurance\, Town Office\, or by etransfer to cobrasseniorhockeyclub@gmail.com \nIndividual game advance tickets available soon!
URL:https://canora.com/event/senior-hockey-game/
LOCATION:Canora Civic Centre\, 711 Main Street\, Canora\, Saskatchewan\, S0A 0L0\, Canada
GEO:51.6315739;-102.4386783
X-APPLE-STRUCTURED-LOCATION;VALUE=URI;X-ADDRESS=Canora Civic Centre 711 Main Street Canora Saskatchewan S0A 0L0 Canada;X-APPLE-RADIUS=500;X-TITLE=711 Main Street:geo:-102.4386783,51.6315739
END:VEVENT
BEGIN:VEVENT
DTSTART;TZID=America/Regina:20201127T160000
DTEND;TZID=America/Regina:20201127T180000
DTSTAMP:20260423T043154
CREATED:20201102T200254Z
LAST-MODIFIED:20201102T200302Z
UID:10000622-1606492800-1606500000@canora.com
SUMMARY:Perogy Supper
DESCRIPTION:
URL:https://canora.com/event/perogy-supper/
LOCATION:Rainbow Hall\, 203 1st Avenue E\, Canora
END:VEVENT
BEGIN:VEVENT
DTSTART;TZID=America/Regina:20201204T203000
DTEND;TZID=America/Regina:20201204T203000
DTSTAMP:20260423T043154
CREATED:20201110T212846Z
LAST-MODIFIED:20201203T163842Z
UID:10000624-1607113800-1607113800@canora.com
SUMMARY:POSTPONED - Senior Hockey Game
DESCRIPTION:Canora Cobras VS Theodore Buffalos \nSeason Tickets on sale at Community Insurance\, Town Office\, or by etransfer to cobrasseniorhockeyclub@gmail.com \nIndividual game advance tickets available soon!
URL:https://canora.com/event/senior-hockey-game-2/
LOCATION:Canora Civic Centre\, 711 Main Street\, Canora\, Saskatchewan\, S0A 0L0\, Canada
GEO:51.6315739;-102.4386783
X-APPLE-STRUCTURED-LOCATION;VALUE=URI;X-ADDRESS=Canora Civic Centre 711 Main Street Canora Saskatchewan S0A 0L0 Canada;X-APPLE-RADIUS=500;X-TITLE=711 Main Street:geo:-102.4386783,51.6315739
END:VEVENT
BEGIN:VEVENT
DTSTART;TZID=America/Regina:20201211T100000
DTEND;TZID=America/Regina:20201211T140000
DTSTAMP:20260423T043154
CREATED:20201209T201025Z
LAST-MODIFIED:20201210T195944Z
UID:10000625-1607680800-1607695200@canora.com
SUMMARY:Mobile COVID-19 Testing Site
DESCRIPTION:2020 12 Mobile Testing Site - Canora \n2020 12 09 COVID-19 Canora Mobile Testing
URL:https://canora.com/event/mobile-covid-19-testing-site/
LOCATION:Rainbow Hall\, 203 1st Avenue E\, Canora
END:VEVENT
BEGIN:VEVENT
DTSTART;TZID=America/Regina:20201215T190000
DTEND;TZID=America/Regina:20201215T220000
DTSTAMP:20260423T043155
CREATED:20180919T203327Z
LAST-MODIFIED:20190611T152640Z
UID:10000308-1608058800-1608069600@canora.com
SUMMARY:Town Council Meeting
DESCRIPTION:Town Council conducts its regular meetings on the 1st and 3rd Tuesday of every month. \nThe meeting takes place at the Town Office and begins at 7 pm. \nIf you would like to have a delegation attend a council meeting\, please submit your request by 12 pm (noon) on the Friday before the council meeting.\nSubmitting requests early assists Town Council and Administration.
URL:https://canora.com/event/town-council-meeting/2020-12-15/
LOCATION:Town Office\, 418 Main Street\, Canora\, SK\, S0A 0L0\, Canada
END:VEVENT
BEGIN:VEVENT
DTSTART;TZID=America/Regina:20201216T100000
DTEND;TZID=America/Regina:20201216T140000
DTSTAMP:20260423T043155
CREATED:20201102T200140Z
LAST-MODIFIED:20201102T200140Z
UID:10000621-1608112800-1608127200@canora.com
SUMMARY:Rainbow Hall Markets
DESCRIPTION:
URL:https://canora.com/event/rainbow-hall-markets-4/
LOCATION:Rainbow Hall\, 203 1st Avenue E\, Canora
END:VEVENT
BEGIN:VEVENT
DTSTART;TZID=America/Regina:20210119T190000
DTEND;TZID=America/Regina:20210119T220000
DTSTAMP:20260423T043155
CREATED:20180919T203327Z
LAST-MODIFIED:20190611T152640Z
UID:10000309-1611082800-1611093600@canora.com
SUMMARY:Town Council Meeting
DESCRIPTION:Town Council conducts its regular meetings on the 1st and 3rd Tuesday of every month. \nThe meeting takes place at the Town Office and begins at 7 pm. \nIf you would like to have a delegation attend a council meeting\, please submit your request by 12 pm (noon) on the Friday before the council meeting.\nSubmitting requests early assists Town Council and Administration.
URL:https://canora.com/event/town-council-meeting/2021-01-19/
LOCATION:Town Office\, 418 Main Street\, Canora\, SK\, S0A 0L0\, Canada
END:VEVENT
BEGIN:VEVENT
DTSTART;TZID=America/Regina:20210212T130000
DTEND;TZID=America/Regina:20210212T150000
DTSTAMP:20260423T043155
CREATED:20210205T210127Z
LAST-MODIFIED:20210205T210127Z
UID:10000626-1613134800-1613142000@canora.com
SUMMARY:Drop In Testing
DESCRIPTION:
URL:https://canora.com/event/drop-in-testing/
LOCATION:Rainbow Hall\, 203 1st Avenue E\, Canora
END:VEVENT
BEGIN:VEVENT
DTSTART;TZID=America/Regina:20210216T190000
DTEND;TZID=America/Regina:20210216T220000
DTSTAMP:20260423T043155
CREATED:20180919T203327Z
LAST-MODIFIED:20190611T152640Z
UID:10000310-1613502000-1613512800@canora.com
SUMMARY:Town Council Meeting
DESCRIPTION:Town Council conducts its regular meetings on the 1st and 3rd Tuesday of every month. \nThe meeting takes place at the Town Office and begins at 7 pm. \nIf you would like to have a delegation attend a council meeting\, please submit your request by 12 pm (noon) on the Friday before the council meeting.\nSubmitting requests early assists Town Council and Administration.
URL:https://canora.com/event/town-council-meeting/2021-02-16/
LOCATION:Town Office\, 418 Main Street\, Canora\, SK\, S0A 0L0\, Canada
END:VEVENT
BEGIN:VEVENT
DTSTART;VALUE=DATE:20210224
DTEND;VALUE=DATE:20210323
DTSTAMP:20260423T043155
CREATED:20210224T161343Z
LAST-MODIFIED:20210224T161343Z
UID:10000627-1614124800-1616457599@canora.com
SUMMARY:Pre-Booked Easter Bake Sale
DESCRIPTION:Pre-Order baked goods by March 22\n Pick up on April 1st\, 11:00 am - 2:00 pm\nContacts:\n\nDeb (306) 563-5971\nFrances (306) 563-5584\nDel (306) 563-4130\n\n\n Order: Paskas\, Babas\, Cabbage Rolls\, or Perogies
URL:https://canora.com/event/pre-booked-easter-bake-sale/
LOCATION:Ukrainian Catholic Hall\, 229 5th Avenue West\, Canora\, SK\, S0A 0L0\, Canada
END:VEVENT
BEGIN:VEVENT
DTSTART;TZID=America/Regina:20210316T190000
DTEND;TZID=America/Regina:20210316T220000
DTSTAMP:20260423T043155
CREATED:20180919T203327Z
LAST-MODIFIED:20190611T152640Z
UID:10000311-1615921200-1615932000@canora.com
SUMMARY:Town Council Meeting
DESCRIPTION:Town Council conducts its regular meetings on the 1st and 3rd Tuesday of every month. \nThe meeting takes place at the Town Office and begins at 7 pm. \nIf you would like to have a delegation attend a council meeting\, please submit your request by 12 pm (noon) on the Friday before the council meeting.\nSubmitting requests early assists Town Council and Administration.
URL:https://canora.com/event/town-council-meeting/2021-03-16/
LOCATION:Town Office\, 418 Main Street\, Canora\, SK\, S0A 0L0\, Canada
END:VEVENT
BEGIN:VEVENT
DTSTART;TZID=America/Regina:20210320T090000
DTEND;TZID=America/Regina:20210320T160000
DTSTAMP:20260423T043155
CREATED:20210309T155339Z
LAST-MODIFIED:20210309T155339Z
UID:10000630-1616230800-1616256000@canora.com
SUMMARY:Pysanka Workshop
DESCRIPTION:
URL:https://canora.com/event/pysanka-workshop/
LOCATION:Ukrainian Orthodox Church\, 904 Main St\,\, Canora\, Saskatchewan\, S0A 0L0\, Canada
END:VEVENT
END:VCALENDAR