BEGIN:VCALENDAR
VERSION:2.0
PRODID:-//Town of Canora - ECPv6.15.17//NONSGML v1.0//EN
CALSCALE:GREGORIAN
METHOD:PUBLISH
X-ORIGINAL-URL:https://canora.com
X-WR-CALDESC:Events for Town of Canora
REFRESH-INTERVAL;VALUE=DURATION:PT1H
X-Robots-Tag:noindex
X-PUBLISHED-TTL:PT1H
BEGIN:VTIMEZONE
TZID:America/Regina
BEGIN:STANDARD
TZOFFSETFROM:-0600
TZOFFSETTO:-0600
TZNAME:CST
DTSTART:20190101T000000
END:STANDARD
END:VTIMEZONE
BEGIN:VEVENT
DTSTART;TZID=America/Regina:20200309T100000
DTEND;TZID=America/Regina:20200309T110000
DTSTAMP:20260423T004433
CREATED:20200128T151039Z
LAST-MODIFIED:20200128T151046Z
UID:10000593-1583748000-1583751600@canora.com
SUMMARY:Healthy Together Children's Health Program
DESCRIPTION:HT Poster Canora March 2020
URL:https://canora.com/event/healthy-together-childrens-health-program/
LOCATION:Rising Stars / Kids Korner
END:VEVENT
BEGIN:VEVENT
DTSTART;VALUE=DATE:20200313
DTEND;VALUE=DATE:20200316
DTSTAMP:20260423T004433
CREATED:20191209T163447Z
LAST-MODIFIED:20200224T152126Z
UID:10000582-1584057600-1584316799@canora.com
SUMMARY:Womens Bonspiel
DESCRIPTION:
URL:https://canora.com/event/womens-bonspiel-2/
LOCATION:Sylvia Fedoruk Centre\, 701 Main Street\, Canada
ORGANIZER;CN="Canora Curling Club":MAILTO:canoracurling@gmail.com
END:VEVENT
BEGIN:VEVENT
DTSTART;TZID=America/Regina:20200313T160000
DTEND;TZID=America/Regina:20200313T190000
DTSTAMP:20260423T004433
CREATED:20200224T151657Z
LAST-MODIFIED:20200224T151806Z
UID:10000596-1584115200-1584126000@canora.com
SUMMARY:Borscht & Perogy Supper
DESCRIPTION:Perogies (both sauerkraut & potato)\, clam chowder\, and borscht
URL:https://canora.com/event/borscht-perogy-supper-2/
LOCATION:Ukrainian Catholic Hall\, 229 5th Avenue West\, Canora\, SK\, S0A 0L0\, Canada
END:VEVENT
BEGIN:VEVENT
DTSTART;TZID=America/Regina:20200314T130000
DTEND;TZID=America/Regina:20200314T150000
DTSTAMP:20260423T004433
CREATED:20200303T210144Z
LAST-MODIFIED:20200303T210144Z
UID:10000600-1584190800-1584198000@canora.com
SUMMARY:St. Patricks Day Tea
DESCRIPTION:
URL:https://canora.com/event/st-patricks-day-tea/
LOCATION:Rainbow Hall\, 203 1st Avenue E\, Canora
END:VEVENT
BEGIN:VEVENT
DTSTART;TZID=America/Regina:20200315T140000
DTEND;TZID=America/Regina:20200315T140000
DTSTAMP:20260423T004433
CREATED:20200303T204411Z
LAST-MODIFIED:20200303T204927Z
UID:10000599-1584280800-1584280800@canora.com
SUMMARY:Blades of Summer - Skating Club Carnival
DESCRIPTION:
URL:https://canora.com/event/11926/
LOCATION:Canora Civic Centre\, 711 Main Street\, Canora\, Saskatchewan\, S0A 0L0\, Canada
GEO:51.6315739;-102.4386783
X-APPLE-STRUCTURED-LOCATION;VALUE=URI;X-ADDRESS=Canora Civic Centre 711 Main Street Canora Saskatchewan S0A 0L0 Canada;X-APPLE-RADIUS=500;X-TITLE=711 Main Street:geo:-102.4386783,51.6315739
END:VEVENT
BEGIN:VEVENT
DTSTART;TZID=America/Regina:20200317T190000
DTEND;TZID=America/Regina:20200317T220000
DTSTAMP:20260423T004433
CREATED:20180919T203327Z
LAST-MODIFIED:20190611T152640Z
UID:10000299-1584471600-1584482400@canora.com
SUMMARY:Town Council Meeting
DESCRIPTION:Town Council conducts its regular meetings on the 1st and 3rd Tuesday of every month. \nThe meeting takes place at the Town Office and begins at 7 pm. \nIf you would like to have a delegation attend a council meeting\, please submit your request by 12 pm (noon) on the Friday before the council meeting.\nSubmitting requests early assists Town Council and Administration.
URL:https://canora.com/event/town-council-meeting/2020-03-17/
LOCATION:Town Office\, 418 Main Street\, Canora\, SK\, S0A 0L0\, Canada
END:VEVENT
BEGIN:VEVENT
DTSTART;TZID=America/Regina:20200317T193000
DTEND;TZID=America/Regina:20200317T193000
DTSTAMP:20260423T004433
CREATED:20191107T225228Z
LAST-MODIFIED:20200316T170449Z
UID:10000565-1584473400-1584473400@canora.com
SUMMARY:Christine Tassan Et Les Imposteures (POSTPONED UNTIL FURTHER NOTICE)
DESCRIPTION:
URL:https://canora.com/event/christine-tassan-et-les-imposteures/
LOCATION:Canora Composite School\, 223 8 Avenue\, Canora\, Saskatchewan\, S0A 0L0\, Canada
END:VEVENT
BEGIN:VEVENT
DTSTART;TZID=America/Regina:20200318T160000
DTEND;TZID=America/Regina:20200318T183000
DTSTAMP:20260423T004433
CREATED:20200226T194034Z
LAST-MODIFIED:20200316T170527Z
UID:10000597-1584547200-1584556200@canora.com
SUMMARY:Borscht & Perogies (POSTPONED UNTIL FURTHER NOTICE)
DESCRIPTION:
URL:https://canora.com/event/borscht-perogies/
LOCATION:St. Joseph’s Catholic Church\, 201 4th Avenue East\, Canora\, Saskatchewan\, S0A 0L0\, Canada
GEO:51.6343703;-102.4401175
X-APPLE-STRUCTURED-LOCATION;VALUE=URI;X-ADDRESS=St. Joseph’s Catholic Church 201 4th Avenue East Canora Saskatchewan S0A 0L0 Canada;X-APPLE-RADIUS=500;X-TITLE=201 4th Avenue East:geo:-102.4401175,51.6343703
END:VEVENT
BEGIN:VEVENT
DTSTART;TZID=America/Regina:20200421T190000
DTEND;TZID=America/Regina:20200421T220000
DTSTAMP:20260423T004433
CREATED:20180919T203327Z
LAST-MODIFIED:20190611T152640Z
UID:10000300-1587495600-1587506400@canora.com
SUMMARY:Town Council Meeting
DESCRIPTION:Town Council conducts its regular meetings on the 1st and 3rd Tuesday of every month. \nThe meeting takes place at the Town Office and begins at 7 pm. \nIf you would like to have a delegation attend a council meeting\, please submit your request by 12 pm (noon) on the Friday before the council meeting.\nSubmitting requests early assists Town Council and Administration.
URL:https://canora.com/event/town-council-meeting/2020-04-21/
LOCATION:Town Office\, 418 Main Street\, Canora\, SK\, S0A 0L0\, Canada
END:VEVENT
BEGIN:VEVENT
DTSTART;TZID=America/Regina:20200519T190000
DTEND;TZID=America/Regina:20200519T220000
DTSTAMP:20260423T004433
CREATED:20180919T203327Z
LAST-MODIFIED:20190611T152640Z
UID:10000301-1589914800-1589925600@canora.com
SUMMARY:Town Council Meeting
DESCRIPTION:Town Council conducts its regular meetings on the 1st and 3rd Tuesday of every month. \nThe meeting takes place at the Town Office and begins at 7 pm. \nIf you would like to have a delegation attend a council meeting\, please submit your request by 12 pm (noon) on the Friday before the council meeting.\nSubmitting requests early assists Town Council and Administration.
URL:https://canora.com/event/town-council-meeting/2020-05-19/
LOCATION:Town Office\, 418 Main Street\, Canora\, SK\, S0A 0L0\, Canada
END:VEVENT
BEGIN:VEVENT
DTSTART;TZID=America/Regina:20200616T190000
DTEND;TZID=America/Regina:20200616T220000
DTSTAMP:20260423T004433
CREATED:20180919T203327Z
LAST-MODIFIED:20190611T152640Z
UID:10000302-1592334000-1592344800@canora.com
SUMMARY:Town Council Meeting
DESCRIPTION:Town Council conducts its regular meetings on the 1st and 3rd Tuesday of every month. \nThe meeting takes place at the Town Office and begins at 7 pm. \nIf you would like to have a delegation attend a council meeting\, please submit your request by 12 pm (noon) on the Friday before the council meeting.\nSubmitting requests early assists Town Council and Administration.
URL:https://canora.com/event/town-council-meeting/2020-06-16/
LOCATION:Town Office\, 418 Main Street\, Canora\, SK\, S0A 0L0\, Canada
END:VEVENT
BEGIN:VEVENT
DTSTART;TZID=America/Regina:20200721T190000
DTEND;TZID=America/Regina:20200721T220000
DTSTAMP:20260423T004433
CREATED:20180919T203327Z
LAST-MODIFIED:20190611T152640Z
UID:10000303-1595358000-1595368800@canora.com
SUMMARY:Town Council Meeting
DESCRIPTION:Town Council conducts its regular meetings on the 1st and 3rd Tuesday of every month. \nThe meeting takes place at the Town Office and begins at 7 pm. \nIf you would like to have a delegation attend a council meeting\, please submit your request by 12 pm (noon) on the Friday before the council meeting.\nSubmitting requests early assists Town Council and Administration.
URL:https://canora.com/event/town-council-meeting/2020-07-21/
LOCATION:Town Office\, 418 Main Street\, Canora\, SK\, S0A 0L0\, Canada
END:VEVENT
BEGIN:VEVENT
DTSTART;TZID=America/Regina:20200723T190000
DTEND;TZID=America/Regina:20200723T190000
DTSTAMP:20260423T004433
CREATED:20200716T151641Z
LAST-MODIFIED:20200716T151739Z
UID:10000602-1595530800-1595530800@canora.com
SUMMARY:Canora Cobras Senior Hockey Open Public Meeting
DESCRIPTION:The new Canora Cobras Senior Hockey Team will be hosting a open public meeting on July 23rd\, 7:00 pm at the Canora Civic Centre. If you are looking to help out with the team in any capacity this will be your opportunity to get involved. \nIf you can't make the meeting and still want to help call Cal Homeniuk (306) 563-8337.
URL:https://canora.com/event/canora-cobras-senior-hockey-open-public-meeting/
LOCATION:Canora Civic Centre\, 711 Main Street\, Canora\, Saskatchewan\, S0A 0L0\, Canada
GEO:51.6315739;-102.4386783
X-APPLE-STRUCTURED-LOCATION;VALUE=URI;X-ADDRESS=Canora Civic Centre 711 Main Street Canora Saskatchewan S0A 0L0 Canada;X-APPLE-RADIUS=500;X-TITLE=711 Main Street:geo:-102.4386783,51.6315739
END:VEVENT
BEGIN:VEVENT
DTSTART;TZID=America/Regina:20200818T190000
DTEND;TZID=America/Regina:20200818T220000
DTSTAMP:20260423T004433
CREATED:20180919T203327Z
LAST-MODIFIED:20190611T152640Z
UID:10000304-1597777200-1597788000@canora.com
SUMMARY:Town Council Meeting
DESCRIPTION:Town Council conducts its regular meetings on the 1st and 3rd Tuesday of every month. \nThe meeting takes place at the Town Office and begins at 7 pm. \nIf you would like to have a delegation attend a council meeting\, please submit your request by 12 pm (noon) on the Friday before the council meeting.\nSubmitting requests early assists Town Council and Administration.
URL:https://canora.com/event/town-council-meeting/2020-08-18/
LOCATION:Town Office\, 418 Main Street\, Canora\, SK\, S0A 0L0\, Canada
END:VEVENT
BEGIN:VEVENT
DTSTART;TZID=America/Regina:20200821T201500
DTEND;TZID=America/Regina:20200821T234500
DTSTAMP:20260423T004433
CREATED:20200716T144703Z
LAST-MODIFIED:20200806T170031Z
UID:10000601-1598040900-1598053500@canora.com
SUMMARY:Double Feature
DESCRIPTION:Features and approximate start times: \n"Onward" (2020) @ 8:15 PM \n \n"Project Power" (2020) @ 10:15 PM \n \nAdmission Rates: (limit 40 vehicles per film)\n$10 per vehicle for one show\n$15 per vehicle for both shows \nPopcorn and drink are included with this fee! Compliments of the Gateway COOP. \nPayment to be made by etransfer to Canora Children's Centre. Registration in-person at the Centre will not be permitted. Do Not come to the Children's Centre. \nContact by email: canorachildrenscentre@sasktel.net for advance registration. Please indicate what film(s) you are registering for. \nCome out and support Canora’s Childrens Centre! \n  \nCOVID-19 Guidelines apply. (Page 47 of the Saskatchewan re-open plan) \nVehicles must be separated by a minimum of two metres. \nOnly individuals from the same household may occupy the same vehicle \nAccess to washroom facilities must be limited. \n  \nSPONSORS:
URL:https://canora.com/event/drive-in-double-feature/
LOCATION:Sports Grounds\, Canora\, Saskatchewan\, S0A 0L0\, Canada
ORGANIZER;CN="Canora Leisure Services":MAILTO:leisure.canora@sasktel.net
END:VEVENT
BEGIN:VEVENT
DTSTART;TZID=America/Regina:20200915T190000
DTEND;TZID=America/Regina:20200915T220000
DTSTAMP:20260423T004433
CREATED:20180919T203327Z
LAST-MODIFIED:20190611T152640Z
UID:10000305-1600196400-1600207200@canora.com
SUMMARY:Town Council Meeting
DESCRIPTION:Town Council conducts its regular meetings on the 1st and 3rd Tuesday of every month. \nThe meeting takes place at the Town Office and begins at 7 pm. \nIf you would like to have a delegation attend a council meeting\, please submit your request by 12 pm (noon) on the Friday before the council meeting.\nSubmitting requests early assists Town Council and Administration.
URL:https://canora.com/event/town-council-meeting/2020-09-15/
LOCATION:Town Office\, 418 Main Street\, Canora\, SK\, S0A 0L0\, Canada
END:VEVENT
BEGIN:VEVENT
DTSTART;TZID=America/Regina:20200922T200000
DTEND;TZID=America/Regina:20200922T200000
DTSTAMP:20260423T004433
CREATED:20200903T193117Z
LAST-MODIFIED:20200903T193117Z
UID:10000603-1600804800-1600804800@canora.com
SUMMARY:CMHA Annual General Meeting
DESCRIPTION:Annual meeting open to the public \n8:00 pm \nCanora Civic Centre
URL:https://canora.com/event/cmha-annual-general-meeting/
LOCATION:Canora Civic Centre\, 711 Main Street\, Canora\, Saskatchewan\, S0A 0L0\, Canada
GEO:51.6315739;-102.4386783
X-APPLE-STRUCTURED-LOCATION;VALUE=URI;X-ADDRESS=Canora Civic Centre 711 Main Street Canora Saskatchewan S0A 0L0 Canada;X-APPLE-RADIUS=500;X-TITLE=711 Main Street:geo:-102.4386783,51.6315739
END:VEVENT
BEGIN:VEVENT
DTSTART;TZID=America/Regina:20200929T190000
DTEND;TZID=America/Regina:20200929T190000
DTSTAMP:20260423T004433
CREATED:20200921T192708Z
LAST-MODIFIED:20200921T192708Z
UID:10000604-1601406000-1601406000@canora.com
SUMMARY:Skating Club Annual General Meeting
DESCRIPTION:7:00 PM \nCanora Civic Centre
URL:https://canora.com/event/skating-club-annual-general-meeting/
LOCATION:Canora Civic Centre\, 711 Main Street\, Canora\, Saskatchewan\, S0A 0L0\, Canada
GEO:51.6315739;-102.4386783
X-APPLE-STRUCTURED-LOCATION;VALUE=URI;X-ADDRESS=Canora Civic Centre 711 Main Street Canora Saskatchewan S0A 0L0 Canada;X-APPLE-RADIUS=500;X-TITLE=711 Main Street:geo:-102.4386783,51.6315739
END:VEVENT
BEGIN:VEVENT
DTSTART;TZID=America/Regina:20201005T150000
DTEND;TZID=America/Regina:20201005T190000
DTSTAMP:20260423T004433
CREATED:20201005T213822Z
LAST-MODIFIED:20201005T215942Z
UID:10000607-1601910000-1601924400@canora.com
SUMMARY:Rainbow Hall Markets
DESCRIPTION:
URL:https://canora.com/event/rainbow-hall-markets-2/
LOCATION:Rainbow Hall\, 203 1st Avenue E\, Canora
END:VEVENT
BEGIN:VEVENT
DTSTART;TZID=America/Regina:20201012T160000
DTEND;TZID=America/Regina:20201012T180000
DTSTAMP:20260423T004433
CREATED:20200928T164525Z
LAST-MODIFIED:20200928T164525Z
UID:10000606-1602518400-1602525600@canora.com
SUMMARY:Thanksgiving Meal
DESCRIPTION:
URL:https://canora.com/event/thanksgiving-meal/
LOCATION:Rainbow Hall\, 203 1st Avenue E\, Canora
END:VEVENT
BEGIN:VEVENT
DTSTART;TZID=America/Regina:20201014T150000
DTEND;TZID=America/Regina:20201014T190000
DTSTAMP:20260423T004433
CREATED:20200928T164354Z
LAST-MODIFIED:20201005T213711Z
UID:10000605-1602687600-1602702000@canora.com
SUMMARY:Rainbow Hall Markets
DESCRIPTION:
URL:https://canora.com/event/rainbow-hall-markets/
LOCATION:Rainbow Hall\, 203 1st Avenue E\, Canora
END:VEVENT
BEGIN:VEVENT
DTSTART;TZID=America/Regina:20201015T193000
DTEND;TZID=America/Regina:20201015T193000
DTSTAMP:20260423T004433
CREATED:20201015T173317Z
LAST-MODIFIED:20201015T174323Z
UID:10000610-1602790200-1602790200@canora.com
SUMMARY:Canora Curling Club Annual General Meeting
DESCRIPTION:Get informed for upcoming 2020-21 season!
URL:https://canora.com/event/canora-curling-club-annual-general-meeting/
LOCATION:Sylvia Fedoruk Center\, 701 Main Street\, Canora\, Saskatchewan\, S0A 0L0\, Canada
ORGANIZER;CN="Canora Curling Club":MAILTO:canoracurling@gmail.com
GEO:51.6317348;-102.4385717
X-APPLE-STRUCTURED-LOCATION;VALUE=URI;X-ADDRESS=Sylvia Fedoruk Center 701 Main Street Canora Saskatchewan S0A 0L0 Canada;X-APPLE-RADIUS=500;X-TITLE=701 Main Street:geo:-102.4385717,51.6317348
END:VEVENT
BEGIN:VEVENT
DTSTART;TZID=America/Regina:20201019T090000
DTEND;TZID=America/Regina:20201019T190000
DTSTAMP:20260423T004433
CREATED:20201016T224711Z
LAST-MODIFIED:20201016T224711Z
UID:10000611-1603098000-1603134000@canora.com
SUMMARY:Influenza Clinics
DESCRIPTION:
URL:https://canora.com/event/influenza-clinics/
LOCATION:Rainbow Hall\, 203 1st Avenue E\, Canora
END:VEVENT
BEGIN:VEVENT
DTSTART;TZID=America/Regina:20201020T100000
DTEND;TZID=America/Regina:20201020T201500
DTSTAMP:20260423T004433
CREATED:20201019T171832Z
LAST-MODIFIED:20201019T172642Z
UID:10000614-1603188000-1603224900@canora.com
SUMMARY:Advance Poll - Elections Saskatchewan
DESCRIPTION:
URL:https://canora.com/event/advance-poll-elections-sask/
LOCATION:Activity Centre\, 333 Canora Avenue
END:VEVENT
BEGIN:VEVENT
DTSTART;TZID=America/Regina:20201020T190000
DTEND;TZID=America/Regina:20201020T220000
DTSTAMP:20260423T004433
CREATED:20180919T203327Z
LAST-MODIFIED:20190611T152640Z
UID:10000306-1603220400-1603231200@canora.com
SUMMARY:Town Council Meeting
DESCRIPTION:Town Council conducts its regular meetings on the 1st and 3rd Tuesday of every month. \nThe meeting takes place at the Town Office and begins at 7 pm. \nIf you would like to have a delegation attend a council meeting\, please submit your request by 12 pm (noon) on the Friday before the council meeting.\nSubmitting requests early assists Town Council and Administration.
URL:https://canora.com/event/town-council-meeting/2020-10-20/
LOCATION:Town Office\, 418 Main Street\, Canora\, SK\, S0A 0L0\, Canada
END:VEVENT
BEGIN:VEVENT
DTSTART;TZID=America/Regina:20201021T110000
DTEND;TZID=America/Regina:20201021T201500
DTSTAMP:20260423T004433
CREATED:20201019T172143Z
LAST-MODIFIED:20201019T172225Z
UID:10000615-1603278000-1603311300@canora.com
SUMMARY:Advance Poll - Elections Saskatchewan
DESCRIPTION:
URL:https://canora.com/event/advance-poll-elections-saskatchewan/2020-10-21/
LOCATION:Activity Centre\, 333 Canora Avenue
END:VEVENT
BEGIN:VEVENT
DTSTART;TZID=America/Regina:20201022T110000
DTEND;TZID=America/Regina:20201022T201500
DTSTAMP:20260423T004433
CREATED:20201019T172143Z
LAST-MODIFIED:20201019T172225Z
UID:10000616-1603364400-1603397700@canora.com
SUMMARY:Advance Poll - Elections Saskatchewan
DESCRIPTION:
URL:https://canora.com/event/advance-poll-elections-saskatchewan/2020-10-22/
LOCATION:Activity Centre\, 333 Canora Avenue
END:VEVENT
BEGIN:VEVENT
DTSTART;TZID=America/Regina:20201023T110000
DTEND;TZID=America/Regina:20201023T201500
DTSTAMP:20260423T004433
CREATED:20201019T172143Z
LAST-MODIFIED:20201019T172225Z
UID:10000617-1603450800-1603484100@canora.com
SUMMARY:Advance Poll - Elections Saskatchewan
DESCRIPTION:
URL:https://canora.com/event/advance-poll-elections-saskatchewan/2020-10-23/
LOCATION:Activity Centre\, 333 Canora Avenue
END:VEVENT
BEGIN:VEVENT
DTSTART;TZID=America/Regina:20201024T110000
DTEND;TZID=America/Regina:20201024T201500
DTSTAMP:20260423T004433
CREATED:20201019T172143Z
LAST-MODIFIED:20201019T172225Z
UID:10000618-1603537200-1603570500@canora.com
SUMMARY:Advance Poll - Elections Saskatchewan
DESCRIPTION:
URL:https://canora.com/event/advance-poll-elections-saskatchewan/2020-10-24/
LOCATION:Activity Centre\, 333 Canora Avenue
END:VEVENT
BEGIN:VEVENT
DTSTART;TZID=America/Regina:20201026T100000
DTEND;TZID=America/Regina:20201026T180000
DTSTAMP:20260423T004433
CREATED:20201016T225014Z
LAST-MODIFIED:20201016T225014Z
UID:10000612-1603706400-1603735200@canora.com
SUMMARY:Influenza Clinics
DESCRIPTION:
URL:https://canora.com/event/influenza-clinics-2/
LOCATION:Canora Health & Wellness Clinic
END:VEVENT
END:VCALENDAR