BEGIN:VCALENDAR
VERSION:2.0
PRODID:-//Town of Canora - ECPv6.15.17//NONSGML v1.0//EN
CALSCALE:GREGORIAN
METHOD:PUBLISH
X-ORIGINAL-URL:https://canora.com
X-WR-CALDESC:Events for Town of Canora
REFRESH-INTERVAL;VALUE=DURATION:PT1H
X-Robots-Tag:noindex
X-PUBLISHED-TTL:PT1H
BEGIN:VTIMEZONE
TZID:America/Regina
BEGIN:STANDARD
TZOFFSETFROM:-0600
TZOFFSETTO:-0600
TZNAME:CST
DTSTART:20170101T000000
END:STANDARD
END:VTIMEZONE
BEGIN:VEVENT
DTSTART;TZID=America/Regina:20180823T143000
DTEND;TZID=America/Regina:20180823T160000
DTSTAMP:20260420T234301
CREATED:20180716T200219Z
LAST-MODIFIED:20180719T143448Z
UID:10000253-1535034600-1535040000@canora.com
SUMMARY:Diabetes Education Classes
DESCRIPTION:Diabetes Education \nDo you have Type 2 Diabetes?\nAre you newly diagnosed with Type 2 Diabetes?\nHave you had Type 2 Diabetes for several years and would like more information? \nClasses will be held every Thursday from 2:30pm – 4:00pm. Feel free to participate in one or all five classes. \nIntroduction to Diabetes-Session 1\nNutrition – Session 2\nPhysical Activity – Session 3\nStress Management – Session 4\nMedication Management – Session 5 \nClasses available in person at the Sunrise Health and Wellness Centre in Yorkton or by telehealth in various communities. \nFREE to join!\nYou must pre-register to attend!\nPlease call (306) 786-6363 and press 0 to REGISTER or for more information.
URL:https://canora.com/event/diabetes-education-classes/2018-08-23/
LOCATION:Saskatchewan
END:VEVENT
BEGIN:VEVENT
DTSTART;VALUE=DATE:20180825
DTEND;VALUE=DATE:20180827
DTSTAMP:20260420T234301
CREATED:20180730T200922Z
LAST-MODIFIED:20180823T221256Z
UID:10000260-1535155200-1535327999@canora.com
SUMMARY:Hoop Jam Canora 2018
DESCRIPTION:Hoop Jam Tournament 2018\n$100 Team Entry Fee \nGAMES PLAYED AT:\nCanora Composite School\n223 8th ave\nCanora\, SK S0A 0L0 \n8th - 12th grades boys and girls divisions \nWith special appearance by Saskatchewan Roughriders DB Marcel Young and DT Makana Henry on Sunday between 11:00 am - 1:00 pm. \n \nGeneral Info\nHoop Jam Canora\, invites you to the 1st year of The Hoop Jam Tournament! Join 8th thru 12th grade boys' and girls' basketball teams from around the Province in an open tourney. There will be one skills division for both boy and girls. This tournament is designed to cater to teams ot upper skill level. There will be one winner for each division.\nStandard high school rules will be played at these two levels with timing modifications. All teams are guaranteed two games (Saturday and Sunday). Sunday games will finish by 2pm.\nAwards for first place winners. \nVISIT THE WEBSITE FOR REGISTRATION AND MORE INFORMATION \nhttps://hoopjamcanora.vpweb.ca/
URL:https://canora.com/event/hoop-jam-canora-2018/
LOCATION:Canora Composite School\, Canora\, SK\, S0A 0L0\, Canada
ORGANIZER;CN="Canora Leisure Services":MAILTO:leisure.canora@sasktel.net
END:VEVENT
BEGIN:VEVENT
DTSTART;VALUE=DATE:20180826
DTEND;VALUE=DATE:20180827
DTSTAMP:20260420T234301
CREATED:20180525T164900Z
LAST-MODIFIED:20180525T164907Z
UID:10000217-1535241600-1535327999@canora.com
SUMMARY:Canora Men's Open
DESCRIPTION:For more information on tournaments please call the Canora Golf and Country Club at 306-563-4104
URL:https://canora.com/event/canora-mens-open/
LOCATION:Activity Centre (Golf Course)\, 333 Canora Avenue\, Canora\, SK\, S0A 0L0\, Canada
ORGANIZER;CN="Canora Golf Club":MAILTO:canoragolfclub@gmail.com
GEO:51.6341203;-102.4255996
X-APPLE-STRUCTURED-LOCATION;VALUE=URI;X-ADDRESS=Activity Centre (Golf Course) 333 Canora Avenue Canora SK S0A 0L0 Canada;X-APPLE-RADIUS=500;X-TITLE=333 Canora Avenue:geo:-102.4255996,51.6341203
END:VEVENT
BEGIN:VEVENT
DTSTART;TZID=America/Regina:20180830T100000
DTEND;TZID=America/Regina:20180830T140000
DTSTAMP:20260420T234301
CREATED:20180703T195619Z
LAST-MODIFIED:20180727T151236Z
UID:10000244-1535623200-1535637600@canora.com
SUMMARY:Farmer's Market
DESCRIPTION:The Farmer's Market begins July 5th at 10 am!\nMeet and buy from local producers and makers this summer every Thursday at the Visitor Centre & CN Museum. \nThe Farmer's Market runs until September 27th. \nThe Vendor Application form is available below: \nFarmer's Market Vendor Application \nAll vendors should complete and submit an application before the Farmer's Market begins.\nEvery vendor must have a completed application on file to participate in the Farmer's Market.  \nEvery vendor must also meet and follow Health Authority requirements.\nIt is the responsibility of the vendor to inform themselves and meet these requirements.
URL:https://canora.com/event/farmers-market-2/2018-08-30/
LOCATION:Visitors Centre & CN Museum\, 100 Railway Avenue\, Canora
ORGANIZER;CN="Community Development":MAILTO:cdo.canora@sasktel.net
GEO:51.6372416;-102.4366927
X-APPLE-STRUCTURED-LOCATION;VALUE=URI;X-ADDRESS=Visitors Centre & CN Museum 100 Railway Avenue Canora;X-APPLE-RADIUS=500;X-TITLE=100 Railway Avenue:geo:-102.4366927,51.6372416
END:VEVENT
BEGIN:VEVENT
DTSTART;TZID=America/Regina:20180830T143000
DTEND;TZID=America/Regina:20180830T160000
DTSTAMP:20260420T234301
CREATED:20180716T200219Z
LAST-MODIFIED:20180719T143448Z
UID:10000254-1535639400-1535644800@canora.com
SUMMARY:Diabetes Education Classes
DESCRIPTION:Diabetes Education \nDo you have Type 2 Diabetes?\nAre you newly diagnosed with Type 2 Diabetes?\nHave you had Type 2 Diabetes for several years and would like more information? \nClasses will be held every Thursday from 2:30pm – 4:00pm. Feel free to participate in one or all five classes. \nIntroduction to Diabetes-Session 1\nNutrition – Session 2\nPhysical Activity – Session 3\nStress Management – Session 4\nMedication Management – Session 5 \nClasses available in person at the Sunrise Health and Wellness Centre in Yorkton or by telehealth in various communities. \nFREE to join!\nYou must pre-register to attend!\nPlease call (306) 786-6363 and press 0 to REGISTER or for more information.
URL:https://canora.com/event/diabetes-education-classes/2018-08-30/
LOCATION:Saskatchewan
END:VEVENT
BEGIN:VEVENT
DTSTART;TZID=America/Regina:20180906T100000
DTEND;TZID=America/Regina:20180906T140000
DTSTAMP:20260420T234301
CREATED:20180703T195619Z
LAST-MODIFIED:20180727T151236Z
UID:10000245-1536228000-1536242400@canora.com
SUMMARY:Farmer's Market
DESCRIPTION:The Farmer's Market begins July 5th at 10 am!\nMeet and buy from local producers and makers this summer every Thursday at the Visitor Centre & CN Museum. \nThe Farmer's Market runs until September 27th. \nThe Vendor Application form is available below: \nFarmer's Market Vendor Application \nAll vendors should complete and submit an application before the Farmer's Market begins.\nEvery vendor must have a completed application on file to participate in the Farmer's Market.  \nEvery vendor must also meet and follow Health Authority requirements.\nIt is the responsibility of the vendor to inform themselves and meet these requirements.
URL:https://canora.com/event/farmers-market-2/2018-09-06/
LOCATION:Visitors Centre & CN Museum\, 100 Railway Avenue\, Canora
ORGANIZER;CN="Community Development":MAILTO:cdo.canora@sasktel.net
GEO:51.6372416;-102.4366927
X-APPLE-STRUCTURED-LOCATION;VALUE=URI;X-ADDRESS=Visitors Centre & CN Museum 100 Railway Avenue Canora;X-APPLE-RADIUS=500;X-TITLE=100 Railway Avenue:geo:-102.4366927,51.6372416
END:VEVENT
BEGIN:VEVENT
DTSTART;TZID=America/Regina:20180906T143000
DTEND;TZID=America/Regina:20180906T160000
DTSTAMP:20260420T234301
CREATED:20180716T200219Z
LAST-MODIFIED:20180719T143448Z
UID:10000255-1536244200-1536249600@canora.com
SUMMARY:Diabetes Education Classes
DESCRIPTION:Diabetes Education \nDo you have Type 2 Diabetes?\nAre you newly diagnosed with Type 2 Diabetes?\nHave you had Type 2 Diabetes for several years and would like more information? \nClasses will be held every Thursday from 2:30pm – 4:00pm. Feel free to participate in one or all five classes. \nIntroduction to Diabetes-Session 1\nNutrition – Session 2\nPhysical Activity – Session 3\nStress Management – Session 4\nMedication Management – Session 5 \nClasses available in person at the Sunrise Health and Wellness Centre in Yorkton or by telehealth in various communities. \nFREE to join!\nYou must pre-register to attend!\nPlease call (306) 786-6363 and press 0 to REGISTER or for more information.
URL:https://canora.com/event/diabetes-education-classes/2018-09-06/
LOCATION:Saskatchewan
END:VEVENT
BEGIN:VEVENT
DTSTART;TZID=America/Regina:20180906T173000
DTEND;TZID=America/Regina:20180906T190000
DTSTAMP:20260420T234301
CREATED:20180731T223934Z
LAST-MODIFIED:20180905T143843Z
UID:10000261-1536255000-1536260400@canora.com
SUMMARY:Fall and Winter Mass Registration
DESCRIPTION:The one stop shop to register in all your fall and winter activities. \n \n\nPARTICIPATION FORM\nGROUP CONTACT FORM\n\nAny groups looking to take registrations please contact the Leisure Services Office at 306-563-6561 or by email at; leisure.canora@sasktel.net \nAttending: \n\nCanora Minor Hockey\nCanora Nursery School\nSkating Club\nAssiniboine River Archery Club\nKees Taekwondo\nVeselka Ukrainian Dance\n4H Homecraft\nAir Cadets\nCanora Curling Club\nExtravadance\nCanora Arts Council\n\nMore details to come
URL:https://canora.com/event/fall-and-winter-mass-registration/
LOCATION:Sylvia Fedoruk Center\, 701 Main Street\, Canora\, Saskatchewan\, S0A 0L0\, Canada
GEO:51.6317348;-102.4385717
X-APPLE-STRUCTURED-LOCATION;VALUE=URI;X-ADDRESS=Sylvia Fedoruk Center 701 Main Street Canora Saskatchewan S0A 0L0 Canada;X-APPLE-RADIUS=500;X-TITLE=701 Main Street:geo:-102.4385717,51.6317348
END:VEVENT
BEGIN:VEVENT
DTSTART;TZID=America/Regina:20180913T100000
DTEND;TZID=America/Regina:20180913T140000
DTSTAMP:20260420T234301
CREATED:20180703T195619Z
LAST-MODIFIED:20180727T151236Z
UID:10000246-1536832800-1536847200@canora.com
SUMMARY:Farmer's Market
DESCRIPTION:The Farmer's Market begins July 5th at 10 am!\nMeet and buy from local producers and makers this summer every Thursday at the Visitor Centre & CN Museum. \nThe Farmer's Market runs until September 27th. \nThe Vendor Application form is available below: \nFarmer's Market Vendor Application \nAll vendors should complete and submit an application before the Farmer's Market begins.\nEvery vendor must have a completed application on file to participate in the Farmer's Market.  \nEvery vendor must also meet and follow Health Authority requirements.\nIt is the responsibility of the vendor to inform themselves and meet these requirements.
URL:https://canora.com/event/farmers-market-2/2018-09-13/
LOCATION:Visitors Centre & CN Museum\, 100 Railway Avenue\, Canora
ORGANIZER;CN="Community Development":MAILTO:cdo.canora@sasktel.net
GEO:51.6372416;-102.4366927
X-APPLE-STRUCTURED-LOCATION;VALUE=URI;X-ADDRESS=Visitors Centre & CN Museum 100 Railway Avenue Canora;X-APPLE-RADIUS=500;X-TITLE=100 Railway Avenue:geo:-102.4366927,51.6372416
END:VEVENT
BEGIN:VEVENT
DTSTART;TZID=America/Regina:20180913T143000
DTEND;TZID=America/Regina:20180913T160000
DTSTAMP:20260420T234301
CREATED:20180716T200219Z
LAST-MODIFIED:20180719T143448Z
UID:10000256-1536849000-1536854400@canora.com
SUMMARY:Diabetes Education Classes
DESCRIPTION:Diabetes Education \nDo you have Type 2 Diabetes?\nAre you newly diagnosed with Type 2 Diabetes?\nHave you had Type 2 Diabetes for several years and would like more information? \nClasses will be held every Thursday from 2:30pm – 4:00pm. Feel free to participate in one or all five classes. \nIntroduction to Diabetes-Session 1\nNutrition – Session 2\nPhysical Activity – Session 3\nStress Management – Session 4\nMedication Management – Session 5 \nClasses available in person at the Sunrise Health and Wellness Centre in Yorkton or by telehealth in various communities. \nFREE to join!\nYou must pre-register to attend!\nPlease call (306) 786-6363 and press 0 to REGISTER or for more information.
URL:https://canora.com/event/diabetes-education-classes/2018-09-13/
LOCATION:Saskatchewan
END:VEVENT
BEGIN:VEVENT
DTSTART;TZID=America/Regina:20180918T190000
DTEND;TZID=America/Regina:20180918T220000
DTSTAMP:20260420T234301
CREATED:20180919T203327Z
LAST-MODIFIED:20190611T152640Z
UID:10000284-1537297200-1537308000@canora.com
SUMMARY:Town Council Meeting
DESCRIPTION:Town Council conducts its regular meetings on the 1st and 3rd Tuesday of every month. \nThe meeting takes place at the Town Office and begins at 7 pm. \nIf you would like to have a delegation attend a council meeting\, please submit your request by 12 pm (noon) on the Friday before the council meeting.\nSubmitting requests early assists Town Council and Administration.
URL:https://canora.com/event/town-council-meeting/2018-09-18/
LOCATION:Town Office\, 418 Main Street\, Canora\, SK\, S0A 0L0\, Canada
END:VEVENT
BEGIN:VEVENT
DTSTART;TZID=America/Regina:20180920T100000
DTEND;TZID=America/Regina:20180920T140000
DTSTAMP:20260420T234301
CREATED:20180703T195619Z
LAST-MODIFIED:20180727T151236Z
UID:10000247-1537437600-1537452000@canora.com
SUMMARY:Farmer's Market
DESCRIPTION:The Farmer's Market begins July 5th at 10 am!\nMeet and buy from local producers and makers this summer every Thursday at the Visitor Centre & CN Museum. \nThe Farmer's Market runs until September 27th. \nThe Vendor Application form is available below: \nFarmer's Market Vendor Application \nAll vendors should complete and submit an application before the Farmer's Market begins.\nEvery vendor must have a completed application on file to participate in the Farmer's Market.  \nEvery vendor must also meet and follow Health Authority requirements.\nIt is the responsibility of the vendor to inform themselves and meet these requirements.
URL:https://canora.com/event/farmers-market-2/2018-09-20/
LOCATION:Visitors Centre & CN Museum\, 100 Railway Avenue\, Canora
ORGANIZER;CN="Community Development":MAILTO:cdo.canora@sasktel.net
GEO:51.6372416;-102.4366927
X-APPLE-STRUCTURED-LOCATION;VALUE=URI;X-ADDRESS=Visitors Centre & CN Museum 100 Railway Avenue Canora;X-APPLE-RADIUS=500;X-TITLE=100 Railway Avenue:geo:-102.4366927,51.6372416
END:VEVENT
BEGIN:VEVENT
DTSTART;TZID=America/Regina:20180920T143000
DTEND;TZID=America/Regina:20180920T160000
DTSTAMP:20260420T234301
CREATED:20180716T200219Z
LAST-MODIFIED:20180719T143448Z
UID:10000257-1537453800-1537459200@canora.com
SUMMARY:Diabetes Education Classes
DESCRIPTION:Diabetes Education \nDo you have Type 2 Diabetes?\nAre you newly diagnosed with Type 2 Diabetes?\nHave you had Type 2 Diabetes for several years and would like more information? \nClasses will be held every Thursday from 2:30pm – 4:00pm. Feel free to participate in one or all five classes. \nIntroduction to Diabetes-Session 1\nNutrition – Session 2\nPhysical Activity – Session 3\nStress Management – Session 4\nMedication Management – Session 5 \nClasses available in person at the Sunrise Health and Wellness Centre in Yorkton or by telehealth in various communities. \nFREE to join!\nYou must pre-register to attend!\nPlease call (306) 786-6363 and press 0 to REGISTER or for more information.
URL:https://canora.com/event/diabetes-education-classes/2018-09-20/
LOCATION:Saskatchewan
END:VEVENT
BEGIN:VEVENT
DTSTART;TZID=America/Regina:20180922T100000
DTEND;TZID=America/Regina:20180922T150000
DTSTAMP:20260420T234301
CREATED:20180918T144840Z
LAST-MODIFIED:20180918T151002Z
UID:10000280-1537610400-1537628400@canora.com
SUMMARY:Food Drive
DESCRIPTION:
URL:https://canora.com/event/food-drive/
LOCATION:Saskatchewan
END:VEVENT
BEGIN:VEVENT
DTSTART;TZID=America/Regina:20180927T143000
DTEND;TZID=America/Regina:20180927T160000
DTSTAMP:20260420T234301
CREATED:20180716T200219Z
LAST-MODIFIED:20180719T143448Z
UID:10000258-1538058600-1538064000@canora.com
SUMMARY:Diabetes Education Classes
DESCRIPTION:Diabetes Education \nDo you have Type 2 Diabetes?\nAre you newly diagnosed with Type 2 Diabetes?\nHave you had Type 2 Diabetes for several years and would like more information? \nClasses will be held every Thursday from 2:30pm – 4:00pm. Feel free to participate in one or all five classes. \nIntroduction to Diabetes-Session 1\nNutrition – Session 2\nPhysical Activity – Session 3\nStress Management – Session 4\nMedication Management – Session 5 \nClasses available in person at the Sunrise Health and Wellness Centre in Yorkton or by telehealth in various communities. \nFREE to join!\nYou must pre-register to attend!\nPlease call (306) 786-6363 and press 0 to REGISTER or for more information.
URL:https://canora.com/event/diabetes-education-classes/2018-09-27/
LOCATION:Saskatchewan
END:VEVENT
BEGIN:VEVENT
DTSTART;TZID=America/Regina:20180930T140000
DTEND;TZID=America/Regina:20180930T160000
DTSTAMP:20260420T234301
CREATED:20180920T193635Z
LAST-MODIFIED:20180920T193635Z
UID:10000430-1538316000-1538323200@canora.com
SUMMARY:St. Andrew's United Church Open House
DESCRIPTION:Drop by St. Andrew's United Church on September 30th from 2 to 4 pm for an Open House \nBanners will also be on display depicting creation \nAll are welcome
URL:https://canora.com/event/st-andrews-united-church-open-house/
LOCATION:St. Andrews United Church\, Canora\, SK\, S0A 0L0\, Canada
END:VEVENT
BEGIN:VEVENT
DTSTART;TZID=America/Regina:20180930T160000
DTEND;TZID=America/Regina:20180930T190000
DTSTAMP:20260420T234301
CREATED:20180905T205552Z
LAST-MODIFIED:20180910T145402Z
UID:10000266-1538323200-1538334000@canora.com
SUMMARY:Fall Supper
DESCRIPTION:Ukrainian Catholic Women's League is organizing a fall supper at St. Peter & Paul Ukrainian Catholic Hall on Sunday\, September 30th from 4:00 to 7:00 Pm \nTurkey\, cabbage rolls\, baked macaroni\, salads\, coffee\, and dessert will be served.
URL:https://canora.com/event/fall-supper/
LOCATION:Ukrainian Catholic Hall\, 229 5th Avenue West\, Canora\, SK\, S0A 0L0\, Canada
END:VEVENT
BEGIN:VEVENT
DTSTART;TZID=America/Regina:20181002T100000
DTEND;TZID=America/Regina:20181002T190000
DTSTAMP:20260420T234301
CREATED:20181001T224424Z
LAST-MODIFIED:20181001T224424Z
UID:10000431-1538474400-1538506800@canora.com
SUMMARY:Clean Up Week
DESCRIPTION:Landfill charges will be waived for Canora residents on October 2nd\, 4th\, 5th & 6th \nRegular charges still apply to building construction and demolition debris\, hazardous waste and garbage originating from outside of Canora \n\nLandfill hours will be Tuesday\, Thursday\, Friday & Saturday from 10 am to 12 pm and 1 pm to 7 pm
URL:https://canora.com/event/clean-up-week/
LOCATION:Saskatchewan
END:VEVENT
BEGIN:VEVENT
DTSTART;TZID=America/Regina:20181004T100000
DTEND;TZID=America/Regina:20181006T190000
DTSTAMP:20260420T234301
CREATED:20181001T224532Z
LAST-MODIFIED:20181001T224532Z
UID:10000432-1538647200-1538852400@canora.com
SUMMARY:Clean Up Week
DESCRIPTION:Landfill charges will be waived for Canora residents on October 2nd\, 4th\, 5th & 6th \n\n\nRegular charges still apply to building construction and demolition debris\, hazardous waste and garbage originating from outside of Canora \n\nLandfill hours will be Tuesday\, Thursday\, Friday & Saturday from 10 am to 12 pm and 1 pm to 7 pm
URL:https://canora.com/event/clean-up-week-2/
LOCATION:Saskatchewan
END:VEVENT
BEGIN:VEVENT
DTSTART;TZID=America/Regina:20181008T080000
DTEND;TZID=America/Regina:20181008T110000
DTSTAMP:20260420T234301
CREATED:20180918T151407Z
LAST-MODIFIED:20180918T151457Z
UID:10000281-1538985600-1538996400@canora.com
SUMMARY:Annual Pancake Breakfast (Fire Prevention Week)
DESCRIPTION:Fire prevention week runs Oct. 7-13\, 2018\nTheme: Look\, Listen\, Learn\nPancakes & sausages cost is by donation\, silver collection\nSponsors to be announced
URL:https://canora.com/event/annual-pancake-breakfast-fire-prevention-week/
LOCATION:Canora Fire Hall
END:VEVENT
BEGIN:VEVENT
DTSTART;TZID=America/Regina:20181012T093000
DTEND;TZID=America/Regina:20181012T120000
DTSTAMP:20260420T234301
CREATED:20180912T194006Z
LAST-MODIFIED:20180912T194006Z
UID:10000268-1539336600-1539345600@canora.com
SUMMARY:LiveWell with Chronic Conditions
DESCRIPTION:
URL:https://canora.com/event/livewell-with-chronic-conditions/2018-10-12/
LOCATION:Canora Hospital\, 1219 Main St.\, Canora\, SK\, S0A 0L0\, Canada
GEO:51.6255604;-102.4408497
X-APPLE-STRUCTURED-LOCATION;VALUE=URI;X-ADDRESS=Canora Hospital 1219 Main St. Canora SK S0A 0L0 Canada;X-APPLE-RADIUS=500;X-TITLE=1219 Main St.:geo:-102.4408497,51.6255604
END:VEVENT
BEGIN:VEVENT
DTSTART;TZID=America/Regina:20181013T133000
DTEND;TZID=America/Regina:20181013T153000
DTSTAMP:20260420T234301
CREATED:20180912T192913Z
LAST-MODIFIED:20180912T192913Z
UID:10000267-1539437400-1539444600@canora.com
SUMMARY:October Pie & Coffee
DESCRIPTION:Drop by the Canora Hospital Dining Room for Pie & Coffee. \nSponsored by the Canora Hospital Auxiliary.
URL:https://canora.com/event/october-pie-coffee/
LOCATION:Canora Hospital Dining Room
END:VEVENT
BEGIN:VEVENT
DTSTART;TZID=America/Regina:20181015T183000
DTEND;TZID=America/Regina:20181015T210000
DTSTAMP:20260420T234301
CREATED:20180918T152943Z
LAST-MODIFIED:20180918T152943Z
UID:10000282-1539628200-1539637200@canora.com
SUMMARY:Conversational Ukrainian
DESCRIPTION:Interactive 18 hour course on Mondays \nTuition $225 + GST \nRegister by Oct. 1 \n(306) 563-6808 \nContact Betty for any questions
URL:https://canora.com/event/conversational-ukrainian/
LOCATION:Parkland College
END:VEVENT
BEGIN:VEVENT
DTSTART;TZID=America/Regina:20181016T190000
DTEND;TZID=America/Regina:20181016T220000
DTSTAMP:20260420T234301
CREATED:20180919T203327Z
LAST-MODIFIED:20190611T152640Z
UID:10000285-1539716400-1539727200@canora.com
SUMMARY:Town Council Meeting
DESCRIPTION:Town Council conducts its regular meetings on the 1st and 3rd Tuesday of every month. \nThe meeting takes place at the Town Office and begins at 7 pm. \nIf you would like to have a delegation attend a council meeting\, please submit your request by 12 pm (noon) on the Friday before the council meeting.\nSubmitting requests early assists Town Council and Administration.
URL:https://canora.com/event/town-council-meeting/2018-10-16/
LOCATION:Town Office\, 418 Main Street\, Canora\, SK\, S0A 0L0\, Canada
END:VEVENT
BEGIN:VEVENT
DTSTART;TZID=America/Regina:20181019T093000
DTEND;TZID=America/Regina:20181019T120000
DTSTAMP:20260420T234301
CREATED:20180912T194006Z
LAST-MODIFIED:20180912T194006Z
UID:10000269-1539941400-1539950400@canora.com
SUMMARY:LiveWell with Chronic Conditions
DESCRIPTION:
URL:https://canora.com/event/livewell-with-chronic-conditions/2018-10-19/
LOCATION:Canora Hospital\, 1219 Main St.\, Canora\, SK\, S0A 0L0\, Canada
GEO:51.6255604;-102.4408497
X-APPLE-STRUCTURED-LOCATION;VALUE=URI;X-ADDRESS=Canora Hospital 1219 Main St. Canora SK S0A 0L0 Canada;X-APPLE-RADIUS=500;X-TITLE=1219 Main St.:geo:-102.4408497,51.6255604
END:VEVENT
BEGIN:VEVENT
DTSTART;TZID=America/Regina:20181020T193000
DTEND;TZID=America/Regina:20181020T233000
DTSTAMP:20260420T234301
CREATED:20181003T191203Z
LAST-MODIFIED:20181003T191203Z
UID:10000433-1540063800-1540078200@canora.com
SUMMARY:Canora Seniors Dance
DESCRIPTION:The Canora Seniors Dance is taking place on October 20th\, from 7:30 pm to 11:30 pm\, at the Ukrainian Catholic Hall. \n\nPotluck Lunch\nMusic by Zayshley's\n\n$10 per person \nFor more information\, contact Ernie Kozak at (306) 563 - 5224 or Dave Popowich at (306) 563 - 5001 \n 
URL:https://canora.com/event/canora-seniors-dance-8/
LOCATION:Ukrainian Catholic Hall\, 229 5th Avenue West\, Canora\, SK\, S0A 0L0\, Canada
END:VEVENT
BEGIN:VEVENT
DTSTART;TZID=America/Regina:20181023T193000
DTEND;TZID=America/Regina:20181023T193000
DTSTAMP:20260420T234301
CREATED:20180905T144459Z
LAST-MODIFIED:20180905T190256Z
UID:10000263-1540323000-1540323000@canora.com
SUMMARY:Ghostboy
DESCRIPTION:http://ghostboymusic.com/ \nThe Canora Arts Council presents; The Stars For Saskatchewan Concert Series. Three dates and three different performing artists.
URL:https://canora.com/event/ghost-boy/
LOCATION:Canora Composite School\, Canora\, SK\, S0A 0L0\, Canada
END:VEVENT
BEGIN:VEVENT
DTSTART;TZID=America/Regina:20181026T093000
DTEND;TZID=America/Regina:20181026T120000
DTSTAMP:20260420T234301
CREATED:20180912T194006Z
LAST-MODIFIED:20180912T194006Z
UID:10000270-1540546200-1540555200@canora.com
SUMMARY:LiveWell with Chronic Conditions
DESCRIPTION:
URL:https://canora.com/event/livewell-with-chronic-conditions/2018-10-26/
LOCATION:Canora Hospital\, 1219 Main St.\, Canora\, SK\, S0A 0L0\, Canada
GEO:51.6255604;-102.4408497
X-APPLE-STRUCTURED-LOCATION;VALUE=URI;X-ADDRESS=Canora Hospital 1219 Main St. Canora SK S0A 0L0 Canada;X-APPLE-RADIUS=500;X-TITLE=1219 Main St.:geo:-102.4408497,51.6255604
END:VEVENT
BEGIN:VEVENT
DTSTART;TZID=America/Regina:20181028T160000
DTEND;TZID=America/Regina:20181028T183000
DTSTAMP:20260420T234301
CREATED:20181009T145336Z
LAST-MODIFIED:20181009T145336Z
UID:10000434-1540742400-1540751400@canora.com
SUMMARY:St. Joseph's Fall Supper
DESCRIPTION:
URL:https://canora.com/event/st-josephs-fall-supper-2/
LOCATION:St. Joseph’s Catholic Church\, 201 4th Avenue East\, Canora\, Saskatchewan\, S0A 0L0\, Canada
GEO:51.6343703;-102.4401175
X-APPLE-STRUCTURED-LOCATION;VALUE=URI;X-ADDRESS=St. Joseph’s Catholic Church 201 4th Avenue East Canora Saskatchewan S0A 0L0 Canada;X-APPLE-RADIUS=500;X-TITLE=201 4th Avenue East:geo:-102.4401175,51.6343703
END:VEVENT
BEGIN:VEVENT
DTSTART;TZID=America/Regina:20181102T093000
DTEND;TZID=America/Regina:20181102T120000
DTSTAMP:20260420T234301
CREATED:20180912T194006Z
LAST-MODIFIED:20180912T194006Z
UID:10000271-1541151000-1541160000@canora.com
SUMMARY:LiveWell with Chronic Conditions
DESCRIPTION:
URL:https://canora.com/event/livewell-with-chronic-conditions/2018-11-02/
LOCATION:Canora Hospital\, 1219 Main St.\, Canora\, SK\, S0A 0L0\, Canada
GEO:51.6255604;-102.4408497
X-APPLE-STRUCTURED-LOCATION;VALUE=URI;X-ADDRESS=Canora Hospital 1219 Main St. Canora SK S0A 0L0 Canada;X-APPLE-RADIUS=500;X-TITLE=1219 Main St.:geo:-102.4408497,51.6255604
END:VEVENT
END:VCALENDAR