BEGIN:VCALENDAR
VERSION:2.0
PRODID:-//Town of Canora - ECPv6.15.17//NONSGML v1.0//EN
CALSCALE:GREGORIAN
METHOD:PUBLISH
X-WR-CALNAME:Town of Canora
X-ORIGINAL-URL:https://canora.com
X-WR-CALDESC:Events for Town of Canora
REFRESH-INTERVAL;VALUE=DURATION:PT1H
X-Robots-Tag:noindex
X-PUBLISHED-TTL:PT1H
BEGIN:VTIMEZONE
TZID:America/Regina
BEGIN:STANDARD
TZOFFSETFROM:-0600
TZOFFSETTO:-0600
TZNAME:CST
DTSTART:20170101T000000
END:STANDARD
END:VTIMEZONE
BEGIN:VEVENT
DTSTART;TZID=America/Regina:20180217T183000
DTEND;TZID=America/Regina:20180217T183000
DTSTAMP:20260420T012729
CREATED:20180206T212113Z
LAST-MODIFIED:20180206T212113Z
UID:10000167-1518892200-1518892200@canora.com
SUMMARY:Eighth Annual Lamplighter Loppet
DESCRIPTION:
URL:https://canora.com/event/eighth-annual-lamplighter-loppet/
LOCATION:Good Spirit Provincial Park Rec Hall
END:VEVENT
BEGIN:VEVENT
DTSTART;TZID=America/Regina:20180217T193000
DTEND;TZID=America/Regina:20180217T233000
DTSTAMP:20260420T012729
CREATED:20180206T145557Z
LAST-MODIFIED:20180206T145643Z
UID:10000166-1518895800-1518910200@canora.com
SUMMARY:Valentine's Senior's Dance
DESCRIPTION:
URL:https://canora.com/event/valentines-seniors-dance/
LOCATION:Ukrainian Catholic Hall\, 229 5th Avenue West\, Canora\, SK\, S0A 0L0\, Canada
END:VEVENT
BEGIN:VEVENT
DTSTART;VALUE=DATE:20180218
DTEND;VALUE=DATE:20180219
DTSTAMP:20260420T012729
CREATED:20180111T152150Z
LAST-MODIFIED:20180124T205838Z
UID:10000160-1518912000-1518998399@canora.com
SUMMARY:Trakkers 30th Anniversary Public & Family Derby
DESCRIPTION:
URL:https://canora.com/event/trakkers-wing-night/
LOCATION:Activity Centre (Golf Course)\, 333 Canora Avenue\, Canora\, SK\, S0A 0L0\, Canada
GEO:51.6341203;-102.4255996
X-APPLE-STRUCTURED-LOCATION;VALUE=URI;X-ADDRESS=Activity Centre (Golf Course) 333 Canora Avenue Canora SK S0A 0L0 Canada;X-APPLE-RADIUS=500;X-TITLE=333 Canora Avenue:geo:-102.4255996,51.6341203
END:VEVENT
BEGIN:VEVENT
DTSTART;VALUE=DATE:20180219
DTEND;VALUE=DATE:20180220
DTSTAMP:20260420T012729
CREATED:20180104T221803Z
LAST-MODIFIED:20180104T221815Z
UID:10000158-1518998400-1519084799@canora.com
SUMMARY:2 Person Stick Bonspiel
DESCRIPTION:Contact the Curling Club for details.
URL:https://canora.com/event/2-person-stick-spiel/
LOCATION:Sylvia Fedoruk Center\, 701 Main Street\, Canora\, Saskatchewan\, S0A 0L0\, Canada
ORGANIZER;CN="Canora Curling Club":MAILTO:canoracurling@gmail.com
GEO:51.6317348;-102.4385717
X-APPLE-STRUCTURED-LOCATION;VALUE=URI;X-ADDRESS=Sylvia Fedoruk Center 701 Main Street Canora Saskatchewan S0A 0L0 Canada;X-APPLE-RADIUS=500;X-TITLE=701 Main Street:geo:-102.4385717,51.6317348
END:VEVENT
BEGIN:VEVENT
DTSTART;TZID=America/Regina:20180302T190000
DTEND;TZID=America/Regina:20180302T210000
DTSTAMP:20260420T012729
CREATED:20180222T225353Z
LAST-MODIFIED:20180227T144731Z
UID:10000176-1520017200-1520024400@canora.com
SUMMARY:St.Joseph's is hosting World Day of Prayer
DESCRIPTION:Friday\, March 2nd at 7:00 pm St.Joseph's Church is hosting World Day of Prayer 2018. Seven churches in Canora are participating and everyone is welcome.
URL:https://canora.com/event/st-josephs-hosting-world-day-prayer/
LOCATION:Saskatchewan
END:VEVENT
BEGIN:VEVENT
DTSTART;TZID=America/Regina:20180306T120000
DTEND;TZID=America/Regina:20180306T120000
DTSTAMP:20260420T012729
CREATED:20180226T193238Z
LAST-MODIFIED:20180305T160652Z
UID:10000177-1520337600-1520337600@canora.com
SUMMARY:TOPS - weekly meetings are held at the Keen Age Centre 409 Main Street in Canora every Tuesday.
DESCRIPTION:
URL:https://canora.com/event/tops-weekly-meetings-held-keen-age-centre-409-main-street-canora-every-tuesday/
LOCATION:Saskatchewan
END:VEVENT
BEGIN:VEVENT
DTSTART;TZID=America/Regina:20180309T160000
DTEND;TZID=America/Regina:20180309T183000
DTSTAMP:20260420T012729
CREATED:20180209T192112Z
LAST-MODIFIED:20180209T192112Z
UID:10000168-1520611200-1520620200@canora.com
SUMMARY:UCWL Borscht and Perogy Supper
DESCRIPTION:Borscht and Perogies will be served along with butter\, onions\, and mushroom gravy from 4:00 PM to 6:30 PM @ Ukrainian Catholic Hall
URL:https://canora.com/event/ucwl-borscht-perogy-supper/
LOCATION:Ukrainian Catholic Hall\, 229 5th Avenue West\, Canora\, SK\, S0A 0L0\, Canada
ORGANIZER;CN="UCWL":MAILTO:ahrycak@gmail.com
END:VEVENT
BEGIN:VEVENT
DTSTART;VALUE=DATE:20180310
DTEND;VALUE=DATE:20180311
DTSTAMP:20260420T012729
CREATED:20180213T165654Z
LAST-MODIFIED:20180213T172508Z
UID:10000169-1520640000-1520726399@canora.com
SUMMARY:3rd Annual Snow Pitch Event
DESCRIPTION:Saturday March 10\n8 teams max\, $200 per team\, $100 deposit by March 3rd.\nPayout pending # of entries\nTop 3 teams get $ prize.\n4th\, 5th place teams receive prizes donated by Lunn Bar and hotel and The Canora Hotel\n\n **Tournament format**\n5 inning games\n1 pitch per batter\nBat entire roster per inning (10 batters max)\nBatting team supplies pitcher\nTourney starts 9 am sharp and ends 5pm.\nIf games currently being played at 5pm they will be allowed to finish game.\n15 minute grace period between games\, if team or teams not ready or able to play 15 mins after the previous game then game or team will be forfeited.\nWins will be tallied up after the tourney is complete\nTop 5teams with most wins will receive 1st\, 2nd and 3rd\,4th\,5th place prizes.\nIf there are ties in wins\, winner will be decided by the team with the most runs in tourney.To enter please call/text Kerry @ (306) 562-7779\nEntry/deposit can be paid in cash/EMT
URL:https://canora.com/event/3rd-annual-snow-pitch-event/
LOCATION:Sports Grounds\, Canora\, Saskatchewan\, S0A 0L0\, Canada
END:VEVENT
BEGIN:VEVENT
DTSTART;VALUE=DATE:20180313
DTEND;VALUE=DATE:20180314
DTSTAMP:20260420T012729
CREATED:20180221T174846Z
LAST-MODIFIED:20180221T174846Z
UID:10000174-1520899200-1520985599@canora.com
SUMMARY:Soil Health Solution Information Session
DESCRIPTION:
URL:https://canora.com/event/soil-health-solution-information-session/
LOCATION:Activity Centre\, 333 Canora Avenue
END:VEVENT
BEGIN:VEVENT
DTSTART;TZID=America/Regina:20180316T160000
DTEND;TZID=America/Regina:20180316T183000
DTSTAMP:20260420T012729
CREATED:20180222T212049Z
LAST-MODIFIED:20180222T212049Z
UID:10000175-1521216000-1521225000@canora.com
SUMMARY:Borscht & Perogie Meal
DESCRIPTION:St. Joseph's Parish
URL:https://canora.com/event/borscht-perogie-meal/
LOCATION:St. Joseph’s Catholic Church\, 201 4th Avenue East\, Canora\, Saskatchewan\, S0A 0L0\, Canada
GEO:51.6343703;-102.4401175
X-APPLE-STRUCTURED-LOCATION;VALUE=URI;X-ADDRESS=St. Joseph’s Catholic Church 201 4th Avenue East Canora Saskatchewan S0A 0L0 Canada;X-APPLE-RADIUS=500;X-TITLE=201 4th Avenue East:geo:-102.4401175,51.6343703
END:VEVENT
BEGIN:VEVENT
DTSTART;TZID=America/Regina:20180317T180000
DTEND;TZID=America/Regina:20180317T213000
DTSTAMP:20260420T012729
CREATED:20180227T205018Z
LAST-MODIFIED:20180227T205018Z
UID:10000179-1521309600-1521322200@canora.com
SUMMARY:Youth St. Patricks Dance
DESCRIPTION:Ages 3 – 8   6:00 – 7:30 PM \nAges  9 – 15   8:00 – 9:30 PM \nCost  $2.00
URL:https://canora.com/event/youth-st-patricks-dance/
LOCATION:Kids Korner Youth Centre
END:VEVENT
BEGIN:VEVENT
DTSTART;TZID=America/Regina:20180318T140000
DTEND;TZID=America/Regina:20180318T140000
DTSTAMP:20260420T012729
CREATED:20171024T160851Z
LAST-MODIFIED:20180312T193956Z
UID:10000145-1521381600-1521381600@canora.com
SUMMARY:The Annual Canora Skating Club Carnival
DESCRIPTION:
URL:https://canora.com/event/annual-canora-skating-club-carnival/
LOCATION:Canora Civic Centre\, 711 Main Street\, Canora\, Saskatchewan\, S0A 0L0\, Canada
GEO:51.6315739;-102.4386783
X-APPLE-STRUCTURED-LOCATION;VALUE=URI;X-ADDRESS=Canora Civic Centre 711 Main Street Canora Saskatchewan S0A 0L0 Canada;X-APPLE-RADIUS=500;X-TITLE=711 Main Street:geo:-102.4386783,51.6315739
END:VEVENT
BEGIN:VEVENT
DTSTART;VALUE=DATE:20180320
DTEND;VALUE=DATE:20180326
DTSTAMP:20260420T012729
CREATED:20180104T221909Z
LAST-MODIFIED:20180104T222423Z
UID:10000159-1521504000-1522022399@canora.com
SUMMARY:Mens Bonspiel
DESCRIPTION:Contact the Curling Club for details.
URL:https://canora.com/event/mens-bonspiel/
LOCATION:Sylvia Fedoruk Center\, 701 Main Street\, Canora\, Saskatchewan\, S0A 0L0\, Canada
ORGANIZER;CN="Canora Curling Club":MAILTO:canoracurling@gmail.com
GEO:51.6317348;-102.4385717
X-APPLE-STRUCTURED-LOCATION;VALUE=URI;X-ADDRESS=Sylvia Fedoruk Center 701 Main Street Canora Saskatchewan S0A 0L0 Canada;X-APPLE-RADIUS=500;X-TITLE=701 Main Street:geo:-102.4385717,51.6317348
END:VEVENT
BEGIN:VEVENT
DTSTART;TZID=America/Regina:20180321T190000
DTEND;TZID=America/Regina:20180321T190000
DTSTAMP:20260420T012729
CREATED:20180316T223751Z
LAST-MODIFIED:20180316T223840Z
UID:10000184-1521658800-1521658800@canora.com
SUMMARY:RCMP Open Public Meeting
DESCRIPTION:Wednesday March 21st\, 7:00 pm \nOpen to the public \nPower Point Presentation \nActivity Centre (Golf Course)
URL:https://canora.com/event/rcmp-open-public-meeting/
LOCATION:Activity Centre (Golf Course)\, 333 Canora Avenue\, Canora\, SK\, S0A 0L0\, Canada
GEO:51.6341203;-102.4255996
X-APPLE-STRUCTURED-LOCATION;VALUE=URI;X-ADDRESS=Activity Centre (Golf Course) 333 Canora Avenue Canora SK S0A 0L0 Canada;X-APPLE-RADIUS=500;X-TITLE=333 Canora Avenue:geo:-102.4255996,51.6341203
END:VEVENT
BEGIN:VEVENT
DTSTART;TZID=America/Regina:20180322T100000
DTEND;TZID=America/Regina:20180322T100000
DTSTAMP:20260420T012729
CREATED:20180220T145902Z
LAST-MODIFIED:20180220T153043Z
UID:10000171-1521712800-1521712800@canora.com
SUMMARY:Easter Bake Sale & Tea
DESCRIPTION:Babas\, Paskas\, Doughnuts\, Cabbage Rolls and other baking will be for sale.
URL:https://canora.com/event/easter-bake-sale-tea/
LOCATION:Ukrainian Catholic Hall\, 229 5th Avenue West\, Canora\, SK\, S0A 0L0\, Canada
ORGANIZER;CN="UCWL":MAILTO:ahrycak@gmail.com
END:VEVENT
BEGIN:VEVENT
DTSTART;VALUE=DATE:20180324
DTEND;VALUE=DATE:20180325
DTSTAMP:20260420T012729
CREATED:20180227T205211Z
LAST-MODIFIED:20180316T190730Z
UID:10000180-1521849600-1521935999@canora.com
SUMMARY:Youth Pizza & Movie
DESCRIPTION:Ages  6 – 15 \nIncludes:  2 Slices Pizza\,  Drink\,  Popcorn  & Movie \nCost $10.00
URL:https://canora.com/event/youth-pizza-movie/
LOCATION:Kids Korner Youth Centre
END:VEVENT
BEGIN:VEVENT
DTSTART;TZID=America/Regina:20180325T133000
DTEND;TZID=America/Regina:20180325T150000
DTSTAMP:20260420T012729
CREATED:20180306T210426Z
LAST-MODIFIED:20180306T210426Z
UID:10000182-1521984600-1521990000@canora.com
SUMMARY:Spring Tea
DESCRIPTION:Canora Gateway Lodge Spring Tea \nSponsored by Gateway Lodge Ladies Auxiliary. Everyone Welcome.
URL:https://canora.com/event/spring-tea/
LOCATION:Canora Gateway Lodge\, 212 Centre Ave.\, Canora\, SK\, S0A 0L0\, Canada
END:VEVENT
BEGIN:VEVENT
DTSTART;TZID=America/Regina:20180328T120000
DTEND;TZID=America/Regina:20180328T120000
DTSTAMP:20260420T012729
CREATED:20180314T161924Z
LAST-MODIFIED:20180321T194952Z
UID:10000183-1522238400-1522238400@canora.com
SUMMARY:Easter Bake Sale
DESCRIPTION:
URL:https://canora.com/event/bake-sale/
LOCATION:Rainbow Hall\, 203 1st Avenue E\, Canora
END:VEVENT
BEGIN:VEVENT
DTSTART;TZID=America/Regina:20180329T170000
DTEND;TZID=America/Regina:20180329T190000
DTSTAMP:20260420T012729
CREATED:20180214T144543Z
LAST-MODIFIED:20180302T145504Z
UID:10000170-1522342800-1522350000@canora.com
SUMMARY:Spring and Summer Mass Registration
DESCRIPTION:Groups attending to date include: \n1) Canora Children's Centre\n2) Canora Nursery School\n3) Canora Golf And Country Club\n4) Canora Minor Baseball Association\n5) Canora Soccer Club\n6) Kids Korner Youth Centre Inc.\n7) Canora Swimming Pool (We will be able to process credit card transactions at the front desk)
URL:https://canora.com/event/spring-summer-mass-registration/
LOCATION:Canora Town Office\, 418 Main Street\, Canora\, SK\, S0A 0L0\, Canada
ORGANIZER;CN="Canora Leisure Services":MAILTO:leisure.canora@sasktel.net
END:VEVENT
BEGIN:VEVENT
DTSTART;VALUE=DATE:20180331
DTEND;VALUE=DATE:20180401
DTSTAMP:20260420T012729
CREATED:20180227T205355Z
LAST-MODIFIED:20180316T190834Z
UID:10000181-1522454400-1522540799@canora.com
SUMMARY:Youth Easter Egg Hunt
DESCRIPTION:Easter Egg Hunt \nAges  18 mos – 10 yrs old \nPre-registration & payment required by March 28th \nIncludes: \n\nEgg Hunt\nCraft\nGames\nCookie decorating
URL:https://canora.com/event/youth-easter-egg-hunt/
LOCATION:Kids Korner Youth Centre
END:VEVENT
BEGIN:VEVENT
DTSTART;TZID=America/Regina:20180410T170000
DTEND;TZID=America/Regina:20180410T170000
DTSTAMP:20260420T012729
CREATED:20180221T160530Z
LAST-MODIFIED:20180221T160530Z
UID:10000172-1523379600-1523379600@canora.com
SUMMARY:Take off Pounds Sensibly
DESCRIPTION:
URL:https://canora.com/event/take-off-pounds-sensibly/
LOCATION:Keen Age Centre\, 409 Main St.\, Canora\, SK\, S0A 0L0\, Canada
END:VEVENT
BEGIN:VEVENT
DTSTART;TZID=America/Regina:20180411T193000
DTEND;TZID=America/Regina:20180411T193000
DTSTAMP:20260420T012729
CREATED:20171024T161617Z
LAST-MODIFIED:20171024T161633Z
UID:10000146-1523475000-1523475000@canora.com
SUMMARY:Stephen Fearing Concert
DESCRIPTION:In part of the Starts for Saskatchewan Concert Series Canora Arts Council presents award winning singer\, musician; Stephen Fearing. \n 
URL:https://canora.com/event/stephen-fearing-concert/
LOCATION:Canora Composite School\, Canora\, SK\, S0A 0L0\, Canada
END:VEVENT
BEGIN:VEVENT
DTSTART;TZID=America/Regina:20180412T183000
DTEND;TZID=America/Regina:20180412T183000
DTSTAMP:20260420T012729
CREATED:20180227T203326Z
LAST-MODIFIED:20180227T203326Z
UID:10000178-1523557800-1523557800@canora.com
SUMMARY:Canora Soccer Club Annual General Meeting
DESCRIPTION:Location to be determined
URL:https://canora.com/event/canora-soccer-club-annual-general-meeting/
LOCATION:Saskatchewan
END:VEVENT
BEGIN:VEVENT
DTSTART;TZID=America/Regina:20180414T193000
DTEND;TZID=America/Regina:20180414T233000
DTSTAMP:20260420T012729
CREATED:20180320T202718Z
LAST-MODIFIED:20180320T202727Z
UID:10000185-1523734200-1523748600@canora.com
SUMMARY:Canora Seniors' Dance
DESCRIPTION:
URL:https://canora.com/event/canora-seniors-dance-6/
LOCATION:Ukrainian Catholic Hall\, 229 5th Avenue West\, Canora\, SK\, S0A 0L0\, Canada
END:VEVENT
BEGIN:VEVENT
DTSTART;TZID=America/Regina:20180418T190000
DTEND;TZID=America/Regina:20180418T190000
DTSTAMP:20260420T012729
CREATED:20180418T171013Z
LAST-MODIFIED:20180418T201715Z
UID:10000193-1524078000-1524078000@canora.com
SUMMARY:Canora Golf & Country AGM
DESCRIPTION:
URL:https://canora.com/event/canora-golf-country-agm/
LOCATION:Activity Centre (Golf Course)\, 333 Canora Avenue\, Canora\, SK\, S0A 0L0\, Canada
ORGANIZER;CN="Canora Golf Club":MAILTO:canoragolfclub@gmail.com
GEO:51.6341203;-102.4255996
X-APPLE-STRUCTURED-LOCATION;VALUE=URI;X-ADDRESS=Activity Centre (Golf Course) 333 Canora Avenue Canora SK S0A 0L0 Canada;X-APPLE-RADIUS=500;X-TITLE=333 Canora Avenue:geo:-102.4255996,51.6341203
END:VEVENT
BEGIN:VEVENT
DTSTART;VALUE=DATE:20180421
DTEND;VALUE=DATE:20180422
DTSTAMP:20260420T012729
CREATED:20180119T144423Z
LAST-MODIFIED:20180319T230128Z
UID:10000163-1524268800-1524355199@canora.com
SUMMARY:Farmers's Night Out
DESCRIPTION:
URL:https://canora.com/event/farmerss-night-out/
LOCATION:Sylvia Fedoruk Center\, 701 Main Street\, Canora\, Saskatchewan\, S0A 0L0\, Canada
GEO:51.6317348;-102.4385717
X-APPLE-STRUCTURED-LOCATION;VALUE=URI;X-ADDRESS=Sylvia Fedoruk Center 701 Main Street Canora Saskatchewan S0A 0L0 Canada;X-APPLE-RADIUS=500;X-TITLE=701 Main Street:geo:-102.4385717,51.6317348
END:VEVENT
BEGIN:VEVENT
DTSTART;TZID=America/Regina:20180429T140000
DTEND;TZID=America/Regina:20180429T140000
DTSTAMP:20260420T012729
CREATED:20180418T162217Z
LAST-MODIFIED:20180418T162217Z
UID:10000187-1525010400-1525010400@canora.com
SUMMARY:44TH Annual Ukrainian Dance Concert
DESCRIPTION:Silver Collection
URL:https://canora.com/event/44th-annual-ukrainian-dance-concert/
LOCATION:Canora High School Auditorium
END:VEVENT
BEGIN:VEVENT
DTSTART;VALUE=DATE:20180501
DTEND;VALUE=DATE:20180502
DTSTAMP:20260420T012729
CREATED:20180420T175429Z
LAST-MODIFIED:20180420T175536Z
UID:10000195-1525132800-1525219199@canora.com
SUMMARY:Tickets go on sale for Kim Mitchell
DESCRIPTION:Canora in Bloom Music Festival on July 14th\, Headlined by Canadian rock icon KIM MITCHELL. Live at King George Park. Tickets go on sale May 1st. For Tickets call (306) 563-5773. Limited sold so get yours before its too late.
URL:https://canora.com/event/tickets-go-on-sale-for-kim-mitchell/
LOCATION:Canora Town Office\, 418 Main Street\, Canora\, SK\, S0A 0L0\, Canada
END:VEVENT
BEGIN:VEVENT
DTSTART;TZID=America/Regina:20180505T110000
DTEND;TZID=America/Regina:20180505T190000
DTSTAMP:20260420T012729
CREATED:20180423T161352Z
LAST-MODIFIED:20180423T161352Z
UID:10000196-1525518000-1525546800@canora.com
SUMMARY:Fluid Art
DESCRIPTION:
URL:https://canora.com/event/fluid-art/
LOCATION:Kids Korner Youth Centre
END:VEVENT
BEGIN:VEVENT
DTSTART;TZID=America/Regina:20180509T163000
DTEND;TZID=America/Regina:20180509T190000
DTSTAMP:20260420T012729
CREATED:20180425T191215Z
LAST-MODIFIED:20180425T192635Z
UID:10000197-1525883400-1525892400@canora.com
SUMMARY:Perogie& Sausage Supper
DESCRIPTION:Everyone Welcome!
URL:https://canora.com/event/perogie-sausage-supper-2/
LOCATION:Rainbow Hall\, 203 1st Avenue E\, Canora
END:VEVENT
END:VCALENDAR