BEGIN:VCALENDAR
VERSION:2.0
PRODID:-//Town of Canora - ECPv6.15.17//NONSGML v1.0//EN
CALSCALE:GREGORIAN
METHOD:PUBLISH
X-WR-CALNAME:Town of Canora
X-ORIGINAL-URL:https://canora.com
X-WR-CALDESC:Events for Town of Canora
REFRESH-INTERVAL;VALUE=DURATION:PT1H
X-Robots-Tag:noindex
X-PUBLISHED-TTL:PT1H
BEGIN:VTIMEZONE
TZID:America/Regina
BEGIN:STANDARD
TZOFFSETFROM:-0600
TZOFFSETTO:-0600
TZNAME:CST
DTSTART:20210101T000000
END:STANDARD
END:VTIMEZONE
BEGIN:VEVENT
DTSTART;TZID=America/Regina:20220224T130000
DTEND;TZID=America/Regina:20220224T150000
DTSTAMP:20260425T193754
CREATED:20211015T220920Z
LAST-MODIFIED:20211028T205628Z
UID:10000809-1645707600-1645714800@canora.com
SUMMARY:Afternoon Drop-in Curling
DESCRIPTION:Drop in rate: $10.00 \nSeasonal Rate: $200.00 \nIf your are to new to the community just come down to the rink before scheduled time and join the fund. \nClub brooms\, throwing sticks\,  and sliders are available for those who do not have their own. \nAll participants are required to have clean inside shoes. \n 
URL:https://canora.com/event/afternnon-drop-in-league/2022-02-24/
LOCATION:Sylvia Fedoruk Center\, 701 Main Street\, Canora\, Saskatchewan\, S0A 0L0\, Canada
ORGANIZER;CN="Canora Curling Club":MAILTO:canoracurling@gmail.com
GEO:51.6317348;-102.4385717
X-APPLE-STRUCTURED-LOCATION;VALUE=URI;X-ADDRESS=Sylvia Fedoruk Center 701 Main Street Canora Saskatchewan S0A 0L0 Canada;X-APPLE-RADIUS=500;X-TITLE=701 Main Street:geo:-102.4385717,51.6317348
END:VEVENT
BEGIN:VEVENT
DTSTART;TZID=America/Regina:20220224T183000
DTEND;TZID=America/Regina:20220224T183000
DTSTAMP:20260425T193754
CREATED:20211015T221255Z
LAST-MODIFIED:20220323T171007Z
UID:10000838-1645727400-1645727400@canora.com
SUMMARY:Rec League Curling
DESCRIPTION:Join our Thursday night rec league for some fun on the ice. A great way to socialize and meet people around the community. Our Club lounge offers food and beverage every Thursday. \nIndividual Season Rate: $100.00 \nTeam Season Rate: $400.00 \nRegister as a individual or team: https://canora.com/curling-2/ \n2021-22 Curling Registration form \n  \n 
URL:https://canora.com/event/rec-league-curling/2022-02-24/
LOCATION:Sylvia Fedoruk Center\, 701 Main Street\, Canora\, Saskatchewan\, S0A 0L0\, Canada
ORGANIZER;CN="Canora Curling Club":MAILTO:canoracurling@gmail.com
GEO:51.6317348;-102.4385717
X-APPLE-STRUCTURED-LOCATION;VALUE=URI;X-ADDRESS=Sylvia Fedoruk Center 701 Main Street Canora Saskatchewan S0A 0L0 Canada;X-APPLE-RADIUS=500;X-TITLE=701 Main Street:geo:-102.4385717,51.6317348
END:VEVENT
BEGIN:VEVENT
DTSTART;TZID=America/Regina:20220225T180000
DTEND;TZID=America/Regina:20220225T210000
DTSTAMP:20260425T193754
CREATED:20220217T212424Z
LAST-MODIFIED:20220217T212533Z
UID:10000943-1645812000-1645822800@canora.com
SUMMARY:U11 Cobras Hockey Tournament
DESCRIPTION:
URL:https://canora.com/event/u11-cobras-hockey-tournament/2022-02-25/
LOCATION:Canora Civic Centre\, 711 Main Street\, Canora\, Saskatchewan\, S0A 0L0\, Canada
GEO:51.6315739;-102.4386783
X-APPLE-STRUCTURED-LOCATION;VALUE=URI;X-ADDRESS=Canora Civic Centre 711 Main Street Canora Saskatchewan S0A 0L0 Canada;X-APPLE-RADIUS=500;X-TITLE=711 Main Street:geo:-102.4386783,51.6315739
END:VEVENT
BEGIN:VEVENT
DTSTART;TZID=America/Regina:20220226T080000
DTEND;TZID=America/Regina:20220226T190000
DTSTAMP:20260425T193754
CREATED:20220217T212424Z
LAST-MODIFIED:20220217T212533Z
UID:10000944-1645862400-1645902000@canora.com
SUMMARY:U11 Cobras Hockey Tournament
DESCRIPTION:
URL:https://canora.com/event/u11-cobras-hockey-tournament/2022-02-26/
LOCATION:Canora Civic Centre\, 711 Main Street\, Canora\, Saskatchewan\, S0A 0L0\, Canada
GEO:51.6315739;-102.4386783
X-APPLE-STRUCTURED-LOCATION;VALUE=URI;X-ADDRESS=Canora Civic Centre 711 Main Street Canora Saskatchewan S0A 0L0 Canada;X-APPLE-RADIUS=500;X-TITLE=711 Main Street:geo:-102.4386783,51.6315739
END:VEVENT
BEGIN:VEVENT
DTSTART;TZID=America/Regina:20220228T130000
DTEND;TZID=America/Regina:20220228T150000
DTSTAMP:20260425T193754
CREATED:20211015T220920Z
LAST-MODIFIED:20211028T205628Z
UID:10000810-1646053200-1646060400@canora.com
SUMMARY:Afternoon Drop-in Curling
DESCRIPTION:Drop in rate: $10.00 \nSeasonal Rate: $200.00 \nIf your are to new to the community just come down to the rink before scheduled time and join the fund. \nClub brooms\, throwing sticks\,  and sliders are available for those who do not have their own. \nAll participants are required to have clean inside shoes. \n 
URL:https://canora.com/event/afternnon-drop-in-league/2022-02-28/
LOCATION:Sylvia Fedoruk Center\, 701 Main Street\, Canora\, Saskatchewan\, S0A 0L0\, Canada
ORGANIZER;CN="Canora Curling Club":MAILTO:canoracurling@gmail.com
GEO:51.6317348;-102.4385717
X-APPLE-STRUCTURED-LOCATION;VALUE=URI;X-ADDRESS=Sylvia Fedoruk Center 701 Main Street Canora Saskatchewan S0A 0L0 Canada;X-APPLE-RADIUS=500;X-TITLE=701 Main Street:geo:-102.4385717,51.6317348
END:VEVENT
BEGIN:VEVENT
DTSTART;TZID=America/Regina:20220228T130000
DTEND;TZID=America/Regina:20220228T151500
DTSTAMP:20260425T193754
CREATED:20220202T142733Z
LAST-MODIFIED:20220207T143929Z
UID:10000883-1646053200-1646061300@canora.com
SUMMARY:Parent & Infant Sessions
DESCRIPTION:NOTICE: SESSIONS ARE NOW ON MONDAYS. START DATE IS  FEBRURAY 28th\, 2022. YOU MUST REGISTER.
URL:https://canora.com/event/parent-infant-sessions/2022-02-28/
LOCATION:Activity Centre (Golf Course)\, 333 Canora Avenue\, Canora\, SK\, S0A 0L0\, Canada
ORGANIZER;CN="Canora Leisure Services":MAILTO:leisure.canora@sasktel.net
GEO:51.6341203;-102.4255996
X-APPLE-STRUCTURED-LOCATION;VALUE=URI;X-ADDRESS=Activity Centre (Golf Course) 333 Canora Avenue Canora SK S0A 0L0 Canada;X-APPLE-RADIUS=500;X-TITLE=333 Canora Avenue:geo:-102.4255996,51.6341203
END:VEVENT
BEGIN:VEVENT
DTSTART;TZID=America/Regina:20220301T130000
DTEND;TZID=America/Regina:20220301T150000
DTSTAMP:20260425T193754
CREATED:20211015T220920Z
LAST-MODIFIED:20211028T205628Z
UID:10000811-1646139600-1646146800@canora.com
SUMMARY:Afternoon Drop-in Curling
DESCRIPTION:Drop in rate: $10.00 \nSeasonal Rate: $200.00 \nIf your are to new to the community just come down to the rink before scheduled time and join the fund. \nClub brooms\, throwing sticks\,  and sliders are available for those who do not have their own. \nAll participants are required to have clean inside shoes. \n 
URL:https://canora.com/event/afternnon-drop-in-league/2022-03-01/
LOCATION:Sylvia Fedoruk Center\, 701 Main Street\, Canora\, Saskatchewan\, S0A 0L0\, Canada
ORGANIZER;CN="Canora Curling Club":MAILTO:canoracurling@gmail.com
GEO:51.6317348;-102.4385717
X-APPLE-STRUCTURED-LOCATION;VALUE=URI;X-ADDRESS=Sylvia Fedoruk Center 701 Main Street Canora Saskatchewan S0A 0L0 Canada;X-APPLE-RADIUS=500;X-TITLE=701 Main Street:geo:-102.4385717,51.6317348
END:VEVENT
BEGIN:VEVENT
DTSTART;TZID=America/Regina:20220301T183000
DTEND;TZID=America/Regina:20220301T183000
DTSTAMP:20260425T193754
CREATED:20211015T221255Z
LAST-MODIFIED:20220323T171007Z
UID:10000839-1646159400-1646159400@canora.com
SUMMARY:Rec League Curling
DESCRIPTION:Join our Thursday night rec league for some fun on the ice. A great way to socialize and meet people around the community. Our Club lounge offers food and beverage every Thursday. \nIndividual Season Rate: $100.00 \nTeam Season Rate: $400.00 \nRegister as a individual or team: https://canora.com/curling-2/ \n2021-22 Curling Registration form \n  \n 
URL:https://canora.com/event/rec-league-curling/2022-03-01/
LOCATION:Sylvia Fedoruk Center\, 701 Main Street\, Canora\, Saskatchewan\, S0A 0L0\, Canada
ORGANIZER;CN="Canora Curling Club":MAILTO:canoracurling@gmail.com
GEO:51.6317348;-102.4385717
X-APPLE-STRUCTURED-LOCATION;VALUE=URI;X-ADDRESS=Sylvia Fedoruk Center 701 Main Street Canora Saskatchewan S0A 0L0 Canada;X-APPLE-RADIUS=500;X-TITLE=701 Main Street:geo:-102.4385717,51.6317348
END:VEVENT
BEGIN:VEVENT
DTSTART;TZID=America/Regina:20220302T183000
DTEND;TZID=America/Regina:20220302T183000
DTSTAMP:20260425T193754
CREATED:20211130T152850Z
LAST-MODIFIED:20211130T153215Z
UID:10000876-1646245800-1646245800@canora.com
SUMMARY:Youth Curling
DESCRIPTION:
URL:https://canora.com/event/youth-curling/2022-03-02/
LOCATION:Sylvia Fedoruk Centre\, 701 Main Street\, Canada
ORGANIZER;CN="Canora Curling Club":MAILTO:canoracurling@gmail.com
END:VEVENT
BEGIN:VEVENT
DTSTART;TZID=America/Regina:20220302T190000
DTEND;TZID=America/Regina:20220302T190000
DTSTAMP:20260425T193754
CREATED:20220209T154725Z
LAST-MODIFIED:20220209T160827Z
UID:10000886-1646247600-1646247600@canora.com
SUMMARY:Minor Baseball Annual General Meeting
DESCRIPTION:Join our community\, get involved and up to speed with all the new developments of Canora Minor Baseball's program in 2022.
URL:https://canora.com/event/minor-baseball-annual-general-meeting/
LOCATION:Sylvia Fedoruk Centre\, 701 Main Street\, Canada
END:VEVENT
BEGIN:VEVENT
DTSTART;VALUE=DATE:20220303
DTEND;VALUE=DATE:20220307
DTSTAMP:20260425T193754
CREATED:20211015T222314Z
LAST-MODIFIED:20211130T154351Z
UID:10000848-1646265600-1646611199@canora.com
SUMMARY:Mens Bonspiel
DESCRIPTION:
URL:https://canora.com/event/mens-bonspiel-3/
LOCATION:Sylvia Fedoruk Center\, 701 Main Street\, Canora\, Saskatchewan\, S0A 0L0\, Canada
ORGANIZER;CN="Canora Curling Club":MAILTO:canoracurling@gmail.com
GEO:51.6317348;-102.4385717
X-APPLE-STRUCTURED-LOCATION;VALUE=URI;X-ADDRESS=Sylvia Fedoruk Center 701 Main Street Canora Saskatchewan S0A 0L0 Canada;X-APPLE-RADIUS=500;X-TITLE=701 Main Street:geo:-102.4385717,51.6317348
END:VEVENT
BEGIN:VEVENT
DTSTART;TZID=America/Regina:20220303T130000
DTEND;TZID=America/Regina:20220303T150000
DTSTAMP:20260425T193754
CREATED:20211015T220920Z
LAST-MODIFIED:20211028T205628Z
UID:10000812-1646312400-1646319600@canora.com
SUMMARY:Afternoon Drop-in Curling
DESCRIPTION:Drop in rate: $10.00 \nSeasonal Rate: $200.00 \nIf your are to new to the community just come down to the rink before scheduled time and join the fund. \nClub brooms\, throwing sticks\,  and sliders are available for those who do not have their own. \nAll participants are required to have clean inside shoes. \n 
URL:https://canora.com/event/afternnon-drop-in-league/2022-03-03/
LOCATION:Sylvia Fedoruk Center\, 701 Main Street\, Canora\, Saskatchewan\, S0A 0L0\, Canada
ORGANIZER;CN="Canora Curling Club":MAILTO:canoracurling@gmail.com
GEO:51.6317348;-102.4385717
X-APPLE-STRUCTURED-LOCATION;VALUE=URI;X-ADDRESS=Sylvia Fedoruk Center 701 Main Street Canora Saskatchewan S0A 0L0 Canada;X-APPLE-RADIUS=500;X-TITLE=701 Main Street:geo:-102.4385717,51.6317348
END:VEVENT
BEGIN:VEVENT
DTSTART;TZID=America/Regina:20220303T183000
DTEND;TZID=America/Regina:20220303T183000
DTSTAMP:20260425T193754
CREATED:20211015T221255Z
LAST-MODIFIED:20220323T171007Z
UID:10000840-1646332200-1646332200@canora.com
SUMMARY:Rec League Curling
DESCRIPTION:Join our Thursday night rec league for some fun on the ice. A great way to socialize and meet people around the community. Our Club lounge offers food and beverage every Thursday. \nIndividual Season Rate: $100.00 \nTeam Season Rate: $400.00 \nRegister as a individual or team: https://canora.com/curling-2/ \n2021-22 Curling Registration form \n  \n 
URL:https://canora.com/event/rec-league-curling/2022-03-03/
LOCATION:Sylvia Fedoruk Center\, 701 Main Street\, Canora\, Saskatchewan\, S0A 0L0\, Canada
ORGANIZER;CN="Canora Curling Club":MAILTO:canoracurling@gmail.com
GEO:51.6317348;-102.4385717
X-APPLE-STRUCTURED-LOCATION;VALUE=URI;X-ADDRESS=Sylvia Fedoruk Center 701 Main Street Canora Saskatchewan S0A 0L0 Canada;X-APPLE-RADIUS=500;X-TITLE=701 Main Street:geo:-102.4385717,51.6317348
END:VEVENT
BEGIN:VEVENT
DTSTART;TZID=America/Regina:20220304T193000
DTEND;TZID=America/Regina:20220304T193000
DTSTAMP:20260425T193754
CREATED:20211119T151518Z
LAST-MODIFIED:20220214T221354Z
UID:10000861-1646422200-1646422200@canora.com
SUMMARY:Blue Moon Marquee
DESCRIPTION:Stars for Saskatchewan Concert Series
URL:https://canora.com/event/blue-moon-marquee/
LOCATION:Canora Composite School\, 223 8 Avenue\, Canora\, Saskatchewan\, S0A 0L0\, Canada
END:VEVENT
BEGIN:VEVENT
DTSTART;TZID=America/Regina:20220306T130000
DTEND;TZID=America/Regina:20220306T130000
DTSTAMP:20260425T193754
CREATED:20220303T153107Z
LAST-MODIFIED:20220303T160631Z
UID:10000950-1646571600-1646571600@canora.com
SUMMARY:U15 Playoff Game Prairie Ice VS Estevan Bearcats
DESCRIPTION:All girls hockey.
URL:https://canora.com/event/u15-playoff-game-prairie-ice-vs-estevan-bearcats/
LOCATION:Canora Civic Centre\, 711 Main Street\, Canora\, Saskatchewan\, S0A 0L0\, Canada
GEO:51.6315739;-102.4386783
X-APPLE-STRUCTURED-LOCATION;VALUE=URI;X-ADDRESS=Canora Civic Centre 711 Main Street Canora Saskatchewan S0A 0L0 Canada;X-APPLE-RADIUS=500;X-TITLE=711 Main Street:geo:-102.4386783,51.6315739
END:VEVENT
BEGIN:VEVENT
DTSTART;VALUE=DATE:20220307
DTEND;VALUE=DATE:20220311
DTSTAMP:20260425T193754
CREATED:20211015T222059Z
LAST-MODIFIED:20220215T162558Z
UID:10000846-1646611200-1646956799@canora.com
SUMMARY:Seniors Bonspiel
DESCRIPTION:
URL:https://canora.com/event/seniors-bonspiel-2/
LOCATION:Sylvia Fedoruk Center\, 701 Main Street\, Canora\, Saskatchewan\, S0A 0L0\, Canada
ORGANIZER;CN="Canora Curling Club":MAILTO:canoracurling@gmail.com
GEO:51.6317348;-102.4385717
X-APPLE-STRUCTURED-LOCATION;VALUE=URI;X-ADDRESS=Sylvia Fedoruk Center 701 Main Street Canora Saskatchewan S0A 0L0 Canada;X-APPLE-RADIUS=500;X-TITLE=701 Main Street:geo:-102.4385717,51.6317348
END:VEVENT
BEGIN:VEVENT
DTSTART;TZID=America/Regina:20220307T130000
DTEND;TZID=America/Regina:20220307T150000
DTSTAMP:20260425T193754
CREATED:20211015T220920Z
LAST-MODIFIED:20211028T205628Z
UID:10000813-1646658000-1646665200@canora.com
SUMMARY:Afternoon Drop-in Curling
DESCRIPTION:Drop in rate: $10.00 \nSeasonal Rate: $200.00 \nIf your are to new to the community just come down to the rink before scheduled time and join the fund. \nClub brooms\, throwing sticks\,  and sliders are available for those who do not have their own. \nAll participants are required to have clean inside shoes. \n 
URL:https://canora.com/event/afternnon-drop-in-league/2022-03-07/
LOCATION:Sylvia Fedoruk Center\, 701 Main Street\, Canora\, Saskatchewan\, S0A 0L0\, Canada
ORGANIZER;CN="Canora Curling Club":MAILTO:canoracurling@gmail.com
GEO:51.6317348;-102.4385717
X-APPLE-STRUCTURED-LOCATION;VALUE=URI;X-ADDRESS=Sylvia Fedoruk Center 701 Main Street Canora Saskatchewan S0A 0L0 Canada;X-APPLE-RADIUS=500;X-TITLE=701 Main Street:geo:-102.4385717,51.6317348
END:VEVENT
BEGIN:VEVENT
DTSTART;TZID=America/Regina:20220307T130000
DTEND;TZID=America/Regina:20220307T151500
DTSTAMP:20260425T193754
CREATED:20220202T142733Z
LAST-MODIFIED:20220207T143929Z
UID:10000884-1646658000-1646666100@canora.com
SUMMARY:Parent & Infant Sessions
DESCRIPTION:NOTICE: SESSIONS ARE NOW ON MONDAYS. START DATE IS  FEBRURAY 28th\, 2022. YOU MUST REGISTER.
URL:https://canora.com/event/parent-infant-sessions/2022-03-07/
LOCATION:Activity Centre (Golf Course)\, 333 Canora Avenue\, Canora\, SK\, S0A 0L0\, Canada
ORGANIZER;CN="Canora Leisure Services":MAILTO:leisure.canora@sasktel.net
GEO:51.6341203;-102.4255996
X-APPLE-STRUCTURED-LOCATION;VALUE=URI;X-ADDRESS=Activity Centre (Golf Course) 333 Canora Avenue Canora SK S0A 0L0 Canada;X-APPLE-RADIUS=500;X-TITLE=333 Canora Avenue:geo:-102.4255996,51.6341203
END:VEVENT
BEGIN:VEVENT
DTSTART;TZID=America/Regina:20220308T130000
DTEND;TZID=America/Regina:20220308T150000
DTSTAMP:20260425T193754
CREATED:20211015T220920Z
LAST-MODIFIED:20211028T205628Z
UID:10000814-1646744400-1646751600@canora.com
SUMMARY:Afternoon Drop-in Curling
DESCRIPTION:Drop in rate: $10.00 \nSeasonal Rate: $200.00 \nIf your are to new to the community just come down to the rink before scheduled time and join the fund. \nClub brooms\, throwing sticks\,  and sliders are available for those who do not have their own. \nAll participants are required to have clean inside shoes. \n 
URL:https://canora.com/event/afternnon-drop-in-league/2022-03-08/
LOCATION:Sylvia Fedoruk Center\, 701 Main Street\, Canora\, Saskatchewan\, S0A 0L0\, Canada
ORGANIZER;CN="Canora Curling Club":MAILTO:canoracurling@gmail.com
GEO:51.6317348;-102.4385717
X-APPLE-STRUCTURED-LOCATION;VALUE=URI;X-ADDRESS=Sylvia Fedoruk Center 701 Main Street Canora Saskatchewan S0A 0L0 Canada;X-APPLE-RADIUS=500;X-TITLE=701 Main Street:geo:-102.4385717,51.6317348
END:VEVENT
BEGIN:VEVENT
DTSTART;TZID=America/Regina:20220309T183000
DTEND;TZID=America/Regina:20220309T183000
DTSTAMP:20260425T193754
CREATED:20211130T152850Z
LAST-MODIFIED:20211130T153215Z
UID:10000877-1646850600-1646850600@canora.com
SUMMARY:Youth Curling
DESCRIPTION:
URL:https://canora.com/event/youth-curling/2022-03-09/
LOCATION:Sylvia Fedoruk Centre\, 701 Main Street\, Canada
ORGANIZER;CN="Canora Curling Club":MAILTO:canoracurling@gmail.com
END:VEVENT
BEGIN:VEVENT
DTSTART;TZID=America/Regina:20220310T130000
DTEND;TZID=America/Regina:20220310T150000
DTSTAMP:20260425T193754
CREATED:20211015T220920Z
LAST-MODIFIED:20211028T205628Z
UID:10000815-1646917200-1646924400@canora.com
SUMMARY:Afternoon Drop-in Curling
DESCRIPTION:Drop in rate: $10.00 \nSeasonal Rate: $200.00 \nIf your are to new to the community just come down to the rink before scheduled time and join the fund. \nClub brooms\, throwing sticks\,  and sliders are available for those who do not have their own. \nAll participants are required to have clean inside shoes. \n 
URL:https://canora.com/event/afternnon-drop-in-league/2022-03-10/
LOCATION:Sylvia Fedoruk Center\, 701 Main Street\, Canora\, Saskatchewan\, S0A 0L0\, Canada
ORGANIZER;CN="Canora Curling Club":MAILTO:canoracurling@gmail.com
GEO:51.6317348;-102.4385717
X-APPLE-STRUCTURED-LOCATION;VALUE=URI;X-ADDRESS=Sylvia Fedoruk Center 701 Main Street Canora Saskatchewan S0A 0L0 Canada;X-APPLE-RADIUS=500;X-TITLE=701 Main Street:geo:-102.4385717,51.6317348
END:VEVENT
BEGIN:VEVENT
DTSTART;TZID=America/Regina:20220310T183000
DTEND;TZID=America/Regina:20220310T183000
DTSTAMP:20260425T193754
CREATED:20211015T221255Z
LAST-MODIFIED:20220323T171007Z
UID:10000841-1646937000-1646937000@canora.com
SUMMARY:Rec League Curling
DESCRIPTION:Join our Thursday night rec league for some fun on the ice. A great way to socialize and meet people around the community. Our Club lounge offers food and beverage every Thursday. \nIndividual Season Rate: $100.00 \nTeam Season Rate: $400.00 \nRegister as a individual or team: https://canora.com/curling-2/ \n2021-22 Curling Registration form \n  \n 
URL:https://canora.com/event/rec-league-curling/2022-03-10/
LOCATION:Sylvia Fedoruk Center\, 701 Main Street\, Canora\, Saskatchewan\, S0A 0L0\, Canada
ORGANIZER;CN="Canora Curling Club":MAILTO:canoracurling@gmail.com
GEO:51.6317348;-102.4385717
X-APPLE-STRUCTURED-LOCATION;VALUE=URI;X-ADDRESS=Sylvia Fedoruk Center 701 Main Street Canora Saskatchewan S0A 0L0 Canada;X-APPLE-RADIUS=500;X-TITLE=701 Main Street:geo:-102.4385717,51.6317348
END:VEVENT
BEGIN:VEVENT
DTSTART;TZID=America/Regina:20220311T190000
DTEND;TZID=America/Regina:20220311T190000
DTSTAMP:20260425T193754
CREATED:20220303T153345Z
LAST-MODIFIED:20220303T160549Z
UID:10000951-1647025200-1647025200@canora.com
SUMMARY:U11 Playoff Game Canora VS Yorkton
DESCRIPTION:Game 2
URL:https://canora.com/event/u11-playoff-game-canora-vs-yorkton/
LOCATION:Canora Civic Centre\, 711 Main Street\, Canora\, Saskatchewan\, S0A 0L0\, Canada
GEO:51.6315739;-102.4386783
X-APPLE-STRUCTURED-LOCATION;VALUE=URI;X-ADDRESS=Canora Civic Centre 711 Main Street Canora Saskatchewan S0A 0L0 Canada;X-APPLE-RADIUS=500;X-TITLE=711 Main Street:geo:-102.4386783,51.6315739
END:VEVENT
BEGIN:VEVENT
DTSTART;TZID=America/Regina:20220312T110000
DTEND;TZID=America/Regina:20220312T110000
DTSTAMP:20260425T193754
CREATED:20220303T153455Z
LAST-MODIFIED:20220303T160607Z
UID:10000952-1647082800-1647082800@canora.com
SUMMARY:U13 Playoff Game Canora VS Cote
DESCRIPTION:Game 2
URL:https://canora.com/event/u13-playoff-game-canora-vs-cote/
LOCATION:Canora Civic Centre\, 711 Main Street\, Canora\, Saskatchewan\, S0A 0L0\, Canada
GEO:51.6315739;-102.4386783
X-APPLE-STRUCTURED-LOCATION;VALUE=URI;X-ADDRESS=Canora Civic Centre 711 Main Street Canora Saskatchewan S0A 0L0 Canada;X-APPLE-RADIUS=500;X-TITLE=711 Main Street:geo:-102.4386783,51.6315739
END:VEVENT
BEGIN:VEVENT
DTSTART;TZID=America/Regina:20220312T170000
DTEND;TZID=America/Regina:20220312T170000
DTSTAMP:20260425T193754
CREATED:20220228T151147Z
LAST-MODIFIED:20220228T151405Z
UID:10000945-1647104400-1647104400@canora.com
SUMMARY:Pre-Lenten Dinner & Dance
DESCRIPTION:
URL:https://canora.com/event/pre-lenten-dinner-dance/
LOCATION:Rainbow Hall\, 203 1st Avenue E\, Canora
END:VEVENT
BEGIN:VEVENT
DTSTART;TZID=America/Regina:20220314T130000
DTEND;TZID=America/Regina:20220314T150000
DTSTAMP:20260425T193754
CREATED:20211015T220920Z
LAST-MODIFIED:20211028T205628Z
UID:10000816-1647262800-1647270000@canora.com
SUMMARY:Afternoon Drop-in Curling
DESCRIPTION:Drop in rate: $10.00 \nSeasonal Rate: $200.00 \nIf your are to new to the community just come down to the rink before scheduled time and join the fund. \nClub brooms\, throwing sticks\,  and sliders are available for those who do not have their own. \nAll participants are required to have clean inside shoes. \n 
URL:https://canora.com/event/afternnon-drop-in-league/2022-03-14/
LOCATION:Sylvia Fedoruk Center\, 701 Main Street\, Canora\, Saskatchewan\, S0A 0L0\, Canada
ORGANIZER;CN="Canora Curling Club":MAILTO:canoracurling@gmail.com
GEO:51.6317348;-102.4385717
X-APPLE-STRUCTURED-LOCATION;VALUE=URI;X-ADDRESS=Sylvia Fedoruk Center 701 Main Street Canora Saskatchewan S0A 0L0 Canada;X-APPLE-RADIUS=500;X-TITLE=701 Main Street:geo:-102.4385717,51.6317348
END:VEVENT
BEGIN:VEVENT
DTSTART;TZID=America/Regina:20220314T130000
DTEND;TZID=America/Regina:20220314T151500
DTSTAMP:20260425T193754
CREATED:20220202T142733Z
LAST-MODIFIED:20220207T143929Z
UID:10000885-1647262800-1647270900@canora.com
SUMMARY:Parent & Infant Sessions
DESCRIPTION:NOTICE: SESSIONS ARE NOW ON MONDAYS. START DATE IS  FEBRURAY 28th\, 2022. YOU MUST REGISTER.
URL:https://canora.com/event/parent-infant-sessions/2022-03-14/
LOCATION:Activity Centre (Golf Course)\, 333 Canora Avenue\, Canora\, SK\, S0A 0L0\, Canada
ORGANIZER;CN="Canora Leisure Services":MAILTO:leisure.canora@sasktel.net
GEO:51.6341203;-102.4255996
X-APPLE-STRUCTURED-LOCATION;VALUE=URI;X-ADDRESS=Activity Centre (Golf Course) 333 Canora Avenue Canora SK S0A 0L0 Canada;X-APPLE-RADIUS=500;X-TITLE=333 Canora Avenue:geo:-102.4255996,51.6341203
END:VEVENT
BEGIN:VEVENT
DTSTART;TZID=America/Regina:20220315T130000
DTEND;TZID=America/Regina:20220315T150000
DTSTAMP:20260425T193754
CREATED:20211015T220920Z
LAST-MODIFIED:20211028T205628Z
UID:10000817-1647349200-1647356400@canora.com
SUMMARY:Afternoon Drop-in Curling
DESCRIPTION:Drop in rate: $10.00 \nSeasonal Rate: $200.00 \nIf your are to new to the community just come down to the rink before scheduled time and join the fund. \nClub brooms\, throwing sticks\,  and sliders are available for those who do not have their own. \nAll participants are required to have clean inside shoes. \n 
URL:https://canora.com/event/afternnon-drop-in-league/2022-03-15/
LOCATION:Sylvia Fedoruk Center\, 701 Main Street\, Canora\, Saskatchewan\, S0A 0L0\, Canada
ORGANIZER;CN="Canora Curling Club":MAILTO:canoracurling@gmail.com
GEO:51.6317348;-102.4385717
X-APPLE-STRUCTURED-LOCATION;VALUE=URI;X-ADDRESS=Sylvia Fedoruk Center 701 Main Street Canora Saskatchewan S0A 0L0 Canada;X-APPLE-RADIUS=500;X-TITLE=701 Main Street:geo:-102.4385717,51.6317348
END:VEVENT
BEGIN:VEVENT
DTSTART;TZID=America/Regina:20220315T190000
DTEND;TZID=America/Regina:20220315T220000
DTSTAMP:20260425T193754
CREATED:20180919T203327Z
LAST-MODIFIED:20190611T152640Z
UID:10000323-1647370800-1647381600@canora.com
SUMMARY:Town Council Meeting
DESCRIPTION:Town Council conducts its regular meetings on the 1st and 3rd Tuesday of every month. \nThe meeting takes place at the Town Office and begins at 7 pm. \nIf you would like to have a delegation attend a council meeting\, please submit your request by 12 pm (noon) on the Friday before the council meeting.\nSubmitting requests early assists Town Council and Administration.
URL:https://canora.com/event/town-council-meeting/2022-03-15/
LOCATION:Town Office\, 418 Main Street\, Canora\, SK\, S0A 0L0\, Canada
END:VEVENT
BEGIN:VEVENT
DTSTART;TZID=America/Regina:20220316T183000
DTEND;TZID=America/Regina:20220316T183000
DTSTAMP:20260425T193754
CREATED:20211130T152850Z
LAST-MODIFIED:20211130T153215Z
UID:10000878-1647455400-1647455400@canora.com
SUMMARY:Youth Curling
DESCRIPTION:
URL:https://canora.com/event/youth-curling/2022-03-16/
LOCATION:Sylvia Fedoruk Centre\, 701 Main Street\, Canada
ORGANIZER;CN="Canora Curling Club":MAILTO:canoracurling@gmail.com
END:VEVENT
END:VCALENDAR