BEGIN:VCALENDAR
VERSION:2.0
PRODID:-//Town of Canora - ECPv6.15.17//NONSGML v1.0//EN
CALSCALE:GREGORIAN
METHOD:PUBLISH
X-ORIGINAL-URL:https://canora.com
X-WR-CALDESC:Events for Town of Canora
REFRESH-INTERVAL;VALUE=DURATION:PT1H
X-Robots-Tag:noindex
X-PUBLISHED-TTL:PT1H
BEGIN:VTIMEZONE
TZID:America/Regina
BEGIN:STANDARD
TZOFFSETFROM:-0600
TZOFFSETTO:-0600
TZNAME:CST
DTSTART:20170101T000000
END:STANDARD
END:VTIMEZONE
BEGIN:VEVENT
DTSTART;VALUE=DATE:20180707
DTEND;VALUE=DATE:20180715
DTSTAMP:20260420T145120
CREATED:20180625T163508Z
LAST-MODIFIED:20180625T163508Z
UID:10000227-1530921600-1531612799@canora.com
SUMMARY:Canora In Bloom
DESCRIPTION:Canora In Bloom 2018 is ready to go! \nThis annual summer festival\, hosted throughout the community of Canora Saskatchewan\, is a wonderful opportunity to visit with friends and family\, eat amazing food and get to know this wonderful town just a little bit better. \nEvents are taking place everyday between July 7th and July 14th\, capping off with a great music festival headlined by Kim Mitchell. \nCheck out the schedule and mark it on your calendar! \nWe can't wait to see you out and about.
URL:https://canora.com/event/canora-in-bloom-3/
LOCATION:Town of Canora\, Canora\, SK\, S0A 0L0\, Canada
ORGANIZER;CN="Town of Canora":MAILTO:cdo.canora@sasktel.net
END:VEVENT
BEGIN:VEVENT
DTSTART;TZID=America/Regina:20180707T213000
DTEND;TZID=America/Regina:20180707T233000
DTSTAMP:20260420T145120
CREATED:20180509T172759Z
LAST-MODIFIED:20180703T224720Z
UID:10000204-1530999000-1531006200@canora.com
SUMMARY:Saturday Family Movie Night
DESCRIPTION:Come out when the sun goes down at 9:30 pm and enjoy a family movie on us. Admission and swimming are free. \nConcession available by "The Cotton Candy Girls"
URL:https://canora.com/event/family-movie-night/
LOCATION:Canora Swimming Pool\, 928 3rd St\, Canora\, Saskatchewan\, S0A 0L0\, Canada
END:VEVENT
BEGIN:VEVENT
DTSTART;VALUE=DATE:20180708
DTEND;VALUE=DATE:20180709
DTSTAMP:20260420T145120
CREATED:20180504T145535Z
LAST-MODIFIED:20180625T173429Z
UID:10000201-1531008000-1531094399@canora.com
SUMMARY:The Canora HOLE-IN-ONE Tournament
DESCRIPTION:The Canora Golf and Country Club is proud to announce this year's HOLE-IN-ONE tournament in part of Canora In Bloom on July 8th! \nPrizes range from $5000 Cash to brand new car!! \nMajor sponsors include: \n\nKey Chev\nCommunity Insurance\nand more\n\nRegistration from 10:30 - 11:30 am \nShotgun Start at NOON \n 
URL:https://canora.com/event/canora-golf-country-hole-in-one-tournament/
LOCATION:Activity Centre (Golf Course)\, 333 Canora Avenue\, Canora\, SK\, S0A 0L0\, Canada
ORGANIZER;CN="Canora Golf Club":MAILTO:canoragolfclub@gmail.com
GEO:51.6341203;-102.4255996
X-APPLE-STRUCTURED-LOCATION;VALUE=URI;X-ADDRESS=Activity Centre (Golf Course) 333 Canora Avenue Canora SK S0A 0L0 Canada;X-APPLE-RADIUS=500;X-TITLE=333 Canora Avenue:geo:-102.4255996,51.6341203
END:VEVENT
BEGIN:VEVENT
DTSTART;TZID=America/Regina:20180708T103000
DTEND;TZID=America/Regina:20180708T130000
DTSTAMP:20260420T145120
CREATED:20180625T171824Z
LAST-MODIFIED:20180625T171824Z
UID:10000228-1531045800-1531054800@canora.com
SUMMARY:Non-Denominational Church Service & Brunch
DESCRIPTION:A non-denominational church service will take place on Sunday\, July 8th\, in front of the Town Office\, located at 418 Main St. \nPlease feel free to join the community in open\, welcoming fellowship and worship. \nCandy's Catering will be preparing Sunday Brunch as well.
URL:https://canora.com/event/non-denominational-church-service-brunch/
LOCATION:Town Office\, 418 Main Street\, Canora\, SK\, S0A 0L0\, Canada
END:VEVENT
BEGIN:VEVENT
DTSTART;TZID=America/Regina:20180709T110000
DTEND;TZID=America/Regina:20180709T133000
DTSTAMP:20260420T145120
CREATED:20180625T172200Z
LAST-MODIFIED:20180625T172200Z
UID:10000229-1531134000-1531143000@canora.com
SUMMARY:Perogy Lunch
DESCRIPTION:Join the Women of St. Andrew's United Church for a delicious perogy lunch!
URL:https://canora.com/event/perogy-lunch/
LOCATION:St. Andrew’s United Church\, Canora\, SK\, S0A 0L0\, Canada
END:VEVENT
BEGIN:VEVENT
DTSTART;TZID=America/Regina:20180709T130000
DTEND;TZID=America/Regina:20180709T150000
DTSTAMP:20260420T145120
CREATED:20180625T172543Z
LAST-MODIFIED:20180625T172543Z
UID:10000230-1531141200-1531148400@canora.com
SUMMARY:Slip-N-Slide
DESCRIPTION:Join the Canora Swimming Pool team for an exciting afternoon of slipping and sliding to beat the heat!
URL:https://canora.com/event/slip-n-slide/
LOCATION:Canora Swimming Pool\, 928 3rd St\, Canora\, Saskatchewan\, S0A 0L0\, Canada
END:VEVENT
BEGIN:VEVENT
DTSTART;TZID=America/Regina:20180710T080000
DTEND;TZID=America/Regina:20180710T110000
DTSTAMP:20260420T145120
CREATED:20180625T173112Z
LAST-MODIFIED:20180704T151823Z
UID:10000231-1531209600-1531220400@canora.com
SUMMARY:Fire Department Pancake Breakfast
DESCRIPTION:Come on out to the pancake breakfast with GX94 Live on Location to support our Volunteer Fire Department\, listen to some great music and eat delicious food! \n \n 
URL:https://canora.com/event/fire-department-pancake-breakfast-with-gx94-live-on-location/
LOCATION:Canora Fire Hall
END:VEVENT
BEGIN:VEVENT
DTSTART;TZID=America/Regina:20180710T080000
DTEND;TZID=America/Regina:20180710T170000
DTSTAMP:20260420T145120
CREATED:20180605T171142Z
LAST-MODIFIED:20180605T173151Z
UID:10000221-1531209600-1531242000@canora.com
SUMMARY:Pool Party
DESCRIPTION:Free Swim                    1 - 6 PM\nWater Slide                   1 - 6 PM\nBBQ                             12 - 2 PM\nFree Aquafit                  7-8 PM\nFree Lane Swim           8-9 PM
URL:https://canora.com/event/pool-party/
LOCATION:Canora Swimming Pool\, 928 3rd St\, Canora\, Saskatchewan\, S0A 0L0\, Canada
END:VEVENT
BEGIN:VEVENT
DTSTART;TZID=America/Regina:20180710T170000
DTEND;TZID=America/Regina:20180710T170000
DTSTAMP:20260420T145120
CREATED:20180418T170621Z
LAST-MODIFIED:20180418T170621Z
UID:10000191-1531242000-1531242000@canora.com
SUMMARY:Leisure Services Sponsored Golf Fun Night
DESCRIPTION:Details to come.
URL:https://canora.com/event/leisure-services-sponsored-golf-fun-night/
LOCATION:Activity Centre (Golf Course)\, 333 Canora Avenue\, Canora\, SK\, S0A 0L0\, Canada
GEO:51.6341203;-102.4255996
X-APPLE-STRUCTURED-LOCATION;VALUE=URI;X-ADDRESS=Activity Centre (Golf Course) 333 Canora Avenue Canora SK S0A 0L0 Canada;X-APPLE-RADIUS=500;X-TITLE=333 Canora Avenue:geo:-102.4255996,51.6341203
END:VEVENT
BEGIN:VEVENT
DTSTART;TZID=America/Regina:20180711T063000
DTEND;TZID=America/Regina:20180711T071500
DTSTAMP:20260420T145120
CREATED:20180625T173536Z
LAST-MODIFIED:20180625T173536Z
UID:10000232-1531290600-1531293300@canora.com
SUMMARY:AquaFit
DESCRIPTION:Join the Canora Swimming Pool for a free AquaFit session!
URL:https://canora.com/event/aquafit/
LOCATION:Canora Swimming Pool\, 928 3rd St\, Canora\, Saskatchewan\, S0A 0L0\, Canada
END:VEVENT
BEGIN:VEVENT
DTSTART;TZID=America/Regina:20180711T110000
DTEND;TZID=America/Regina:20180711T133000
DTSTAMP:20260420T145120
CREATED:20180625T174031Z
LAST-MODIFIED:20180625T174031Z
UID:10000233-1531306800-1531315800@canora.com
SUMMARY:Hot Dog Lunch
DESCRIPTION:Join the Tourism Committee for an exciting fundraiser to support the CN Museum and all the wonderful work this committee undertakes throughout the community!
URL:https://canora.com/event/hot-dog-lunch/
LOCATION:Visitors Centre & CN Museum\, 100 Railway Avenue\, Canora
ORGANIZER;CN="Tourism Committee":MAILTO:cdo.canora@sasktel.net
GEO:51.6372416;-102.4366927
X-APPLE-STRUCTURED-LOCATION;VALUE=URI;X-ADDRESS=Visitors Centre & CN Museum 100 Railway Avenue Canora;X-APPLE-RADIUS=500;X-TITLE=100 Railway Avenue:geo:-102.4366927,51.6372416
END:VEVENT
BEGIN:VEVENT
DTSTART;TZID=America/Regina:20180711T120000
DTEND;TZID=America/Regina:20180711T140000
DTSTAMP:20260420T145120
CREATED:20180619T202646Z
LAST-MODIFIED:20180619T202646Z
UID:10000224-1531310400-1531317600@canora.com
SUMMARY:Crossroads Ice Cream
DESCRIPTION:Free ice cream at pool side. Enjoy a free swim on us.
URL:https://canora.com/event/crossroads-ice-cream/
LOCATION:Canora Swimming Pool\, 928 3rd St\, Canora\, Saskatchewan\, S0A 0L0\, Canada
END:VEVENT
BEGIN:VEVENT
DTSTART;TZID=America/Regina:20180711T213000
DTEND;TZID=America/Regina:20180711T233000
DTSTAMP:20260420T145120
CREATED:20180509T172602Z
LAST-MODIFIED:20180509T172602Z
UID:10000203-1531344600-1531351800@canora.com
SUMMARY:Teen Movie Night
DESCRIPTION:13+ \nPG13 Movie \nDetails to come.
URL:https://canora.com/event/teen-movie-night/
LOCATION:Canora Swimming Pool\, 928 3rd St\, Canora\, Saskatchewan\, S0A 0L0\, Canada
END:VEVENT
BEGIN:VEVENT
DTSTART;TZID=America/Regina:20180712T100000
DTEND;TZID=America/Regina:20180712T140000
DTSTAMP:20260420T145120
CREATED:20180703T195619Z
LAST-MODIFIED:20180727T151236Z
UID:10000237-1531389600-1531404000@canora.com
SUMMARY:Farmer's Market
DESCRIPTION:The Farmer's Market begins July 5th at 10 am!\nMeet and buy from local producers and makers this summer every Thursday at the Visitor Centre & CN Museum. \nThe Farmer's Market runs until September 27th. \nThe Vendor Application form is available below: \nFarmer's Market Vendor Application \nAll vendors should complete and submit an application before the Farmer's Market begins.\nEvery vendor must have a completed application on file to participate in the Farmer's Market.  \nEvery vendor must also meet and follow Health Authority requirements.\nIt is the responsibility of the vendor to inform themselves and meet these requirements.
URL:https://canora.com/event/farmers-market-2/2018-07-12/
LOCATION:Visitors Centre & CN Museum\, 100 Railway Avenue\, Canora
ORGANIZER;CN="Community Development":MAILTO:cdo.canora@sasktel.net
GEO:51.6372416;-102.4366927
X-APPLE-STRUCTURED-LOCATION;VALUE=URI;X-ADDRESS=Visitors Centre & CN Museum 100 Railway Avenue Canora;X-APPLE-RADIUS=500;X-TITLE=100 Railway Avenue:geo:-102.4366927,51.6372416
END:VEVENT
BEGIN:VEVENT
DTSTART;TZID=America/Regina:20180712T110000
DTEND;TZID=America/Regina:20180712T130000
DTSTAMP:20260420T145120
CREATED:20180509T172332Z
LAST-MODIFIED:20180509T172332Z
UID:10000202-1531393200-1531400400@canora.com
SUMMARY:Borscht & Homemade Bread
DESCRIPTION:Details to come.
URL:https://canora.com/event/borscht-homemade-bread/
LOCATION:Ukrainian  Heritage Museum\, 215 Main Street\, Canora
GEO:51.6357118;-102.436567
X-APPLE-STRUCTURED-LOCATION;VALUE=URI;X-ADDRESS=Ukrainian  Heritage Museum 215 Main Street Canora;X-APPLE-RADIUS=500;X-TITLE=215 Main Street:geo:-102.436567,51.6357118
END:VEVENT
BEGIN:VEVENT
DTSTART;TZID=America/Regina:20180712T150000
DTEND;TZID=America/Regina:20180712T210000
DTSTAMP:20260420T145120
CREATED:20180418T162823Z
LAST-MODIFIED:20180703T225509Z
UID:10000188-1531407600-1531429200@canora.com
SUMMARY:Laser Tag!
DESCRIPTION:Rock Ridge Laser Tag \nPriority Schedule \n\n11 - 14 Years (3:00-5:00 pm)\n6 - 10 Years (5:00-7:00 pm)\n14 - Adult (7:00-9:00 pm)\n\nAdmission at door \n\n$2 per session\n$10 wristbands (unlimited sessions)\n\nConcession and BBQ available by "The Cotton Candy Girls".
URL:https://canora.com/event/laser-tag/
LOCATION:Sylvia Fedoruk Center\, 701 Main Street\, Canora\, Saskatchewan\, S0A 0L0\, Canada
GEO:51.6317348;-102.4385717
X-APPLE-STRUCTURED-LOCATION;VALUE=URI;X-ADDRESS=Sylvia Fedoruk Center 701 Main Street Canora Saskatchewan S0A 0L0 Canada;X-APPLE-RADIUS=500;X-TITLE=701 Main Street:geo:-102.4385717,51.6317348
END:VEVENT
BEGIN:VEVENT
DTSTART;TZID=America/Regina:20180713T063000
DTEND;TZID=America/Regina:20180713T071500
DTSTAMP:20260420T145120
CREATED:20180625T174348Z
LAST-MODIFIED:20180625T174348Z
UID:10000234-1531463400-1531466100@canora.com
SUMMARY:AquaFit
DESCRIPTION:Join the Canora Swimming Pool for a free AquaFit session!
URL:https://canora.com/event/aquafit-2/
LOCATION:Canora Swimming Pool\, 928 3rd St\, Canora\, Saskatchewan\, S0A 0L0\, Canada
END:VEVENT
BEGIN:VEVENT
DTSTART;TZID=America/Regina:20180713T110000
DTEND;TZID=America/Regina:20180713T133000
DTSTAMP:20260420T145120
CREATED:20180418T170144Z
LAST-MODIFIED:20180709T150315Z
UID:10000190-1531479600-1531488600@canora.com
SUMMARY:Old Fashioned Picnic in the Park
DESCRIPTION:Come enjoy an old fashioned picnic at King George Park and be entertained by Dwight Powell "One eyed Cat" from 11:30 am - 2:30 pm. Sponsored by Crossroad Credit Union and Canora Leisure Services. \n \n  \n  \n  \n  \n 
URL:https://canora.com/event/old-fashioned-picnic-in-the-park/
LOCATION:Sylvia Fedoruk Center\, 701 Main Street\, Canora\, Saskatchewan\, S0A 0L0\, Canada
GEO:51.6317348;-102.4385717
X-APPLE-STRUCTURED-LOCATION;VALUE=URI;X-ADDRESS=Sylvia Fedoruk Center 701 Main Street Canora Saskatchewan S0A 0L0 Canada;X-APPLE-RADIUS=500;X-TITLE=701 Main Street:geo:-102.4385717,51.6317348
END:VEVENT
BEGIN:VEVENT
DTSTART;TZID=America/Regina:20180713T133000
DTEND;TZID=America/Regina:20180713T160000
DTSTAMP:20260420T145120
CREATED:20180625T174848Z
LAST-MODIFIED:20180625T174848Z
UID:10000235-1531488600-1531497600@canora.com
SUMMARY:Pie & Coffee
DESCRIPTION:Stop by the Keen Age Centre for some delicious pie and strong coffee!
URL:https://canora.com/event/pie-coffee/
LOCATION:Keen Age Centre\, 409 Main St.\, Canora\, SK\, S0A 0L0\, Canada
END:VEVENT
BEGIN:VEVENT
DTSTART;TZID=America/Regina:20180714T130000
DTEND;TZID=America/Regina:20180714T130000
DTSTAMP:20260420T145120
CREATED:20180418T165617Z
LAST-MODIFIED:20180709T152515Z
UID:10000189-1531573200-1531573200@canora.com
SUMMARY:Kim Mitchell @ the Canora In Bloom Festival
DESCRIPTION:The Canadian Rock Icon is set to Headline a long list of performers at the upcoming Canora In Bloom Festival on July 14th. \n \n\nTickets go on sale May 1st at the Town Office (306) 563-5773. Tickets are limited. Get yours while they last!\nAdvance tickets only. No gate admission.\n$30 Rain or Shine. No Refunds.\nLicenced event. Bring you I.D.\nMinors that purchase tickets must be accompanied by parent or legal guardian.\nConcession available.\nATM on site.\nNO PETS\nCampsites at Canora Campground are on a first come first serve basis. Overflow campers are free to park in open areas at the sports grounds if they do not require power.\n\n \nLeisure Services would like to thank our sponsors: \nGold Sponsors: \n\nSeed Master\n\n \nSilver Sponsors: \n\nLabatt Brewing & Co.\nSave on Foods\n\n  \nBronze Sponsors: \n\nGabora Electric\nPenguin Refrigeration\nWyonzek Bros Construction Ltd.\nXcessories by Kerry\nCrossroads Credit Union\nMike's Beverage Company\n\n \nPerforming on Saturday July 14th: \n\nKim Mitchell\n\n \n  \n\nSamara Yung\n\n \n\nLeague of Wolves\n\n \n\nMen Without Shame\n\n \n\nBrody Siebert\n\n \n\nSeven Levels\n\n \nStage & Production by: \n\nCapitol Staging and Production\n\n#210 2300 Dewdney Avenue\nRegina\, SK \n \nSound by: \n\nGV Audio Inc.\n1355 Scarth St.\nRegina\, SK. S4R 2E7\nCanada
URL:https://canora.com/event/canora-in-bloom-music-festival/
LOCATION:King George V Kiwanis Park\, 601 main st\, Canora\, Saskatchewan\, S0A 0L0\, Canada
GEO:51.6339451;-102.4370069
X-APPLE-STRUCTURED-LOCATION;VALUE=URI;X-ADDRESS=King George V Kiwanis Park 601 main st Canora Saskatchewan S0A 0L0 Canada;X-APPLE-RADIUS=500;X-TITLE=601 main st:geo:-102.4370069,51.6339451
END:VEVENT
BEGIN:VEVENT
DTSTART;VALUE=DATE:20180716
DTEND;VALUE=DATE:20180717
DTSTAMP:20260420T145120
CREATED:20180620T145052Z
LAST-MODIFIED:20180620T174410Z
UID:10000225-1531699200-1531785599@canora.com
SUMMARY:2nd Annual Firefighters Challenge
DESCRIPTION:
URL:https://canora.com/event/2nd-annual-firefighters-challenge/
LOCATION:Kids Korner Youth Centre
END:VEVENT
BEGIN:VEVENT
DTSTART;VALUE=DATE:20180718
DTEND;VALUE=DATE:20180719
DTSTAMP:20260420T145120
CREATED:20180525T164509Z
LAST-MODIFIED:20180525T164509Z
UID:10000215-1531872000-1531958399@canora.com
SUMMARY:Junior Golf Tournament
DESCRIPTION:For more information on tournaments please call the Canora Golf and Country Club at 306-563-4104
URL:https://canora.com/event/junior-golf-tournament-2/
LOCATION:Activity Centre (Golf Course)\, 333 Canora Avenue\, Canora\, SK\, S0A 0L0\, Canada
ORGANIZER;CN="Canora Golf Club":MAILTO:canoragolfclub@gmail.com
GEO:51.6341203;-102.4255996
X-APPLE-STRUCTURED-LOCATION;VALUE=URI;X-ADDRESS=Activity Centre (Golf Course) 333 Canora Avenue Canora SK S0A 0L0 Canada;X-APPLE-RADIUS=500;X-TITLE=333 Canora Avenue:geo:-102.4255996,51.6341203
END:VEVENT
BEGIN:VEVENT
DTSTART;TZID=America/Regina:20180719T100000
DTEND;TZID=America/Regina:20180719T140000
DTSTAMP:20260420T145120
CREATED:20180703T195619Z
LAST-MODIFIED:20180727T151236Z
UID:10000238-1531994400-1532008800@canora.com
SUMMARY:Farmer's Market
DESCRIPTION:The Farmer's Market begins July 5th at 10 am!\nMeet and buy from local producers and makers this summer every Thursday at the Visitor Centre & CN Museum. \nThe Farmer's Market runs until September 27th. \nThe Vendor Application form is available below: \nFarmer's Market Vendor Application \nAll vendors should complete and submit an application before the Farmer's Market begins.\nEvery vendor must have a completed application on file to participate in the Farmer's Market.  \nEvery vendor must also meet and follow Health Authority requirements.\nIt is the responsibility of the vendor to inform themselves and meet these requirements.
URL:https://canora.com/event/farmers-market-2/2018-07-19/
LOCATION:Visitors Centre & CN Museum\, 100 Railway Avenue\, Canora
ORGANIZER;CN="Community Development":MAILTO:cdo.canora@sasktel.net
GEO:51.6372416;-102.4366927
X-APPLE-STRUCTURED-LOCATION;VALUE=URI;X-ADDRESS=Visitors Centre & CN Museum 100 Railway Avenue Canora;X-APPLE-RADIUS=500;X-TITLE=100 Railway Avenue:geo:-102.4366927,51.6372416
END:VEVENT
BEGIN:VEVENT
DTSTART;TZID=America/Regina:20180719T143000
DTEND;TZID=America/Regina:20180719T160000
DTSTAMP:20260420T145120
CREATED:20180716T200219Z
LAST-MODIFIED:20180719T143448Z
UID:10000248-1532010600-1532016000@canora.com
SUMMARY:Diabetes Education Classes
DESCRIPTION:Diabetes Education \nDo you have Type 2 Diabetes?\nAre you newly diagnosed with Type 2 Diabetes?\nHave you had Type 2 Diabetes for several years and would like more information? \nClasses will be held every Thursday from 2:30pm – 4:00pm. Feel free to participate in one or all five classes. \nIntroduction to Diabetes-Session 1\nNutrition – Session 2\nPhysical Activity – Session 3\nStress Management – Session 4\nMedication Management – Session 5 \nClasses available in person at the Sunrise Health and Wellness Centre in Yorkton or by telehealth in various communities. \nFREE to join!\nYou must pre-register to attend!\nPlease call (306) 786-6363 and press 0 to REGISTER or for more information.
URL:https://canora.com/event/diabetes-education-classes/2018-07-19/
LOCATION:Saskatchewan
END:VEVENT
BEGIN:VEVENT
DTSTART;TZID=America/Regina:20180726T100000
DTEND;TZID=America/Regina:20180726T140000
DTSTAMP:20260420T145120
CREATED:20180703T195619Z
LAST-MODIFIED:20180727T151236Z
UID:10000239-1532599200-1532613600@canora.com
SUMMARY:Farmer's Market
DESCRIPTION:The Farmer's Market begins July 5th at 10 am!\nMeet and buy from local producers and makers this summer every Thursday at the Visitor Centre & CN Museum. \nThe Farmer's Market runs until September 27th. \nThe Vendor Application form is available below: \nFarmer's Market Vendor Application \nAll vendors should complete and submit an application before the Farmer's Market begins.\nEvery vendor must have a completed application on file to participate in the Farmer's Market.  \nEvery vendor must also meet and follow Health Authority requirements.\nIt is the responsibility of the vendor to inform themselves and meet these requirements.
URL:https://canora.com/event/farmers-market-2/2018-07-26/
LOCATION:Visitors Centre & CN Museum\, 100 Railway Avenue\, Canora
ORGANIZER;CN="Community Development":MAILTO:cdo.canora@sasktel.net
GEO:51.6372416;-102.4366927
X-APPLE-STRUCTURED-LOCATION;VALUE=URI;X-ADDRESS=Visitors Centre & CN Museum 100 Railway Avenue Canora;X-APPLE-RADIUS=500;X-TITLE=100 Railway Avenue:geo:-102.4366927,51.6372416
END:VEVENT
BEGIN:VEVENT
DTSTART;TZID=America/Regina:20180726T143000
DTEND;TZID=America/Regina:20180726T160000
DTSTAMP:20260420T145120
CREATED:20180716T200219Z
LAST-MODIFIED:20180719T143448Z
UID:10000249-1532615400-1532620800@canora.com
SUMMARY:Diabetes Education Classes
DESCRIPTION:Diabetes Education \nDo you have Type 2 Diabetes?\nAre you newly diagnosed with Type 2 Diabetes?\nHave you had Type 2 Diabetes for several years and would like more information? \nClasses will be held every Thursday from 2:30pm – 4:00pm. Feel free to participate in one or all five classes. \nIntroduction to Diabetes-Session 1\nNutrition – Session 2\nPhysical Activity – Session 3\nStress Management – Session 4\nMedication Management – Session 5 \nClasses available in person at the Sunrise Health and Wellness Centre in Yorkton or by telehealth in various communities. \nFREE to join!\nYou must pre-register to attend!\nPlease call (306) 786-6363 and press 0 to REGISTER or for more information.
URL:https://canora.com/event/diabetes-education-classes/2018-07-26/
LOCATION:Saskatchewan
END:VEVENT
BEGIN:VEVENT
DTSTART;VALUE=DATE:20180727
DTEND;VALUE=DATE:20180728
DTSTAMP:20260420T145120
CREATED:20180724T210933Z
LAST-MODIFIED:20190208T160439Z
UID:10000259-1532649600-1532735999@canora.com
SUMMARY:The Friendly Visiting Program
DESCRIPTION:Meet new people\nConnect with your community\nHelp those in need by volunteering with the Canadian Red Cross \nThe Red Cross is looking for volunteers for the Friendly Visiting Program\nThe program connects volunteers with seniors in your area\, providing new social connections through a weekly home visit or phone call. \nIf you are interested in learning more about the program\, visit our website at www.redcross.ca/SKVisiting call 306-216-6602 or email friendly.visitingsaskatchewan@redcross.ca
URL:https://canora.com/event/the-friendly-visiting-program-with-the-canadian-red-cross/
LOCATION:Saskatchewan
END:VEVENT
BEGIN:VEVENT
DTSTART;TZID=America/Regina:20180802T100000
DTEND;TZID=America/Regina:20180802T140000
DTSTAMP:20260420T145120
CREATED:20180703T195619Z
LAST-MODIFIED:20180727T151236Z
UID:10000240-1533204000-1533218400@canora.com
SUMMARY:Farmer's Market
DESCRIPTION:The Farmer's Market begins July 5th at 10 am!\nMeet and buy from local producers and makers this summer every Thursday at the Visitor Centre & CN Museum. \nThe Farmer's Market runs until September 27th. \nThe Vendor Application form is available below: \nFarmer's Market Vendor Application \nAll vendors should complete and submit an application before the Farmer's Market begins.\nEvery vendor must have a completed application on file to participate in the Farmer's Market.  \nEvery vendor must also meet and follow Health Authority requirements.\nIt is the responsibility of the vendor to inform themselves and meet these requirements.
URL:https://canora.com/event/farmers-market-2/2018-08-02/
LOCATION:Visitors Centre & CN Museum\, 100 Railway Avenue\, Canora
ORGANIZER;CN="Community Development":MAILTO:cdo.canora@sasktel.net
GEO:51.6372416;-102.4366927
X-APPLE-STRUCTURED-LOCATION;VALUE=URI;X-ADDRESS=Visitors Centre & CN Museum 100 Railway Avenue Canora;X-APPLE-RADIUS=500;X-TITLE=100 Railway Avenue:geo:-102.4366927,51.6372416
END:VEVENT
BEGIN:VEVENT
DTSTART;TZID=America/Regina:20180802T143000
DTEND;TZID=America/Regina:20180802T160000
DTSTAMP:20260420T145120
CREATED:20180716T200219Z
LAST-MODIFIED:20180719T143448Z
UID:10000250-1533220200-1533225600@canora.com
SUMMARY:Diabetes Education Classes
DESCRIPTION:Diabetes Education \nDo you have Type 2 Diabetes?\nAre you newly diagnosed with Type 2 Diabetes?\nHave you had Type 2 Diabetes for several years and would like more information? \nClasses will be held every Thursday from 2:30pm – 4:00pm. Feel free to participate in one or all five classes. \nIntroduction to Diabetes-Session 1\nNutrition – Session 2\nPhysical Activity – Session 3\nStress Management – Session 4\nMedication Management – Session 5 \nClasses available in person at the Sunrise Health and Wellness Centre in Yorkton or by telehealth in various communities. \nFREE to join!\nYou must pre-register to attend!\nPlease call (306) 786-6363 and press 0 to REGISTER or for more information.
URL:https://canora.com/event/diabetes-education-classes/2018-08-02/
LOCATION:Saskatchewan
END:VEVENT
BEGIN:VEVENT
DTSTART;TZID=America/Regina:20180809T100000
DTEND;TZID=America/Regina:20180809T140000
DTSTAMP:20260420T145120
CREATED:20180703T195619Z
LAST-MODIFIED:20180727T151236Z
UID:10000241-1533808800-1533823200@canora.com
SUMMARY:Farmer's Market
DESCRIPTION:The Farmer's Market begins July 5th at 10 am!\nMeet and buy from local producers and makers this summer every Thursday at the Visitor Centre & CN Museum. \nThe Farmer's Market runs until September 27th. \nThe Vendor Application form is available below: \nFarmer's Market Vendor Application \nAll vendors should complete and submit an application before the Farmer's Market begins.\nEvery vendor must have a completed application on file to participate in the Farmer's Market.  \nEvery vendor must also meet and follow Health Authority requirements.\nIt is the responsibility of the vendor to inform themselves and meet these requirements.
URL:https://canora.com/event/farmers-market-2/2018-08-09/
LOCATION:Visitors Centre & CN Museum\, 100 Railway Avenue\, Canora
ORGANIZER;CN="Community Development":MAILTO:cdo.canora@sasktel.net
GEO:51.6372416;-102.4366927
X-APPLE-STRUCTURED-LOCATION;VALUE=URI;X-ADDRESS=Visitors Centre & CN Museum 100 Railway Avenue Canora;X-APPLE-RADIUS=500;X-TITLE=100 Railway Avenue:geo:-102.4366927,51.6372416
END:VEVENT
END:VCALENDAR