BEGIN:VCALENDAR
VERSION:2.0
PRODID:-//Town of Canora - ECPv6.15.17//NONSGML v1.0//EN
CALSCALE:GREGORIAN
METHOD:PUBLISH
X-WR-CALNAME:Town of Canora
X-ORIGINAL-URL:https://canora.com
X-WR-CALDESC:Events for Town of Canora
REFRESH-INTERVAL;VALUE=DURATION:PT1H
X-Robots-Tag:noindex
X-PUBLISHED-TTL:PT1H
BEGIN:VTIMEZONE
TZID:America/Regina
BEGIN:STANDARD
TZOFFSETFROM:-0600
TZOFFSETTO:-0600
TZNAME:CST
DTSTART:20210101T000000
END:STANDARD
END:VTIMEZONE
BEGIN:VEVENT
DTSTART;TZID=America/Regina:20220126T183000
DTEND;TZID=America/Regina:20220126T183000
DTSTAMP:20260425T163056
CREATED:20211130T152850Z
LAST-MODIFIED:20211130T153215Z
UID:10000871-1643221800-1643221800@canora.com
SUMMARY:Youth Curling
DESCRIPTION:
URL:https://canora.com/event/youth-curling/2022-01-26/
LOCATION:Sylvia Fedoruk Centre\, 701 Main Street\, Canada
ORGANIZER;CN="Canora Curling Club":MAILTO:canoracurling@gmail.com
END:VEVENT
BEGIN:VEVENT
DTSTART;TZID=America/Regina:20220127T130000
DTEND;TZID=America/Regina:20220127T150000
DTSTAMP:20260425T163056
CREATED:20211015T220920Z
LAST-MODIFIED:20211028T205628Z
UID:10000797-1643288400-1643295600@canora.com
SUMMARY:Afternoon Drop-in Curling
DESCRIPTION:Drop in rate: $10.00 \nSeasonal Rate: $200.00 \nIf your are to new to the community just come down to the rink before scheduled time and join the fund. \nClub brooms\, throwing sticks\,  and sliders are available for those who do not have their own. \nAll participants are required to have clean inside shoes. \n 
URL:https://canora.com/event/afternnon-drop-in-league/2022-01-27/
LOCATION:Sylvia Fedoruk Center\, 701 Main Street\, Canora\, Saskatchewan\, S0A 0L0\, Canada
ORGANIZER;CN="Canora Curling Club":MAILTO:canoracurling@gmail.com
GEO:51.6317348;-102.4385717
X-APPLE-STRUCTURED-LOCATION;VALUE=URI;X-ADDRESS=Sylvia Fedoruk Center 701 Main Street Canora Saskatchewan S0A 0L0 Canada;X-APPLE-RADIUS=500;X-TITLE=701 Main Street:geo:-102.4385717,51.6317348
END:VEVENT
BEGIN:VEVENT
DTSTART;TZID=America/Regina:20220127T183000
DTEND;TZID=America/Regina:20220127T183000
DTSTAMP:20260425T163056
CREATED:20211015T221255Z
LAST-MODIFIED:20220323T171007Z
UID:10000834-1643308200-1643308200@canora.com
SUMMARY:Rec League Curling
DESCRIPTION:Join our Thursday night rec league for some fun on the ice. A great way to socialize and meet people around the community. Our Club lounge offers food and beverage every Thursday. \nIndividual Season Rate: $100.00 \nTeam Season Rate: $400.00 \nRegister as a individual or team: https://canora.com/curling-2/ \n2021-22 Curling Registration form \n  \n 
URL:https://canora.com/event/rec-league-curling/2022-01-27/
LOCATION:Sylvia Fedoruk Center\, 701 Main Street\, Canora\, Saskatchewan\, S0A 0L0\, Canada
ORGANIZER;CN="Canora Curling Club":MAILTO:canoracurling@gmail.com
GEO:51.6317348;-102.4385717
X-APPLE-STRUCTURED-LOCATION;VALUE=URI;X-ADDRESS=Sylvia Fedoruk Center 701 Main Street Canora Saskatchewan S0A 0L0 Canada;X-APPLE-RADIUS=500;X-TITLE=701 Main Street:geo:-102.4385717,51.6317348
END:VEVENT
BEGIN:VEVENT
DTSTART;VALUE=DATE:20220129
DTEND;VALUE=DATE:20220130
DTSTAMP:20260425T163056
CREATED:20211028T214627Z
LAST-MODIFIED:20211130T154155Z
UID:10000858-1643414400-1643500799@canora.com
SUMMARY:Canora Minor Hockey Day
DESCRIPTION:
URL:https://canora.com/event/canora-minor-hockey-day-4/
LOCATION:Canora Civic Centre\, 711 Main Street\, Canora\, Saskatchewan\, S0A 0L0\, Canada
GEO:51.6315739;-102.4386783
X-APPLE-STRUCTURED-LOCATION;VALUE=URI;X-ADDRESS=Canora Civic Centre 711 Main Street Canora Saskatchewan S0A 0L0 Canada;X-APPLE-RADIUS=500;X-TITLE=711 Main Street:geo:-102.4386783,51.6315739
END:VEVENT
BEGIN:VEVENT
DTSTART;TZID=America/Regina:20220129T203000
DTEND;TZID=America/Regina:20220129T203000
DTSTAMP:20260425T163056
CREATED:20211015T223645Z
LAST-MODIFIED:20211130T154304Z
UID:10000854-1643488200-1643488200@canora.com
SUMMARY:SEHL Canora Cobras VS Rocanville Tigers
DESCRIPTION:Canora Minor Hockey Day
URL:https://canora.com/event/sehl-canora-cobras-vs-langenburg-warriors/
LOCATION:Canora Civic Centre\, 711 Main Street\, Canora\, Saskatchewan\, S0A 0L0\, Canada
GEO:51.6315739;-102.4386783
X-APPLE-STRUCTURED-LOCATION;VALUE=URI;X-ADDRESS=Canora Civic Centre 711 Main Street Canora Saskatchewan S0A 0L0 Canada;X-APPLE-RADIUS=500;X-TITLE=711 Main Street:geo:-102.4386783,51.6315739
END:VEVENT
BEGIN:VEVENT
DTSTART;TZID=America/Regina:20220131T130000
DTEND;TZID=America/Regina:20220131T150000
DTSTAMP:20260425T163056
CREATED:20211015T220920Z
LAST-MODIFIED:20211028T205628Z
UID:10000798-1643634000-1643641200@canora.com
SUMMARY:Afternoon Drop-in Curling
DESCRIPTION:Drop in rate: $10.00 \nSeasonal Rate: $200.00 \nIf your are to new to the community just come down to the rink before scheduled time and join the fund. \nClub brooms\, throwing sticks\,  and sliders are available for those who do not have their own. \nAll participants are required to have clean inside shoes. \n 
URL:https://canora.com/event/afternnon-drop-in-league/2022-01-31/
LOCATION:Sylvia Fedoruk Center\, 701 Main Street\, Canora\, Saskatchewan\, S0A 0L0\, Canada
ORGANIZER;CN="Canora Curling Club":MAILTO:canoracurling@gmail.com
GEO:51.6317348;-102.4385717
X-APPLE-STRUCTURED-LOCATION;VALUE=URI;X-ADDRESS=Sylvia Fedoruk Center 701 Main Street Canora Saskatchewan S0A 0L0 Canada;X-APPLE-RADIUS=500;X-TITLE=701 Main Street:geo:-102.4385717,51.6317348
END:VEVENT
BEGIN:VEVENT
DTSTART;TZID=America/Regina:20220201T130000
DTEND;TZID=America/Regina:20220201T150000
DTSTAMP:20260425T163056
CREATED:20211015T220920Z
LAST-MODIFIED:20211028T205628Z
UID:10000799-1643720400-1643727600@canora.com
SUMMARY:Afternoon Drop-in Curling
DESCRIPTION:Drop in rate: $10.00 \nSeasonal Rate: $200.00 \nIf your are to new to the community just come down to the rink before scheduled time and join the fund. \nClub brooms\, throwing sticks\,  and sliders are available for those who do not have their own. \nAll participants are required to have clean inside shoes. \n 
URL:https://canora.com/event/afternnon-drop-in-league/2022-02-01/
LOCATION:Sylvia Fedoruk Center\, 701 Main Street\, Canora\, Saskatchewan\, S0A 0L0\, Canada
ORGANIZER;CN="Canora Curling Club":MAILTO:canoracurling@gmail.com
GEO:51.6317348;-102.4385717
X-APPLE-STRUCTURED-LOCATION;VALUE=URI;X-ADDRESS=Sylvia Fedoruk Center 701 Main Street Canora Saskatchewan S0A 0L0 Canada;X-APPLE-RADIUS=500;X-TITLE=701 Main Street:geo:-102.4385717,51.6317348
END:VEVENT
BEGIN:VEVENT
DTSTART;TZID=America/Regina:20220202T183000
DTEND;TZID=America/Regina:20220202T183000
DTSTAMP:20260425T163056
CREATED:20211130T152850Z
LAST-MODIFIED:20211130T153215Z
UID:10000872-1643826600-1643826600@canora.com
SUMMARY:Youth Curling
DESCRIPTION:
URL:https://canora.com/event/youth-curling/2022-02-02/
LOCATION:Sylvia Fedoruk Centre\, 701 Main Street\, Canada
ORGANIZER;CN="Canora Curling Club":MAILTO:canoracurling@gmail.com
END:VEVENT
BEGIN:VEVENT
DTSTART;TZID=America/Regina:20220203T130000
DTEND;TZID=America/Regina:20220203T150000
DTSTAMP:20260425T163056
CREATED:20211015T220920Z
LAST-MODIFIED:20211028T205628Z
UID:10000800-1643893200-1643900400@canora.com
SUMMARY:Afternoon Drop-in Curling
DESCRIPTION:Drop in rate: $10.00 \nSeasonal Rate: $200.00 \nIf your are to new to the community just come down to the rink before scheduled time and join the fund. \nClub brooms\, throwing sticks\,  and sliders are available for those who do not have their own. \nAll participants are required to have clean inside shoes. \n 
URL:https://canora.com/event/afternnon-drop-in-league/2022-02-03/
LOCATION:Sylvia Fedoruk Center\, 701 Main Street\, Canora\, Saskatchewan\, S0A 0L0\, Canada
ORGANIZER;CN="Canora Curling Club":MAILTO:canoracurling@gmail.com
GEO:51.6317348;-102.4385717
X-APPLE-STRUCTURED-LOCATION;VALUE=URI;X-ADDRESS=Sylvia Fedoruk Center 701 Main Street Canora Saskatchewan S0A 0L0 Canada;X-APPLE-RADIUS=500;X-TITLE=701 Main Street:geo:-102.4385717,51.6317348
END:VEVENT
BEGIN:VEVENT
DTSTART;TZID=America/Regina:20220203T183000
DTEND;TZID=America/Regina:20220203T183000
DTSTAMP:20260425T163056
CREATED:20211015T221255Z
LAST-MODIFIED:20220323T171007Z
UID:10000835-1643913000-1643913000@canora.com
SUMMARY:Rec League Curling
DESCRIPTION:Join our Thursday night rec league for some fun on the ice. A great way to socialize and meet people around the community. Our Club lounge offers food and beverage every Thursday. \nIndividual Season Rate: $100.00 \nTeam Season Rate: $400.00 \nRegister as a individual or team: https://canora.com/curling-2/ \n2021-22 Curling Registration form \n  \n 
URL:https://canora.com/event/rec-league-curling/2022-02-03/
LOCATION:Sylvia Fedoruk Center\, 701 Main Street\, Canora\, Saskatchewan\, S0A 0L0\, Canada
ORGANIZER;CN="Canora Curling Club":MAILTO:canoracurling@gmail.com
GEO:51.6317348;-102.4385717
X-APPLE-STRUCTURED-LOCATION;VALUE=URI;X-ADDRESS=Sylvia Fedoruk Center 701 Main Street Canora Saskatchewan S0A 0L0 Canada;X-APPLE-RADIUS=500;X-TITLE=701 Main Street:geo:-102.4385717,51.6317348
END:VEVENT
BEGIN:VEVENT
DTSTART;TZID=America/Regina:20220207T130000
DTEND;TZID=America/Regina:20220207T150000
DTSTAMP:20260425T163056
CREATED:20211015T220920Z
LAST-MODIFIED:20211028T205628Z
UID:10000801-1644238800-1644246000@canora.com
SUMMARY:Afternoon Drop-in Curling
DESCRIPTION:Drop in rate: $10.00 \nSeasonal Rate: $200.00 \nIf your are to new to the community just come down to the rink before scheduled time and join the fund. \nClub brooms\, throwing sticks\,  and sliders are available for those who do not have their own. \nAll participants are required to have clean inside shoes. \n 
URL:https://canora.com/event/afternnon-drop-in-league/2022-02-07/
LOCATION:Sylvia Fedoruk Center\, 701 Main Street\, Canora\, Saskatchewan\, S0A 0L0\, Canada
ORGANIZER;CN="Canora Curling Club":MAILTO:canoracurling@gmail.com
GEO:51.6317348;-102.4385717
X-APPLE-STRUCTURED-LOCATION;VALUE=URI;X-ADDRESS=Sylvia Fedoruk Center 701 Main Street Canora Saskatchewan S0A 0L0 Canada;X-APPLE-RADIUS=500;X-TITLE=701 Main Street:geo:-102.4385717,51.6317348
END:VEVENT
BEGIN:VEVENT
DTSTART;TZID=America/Regina:20220208T130000
DTEND;TZID=America/Regina:20220208T150000
DTSTAMP:20260425T163056
CREATED:20211015T220920Z
LAST-MODIFIED:20211028T205628Z
UID:10000802-1644325200-1644332400@canora.com
SUMMARY:Afternoon Drop-in Curling
DESCRIPTION:Drop in rate: $10.00 \nSeasonal Rate: $200.00 \nIf your are to new to the community just come down to the rink before scheduled time and join the fund. \nClub brooms\, throwing sticks\,  and sliders are available for those who do not have their own. \nAll participants are required to have clean inside shoes. \n 
URL:https://canora.com/event/afternnon-drop-in-league/2022-02-08/
LOCATION:Sylvia Fedoruk Center\, 701 Main Street\, Canora\, Saskatchewan\, S0A 0L0\, Canada
ORGANIZER;CN="Canora Curling Club":MAILTO:canoracurling@gmail.com
GEO:51.6317348;-102.4385717
X-APPLE-STRUCTURED-LOCATION;VALUE=URI;X-ADDRESS=Sylvia Fedoruk Center 701 Main Street Canora Saskatchewan S0A 0L0 Canada;X-APPLE-RADIUS=500;X-TITLE=701 Main Street:geo:-102.4385717,51.6317348
END:VEVENT
BEGIN:VEVENT
DTSTART;TZID=America/Regina:20220209T183000
DTEND;TZID=America/Regina:20220209T183000
DTSTAMP:20260425T163056
CREATED:20211130T152850Z
LAST-MODIFIED:20211130T153215Z
UID:10000873-1644431400-1644431400@canora.com
SUMMARY:Youth Curling
DESCRIPTION:
URL:https://canora.com/event/youth-curling/2022-02-09/
LOCATION:Sylvia Fedoruk Centre\, 701 Main Street\, Canada
ORGANIZER;CN="Canora Curling Club":MAILTO:canoracurling@gmail.com
END:VEVENT
BEGIN:VEVENT
DTSTART;TZID=America/Regina:20220210T130000
DTEND;TZID=America/Regina:20220210T150000
DTSTAMP:20260425T163056
CREATED:20211015T220920Z
LAST-MODIFIED:20211028T205628Z
UID:10000803-1644498000-1644505200@canora.com
SUMMARY:Afternoon Drop-in Curling
DESCRIPTION:Drop in rate: $10.00 \nSeasonal Rate: $200.00 \nIf your are to new to the community just come down to the rink before scheduled time and join the fund. \nClub brooms\, throwing sticks\,  and sliders are available for those who do not have their own. \nAll participants are required to have clean inside shoes. \n 
URL:https://canora.com/event/afternnon-drop-in-league/2022-02-10/
LOCATION:Sylvia Fedoruk Center\, 701 Main Street\, Canora\, Saskatchewan\, S0A 0L0\, Canada
ORGANIZER;CN="Canora Curling Club":MAILTO:canoracurling@gmail.com
GEO:51.6317348;-102.4385717
X-APPLE-STRUCTURED-LOCATION;VALUE=URI;X-ADDRESS=Sylvia Fedoruk Center 701 Main Street Canora Saskatchewan S0A 0L0 Canada;X-APPLE-RADIUS=500;X-TITLE=701 Main Street:geo:-102.4385717,51.6317348
END:VEVENT
BEGIN:VEVENT
DTSTART;TZID=America/Regina:20220210T183000
DTEND;TZID=America/Regina:20220210T183000
DTSTAMP:20260425T163056
CREATED:20211015T221255Z
LAST-MODIFIED:20220323T171007Z
UID:10000836-1644517800-1644517800@canora.com
SUMMARY:Rec League Curling
DESCRIPTION:Join our Thursday night rec league for some fun on the ice. A great way to socialize and meet people around the community. Our Club lounge offers food and beverage every Thursday. \nIndividual Season Rate: $100.00 \nTeam Season Rate: $400.00 \nRegister as a individual or team: https://canora.com/curling-2/ \n2021-22 Curling Registration form \n  \n 
URL:https://canora.com/event/rec-league-curling/2022-02-10/
LOCATION:Sylvia Fedoruk Center\, 701 Main Street\, Canora\, Saskatchewan\, S0A 0L0\, Canada
ORGANIZER;CN="Canora Curling Club":MAILTO:canoracurling@gmail.com
GEO:51.6317348;-102.4385717
X-APPLE-STRUCTURED-LOCATION;VALUE=URI;X-ADDRESS=Sylvia Fedoruk Center 701 Main Street Canora Saskatchewan S0A 0L0 Canada;X-APPLE-RADIUS=500;X-TITLE=701 Main Street:geo:-102.4385717,51.6317348
END:VEVENT
BEGIN:VEVENT
DTSTART;TZID=America/Regina:20220213T140000
DTEND;TZID=America/Regina:20220213T140000
DTSTAMP:20260425T163056
CREATED:20220201T153418Z
LAST-MODIFIED:20220201T153512Z
UID:10000882-1644760800-1644760800@canora.com
SUMMARY:Valentine's Dance
DESCRIPTION:
URL:https://canora.com/event/valentines-dance/
LOCATION:Rainbow Hall\, 203 1st Avenue E\, Canora
END:VEVENT
BEGIN:VEVENT
DTSTART;TZID=America/Regina:20220214T130000
DTEND;TZID=America/Regina:20220214T150000
DTSTAMP:20260425T163056
CREATED:20211015T220920Z
LAST-MODIFIED:20211028T205628Z
UID:10000804-1644843600-1644850800@canora.com
SUMMARY:Afternoon Drop-in Curling
DESCRIPTION:Drop in rate: $10.00 \nSeasonal Rate: $200.00 \nIf your are to new to the community just come down to the rink before scheduled time and join the fund. \nClub brooms\, throwing sticks\,  and sliders are available for those who do not have their own. \nAll participants are required to have clean inside shoes. \n 
URL:https://canora.com/event/afternnon-drop-in-league/2022-02-14/
LOCATION:Sylvia Fedoruk Center\, 701 Main Street\, Canora\, Saskatchewan\, S0A 0L0\, Canada
ORGANIZER;CN="Canora Curling Club":MAILTO:canoracurling@gmail.com
GEO:51.6317348;-102.4385717
X-APPLE-STRUCTURED-LOCATION;VALUE=URI;X-ADDRESS=Sylvia Fedoruk Center 701 Main Street Canora Saskatchewan S0A 0L0 Canada;X-APPLE-RADIUS=500;X-TITLE=701 Main Street:geo:-102.4385717,51.6317348
END:VEVENT
BEGIN:VEVENT
DTSTART;TZID=America/Regina:20220215T130000
DTEND;TZID=America/Regina:20220215T150000
DTSTAMP:20260425T163056
CREATED:20211015T220920Z
LAST-MODIFIED:20211028T205628Z
UID:10000805-1644930000-1644937200@canora.com
SUMMARY:Afternoon Drop-in Curling
DESCRIPTION:Drop in rate: $10.00 \nSeasonal Rate: $200.00 \nIf your are to new to the community just come down to the rink before scheduled time and join the fund. \nClub brooms\, throwing sticks\,  and sliders are available for those who do not have their own. \nAll participants are required to have clean inside shoes. \n 
URL:https://canora.com/event/afternnon-drop-in-league/2022-02-15/
LOCATION:Sylvia Fedoruk Center\, 701 Main Street\, Canora\, Saskatchewan\, S0A 0L0\, Canada
ORGANIZER;CN="Canora Curling Club":MAILTO:canoracurling@gmail.com
GEO:51.6317348;-102.4385717
X-APPLE-STRUCTURED-LOCATION;VALUE=URI;X-ADDRESS=Sylvia Fedoruk Center 701 Main Street Canora Saskatchewan S0A 0L0 Canada;X-APPLE-RADIUS=500;X-TITLE=701 Main Street:geo:-102.4385717,51.6317348
END:VEVENT
BEGIN:VEVENT
DTSTART;TZID=America/Regina:20220215T190000
DTEND;TZID=America/Regina:20220215T220000
DTSTAMP:20260425T163056
CREATED:20180919T203327Z
LAST-MODIFIED:20190611T152640Z
UID:10000322-1644951600-1644962400@canora.com
SUMMARY:Town Council Meeting
DESCRIPTION:Town Council conducts its regular meetings on the 1st and 3rd Tuesday of every month. \nThe meeting takes place at the Town Office and begins at 7 pm. \nIf you would like to have a delegation attend a council meeting\, please submit your request by 12 pm (noon) on the Friday before the council meeting.\nSubmitting requests early assists Town Council and Administration.
URL:https://canora.com/event/town-council-meeting/2022-02-15/
LOCATION:Town Office\, 418 Main Street\, Canora\, SK\, S0A 0L0\, Canada
END:VEVENT
BEGIN:VEVENT
DTSTART;TZID=America/Regina:20220216T183000
DTEND;TZID=America/Regina:20220216T183000
DTSTAMP:20260425T163056
CREATED:20211130T152850Z
LAST-MODIFIED:20211130T153215Z
UID:10000874-1645036200-1645036200@canora.com
SUMMARY:Youth Curling
DESCRIPTION:
URL:https://canora.com/event/youth-curling/2022-02-16/
LOCATION:Sylvia Fedoruk Centre\, 701 Main Street\, Canada
ORGANIZER;CN="Canora Curling Club":MAILTO:canoracurling@gmail.com
END:VEVENT
BEGIN:VEVENT
DTSTART;TZID=America/Regina:20220217T130000
DTEND;TZID=America/Regina:20220217T150000
DTSTAMP:20260425T163056
CREATED:20211015T220920Z
LAST-MODIFIED:20211028T205628Z
UID:10000806-1645102800-1645110000@canora.com
SUMMARY:Afternoon Drop-in Curling
DESCRIPTION:Drop in rate: $10.00 \nSeasonal Rate: $200.00 \nIf your are to new to the community just come down to the rink before scheduled time and join the fund. \nClub brooms\, throwing sticks\,  and sliders are available for those who do not have their own. \nAll participants are required to have clean inside shoes. \n 
URL:https://canora.com/event/afternnon-drop-in-league/2022-02-17/
LOCATION:Sylvia Fedoruk Center\, 701 Main Street\, Canora\, Saskatchewan\, S0A 0L0\, Canada
ORGANIZER;CN="Canora Curling Club":MAILTO:canoracurling@gmail.com
GEO:51.6317348;-102.4385717
X-APPLE-STRUCTURED-LOCATION;VALUE=URI;X-ADDRESS=Sylvia Fedoruk Center 701 Main Street Canora Saskatchewan S0A 0L0 Canada;X-APPLE-RADIUS=500;X-TITLE=701 Main Street:geo:-102.4385717,51.6317348
END:VEVENT
BEGIN:VEVENT
DTSTART;TZID=America/Regina:20220217T183000
DTEND;TZID=America/Regina:20220217T183000
DTSTAMP:20260425T163056
CREATED:20211015T221255Z
LAST-MODIFIED:20220323T171007Z
UID:10000837-1645122600-1645122600@canora.com
SUMMARY:Rec League Curling
DESCRIPTION:Join our Thursday night rec league for some fun on the ice. A great way to socialize and meet people around the community. Our Club lounge offers food and beverage every Thursday. \nIndividual Season Rate: $100.00 \nTeam Season Rate: $400.00 \nRegister as a individual or team: https://canora.com/curling-2/ \n2021-22 Curling Registration form \n  \n 
URL:https://canora.com/event/rec-league-curling/2022-02-17/
LOCATION:Sylvia Fedoruk Center\, 701 Main Street\, Canora\, Saskatchewan\, S0A 0L0\, Canada
ORGANIZER;CN="Canora Curling Club":MAILTO:canoracurling@gmail.com
GEO:51.6317348;-102.4385717
X-APPLE-STRUCTURED-LOCATION;VALUE=URI;X-ADDRESS=Sylvia Fedoruk Center 701 Main Street Canora Saskatchewan S0A 0L0 Canada;X-APPLE-RADIUS=500;X-TITLE=701 Main Street:geo:-102.4385717,51.6317348
END:VEVENT
BEGIN:VEVENT
DTSTART;TZID=America/Regina:20220219T203000
DTEND;TZID=America/Regina:20220219T203000
DTSTAMP:20260425T163056
CREATED:20220215T151334Z
LAST-MODIFIED:20220215T154847Z
UID:10000888-1645302600-1645302600@canora.com
SUMMARY:SEHL Playoff Game
DESCRIPTION:The Cobras start their best of 5 game series against the Tigers in Rocanville on Friday night and return home to the Civic Centre for game 2 @ 8:30 p.m. \nBring your energy\, as the Cobras will be certainly bringing theirs! \n \n 
URL:https://canora.com/event/sehl-playoff-game/
LOCATION:Canora Civic Centre\, 711 Main Street\, Canora\, Saskatchewan\, S0A 0L0\, Canada
GEO:51.6315739;-102.4386783
X-APPLE-STRUCTURED-LOCATION;VALUE=URI;X-ADDRESS=Canora Civic Centre 711 Main Street Canora Saskatchewan S0A 0L0 Canada;X-APPLE-RADIUS=500;X-TITLE=711 Main Street:geo:-102.4386783,51.6315739
END:VEVENT
BEGIN:VEVENT
DTSTART;VALUE=DATE:20220221
DTEND;VALUE=DATE:20220222
DTSTAMP:20260425T163056
CREATED:20220215T145452Z
LAST-MODIFIED:20220215T213102Z
UID:10000887-1645401600-1645487999@canora.com
SUMMARY:Baseball Registration Period Opens
DESCRIPTION:Summer's greatest past time is approaching and CMBA is gearing up for another successful season. To avoid late fees\, Coaches and players are to register between Family Day\, February 21\, 2022 and March 30\, 2022. \nCMBA is also pleased to announce they are now online as they have their own space on the web. Links to register and program updates can be found on the website. \nhttps://www.canoraminorball.com/
URL:https://canora.com/event/baseball-registration-period-opens/
LOCATION:Saskatchewan
END:VEVENT
BEGIN:VEVENT
DTSTART;TZID=America/Regina:20220221T130000
DTEND;TZID=America/Regina:20220221T150000
DTSTAMP:20260425T163056
CREATED:20211015T220920Z
LAST-MODIFIED:20211028T205628Z
UID:10000807-1645448400-1645455600@canora.com
SUMMARY:Afternoon Drop-in Curling
DESCRIPTION:Drop in rate: $10.00 \nSeasonal Rate: $200.00 \nIf your are to new to the community just come down to the rink before scheduled time and join the fund. \nClub brooms\, throwing sticks\,  and sliders are available for those who do not have their own. \nAll participants are required to have clean inside shoes. \n 
URL:https://canora.com/event/afternnon-drop-in-league/2022-02-21/
LOCATION:Sylvia Fedoruk Center\, 701 Main Street\, Canora\, Saskatchewan\, S0A 0L0\, Canada
ORGANIZER;CN="Canora Curling Club":MAILTO:canoracurling@gmail.com
GEO:51.6317348;-102.4385717
X-APPLE-STRUCTURED-LOCATION;VALUE=URI;X-ADDRESS=Sylvia Fedoruk Center 701 Main Street Canora Saskatchewan S0A 0L0 Canada;X-APPLE-RADIUS=500;X-TITLE=701 Main Street:geo:-102.4385717,51.6317348
END:VEVENT
BEGIN:VEVENT
DTSTART;TZID=America/Regina:20220222T130000
DTEND;TZID=America/Regina:20220222T150000
DTSTAMP:20260425T163056
CREATED:20211015T220920Z
LAST-MODIFIED:20211028T205628Z
UID:10000808-1645534800-1645542000@canora.com
SUMMARY:Afternoon Drop-in Curling
DESCRIPTION:Drop in rate: $10.00 \nSeasonal Rate: $200.00 \nIf your are to new to the community just come down to the rink before scheduled time and join the fund. \nClub brooms\, throwing sticks\,  and sliders are available for those who do not have their own. \nAll participants are required to have clean inside shoes. \n 
URL:https://canora.com/event/afternnon-drop-in-league/2022-02-22/
LOCATION:Sylvia Fedoruk Center\, 701 Main Street\, Canora\, Saskatchewan\, S0A 0L0\, Canada
ORGANIZER;CN="Canora Curling Club":MAILTO:canoracurling@gmail.com
GEO:51.6317348;-102.4385717
X-APPLE-STRUCTURED-LOCATION;VALUE=URI;X-ADDRESS=Sylvia Fedoruk Center 701 Main Street Canora Saskatchewan S0A 0L0 Canada;X-APPLE-RADIUS=500;X-TITLE=701 Main Street:geo:-102.4385717,51.6317348
END:VEVENT
BEGIN:VEVENT
DTSTART;TZID=America/Regina:20220223T183000
DTEND;TZID=America/Regina:20220223T183000
DTSTAMP:20260425T163056
CREATED:20211130T152850Z
LAST-MODIFIED:20211130T153215Z
UID:10000875-1645641000-1645641000@canora.com
SUMMARY:Youth Curling
DESCRIPTION:
URL:https://canora.com/event/youth-curling/2022-02-23/
LOCATION:Sylvia Fedoruk Centre\, 701 Main Street\, Canada
ORGANIZER;CN="Canora Curling Club":MAILTO:canoracurling@gmail.com
END:VEVENT
BEGIN:VEVENT
DTSTART;TZID=America/Regina:20220224T130000
DTEND;TZID=America/Regina:20220224T150000
DTSTAMP:20260425T163056
CREATED:20211015T220920Z
LAST-MODIFIED:20211028T205628Z
UID:10000809-1645707600-1645714800@canora.com
SUMMARY:Afternoon Drop-in Curling
DESCRIPTION:Drop in rate: $10.00 \nSeasonal Rate: $200.00 \nIf your are to new to the community just come down to the rink before scheduled time and join the fund. \nClub brooms\, throwing sticks\,  and sliders are available for those who do not have their own. \nAll participants are required to have clean inside shoes. \n 
URL:https://canora.com/event/afternnon-drop-in-league/2022-02-24/
LOCATION:Sylvia Fedoruk Center\, 701 Main Street\, Canora\, Saskatchewan\, S0A 0L0\, Canada
ORGANIZER;CN="Canora Curling Club":MAILTO:canoracurling@gmail.com
GEO:51.6317348;-102.4385717
X-APPLE-STRUCTURED-LOCATION;VALUE=URI;X-ADDRESS=Sylvia Fedoruk Center 701 Main Street Canora Saskatchewan S0A 0L0 Canada;X-APPLE-RADIUS=500;X-TITLE=701 Main Street:geo:-102.4385717,51.6317348
END:VEVENT
BEGIN:VEVENT
DTSTART;TZID=America/Regina:20220224T183000
DTEND;TZID=America/Regina:20220224T183000
DTSTAMP:20260425T163056
CREATED:20211015T221255Z
LAST-MODIFIED:20220323T171007Z
UID:10000838-1645727400-1645727400@canora.com
SUMMARY:Rec League Curling
DESCRIPTION:Join our Thursday night rec league for some fun on the ice. A great way to socialize and meet people around the community. Our Club lounge offers food and beverage every Thursday. \nIndividual Season Rate: $100.00 \nTeam Season Rate: $400.00 \nRegister as a individual or team: https://canora.com/curling-2/ \n2021-22 Curling Registration form \n  \n 
URL:https://canora.com/event/rec-league-curling/2022-02-24/
LOCATION:Sylvia Fedoruk Center\, 701 Main Street\, Canora\, Saskatchewan\, S0A 0L0\, Canada
ORGANIZER;CN="Canora Curling Club":MAILTO:canoracurling@gmail.com
GEO:51.6317348;-102.4385717
X-APPLE-STRUCTURED-LOCATION;VALUE=URI;X-ADDRESS=Sylvia Fedoruk Center 701 Main Street Canora Saskatchewan S0A 0L0 Canada;X-APPLE-RADIUS=500;X-TITLE=701 Main Street:geo:-102.4385717,51.6317348
END:VEVENT
BEGIN:VEVENT
DTSTART;TZID=America/Regina:20220225T180000
DTEND;TZID=America/Regina:20220225T210000
DTSTAMP:20260425T163056
CREATED:20220217T212424Z
LAST-MODIFIED:20220217T212533Z
UID:10000943-1645812000-1645822800@canora.com
SUMMARY:U11 Cobras Hockey Tournament
DESCRIPTION:
URL:https://canora.com/event/u11-cobras-hockey-tournament/2022-02-25/
LOCATION:Canora Civic Centre\, 711 Main Street\, Canora\, Saskatchewan\, S0A 0L0\, Canada
GEO:51.6315739;-102.4386783
X-APPLE-STRUCTURED-LOCATION;VALUE=URI;X-ADDRESS=Canora Civic Centre 711 Main Street Canora Saskatchewan S0A 0L0 Canada;X-APPLE-RADIUS=500;X-TITLE=711 Main Street:geo:-102.4386783,51.6315739
END:VEVENT
END:VCALENDAR