BEGIN:VCALENDAR
VERSION:2.0
PRODID:-//Town of Canora - ECPv6.15.17//NONSGML v1.0//EN
CALSCALE:GREGORIAN
METHOD:PUBLISH
X-ORIGINAL-URL:https://canora.com
X-WR-CALDESC:Events for Town of Canora
REFRESH-INTERVAL;VALUE=DURATION:PT1H
X-Robots-Tag:noindex
X-PUBLISHED-TTL:PT1H
BEGIN:VTIMEZONE
TZID:America/Regina
BEGIN:STANDARD
TZOFFSETFROM:-0600
TZOFFSETTO:-0600
TZNAME:CST
DTSTART:20200101T000000
END:STANDARD
END:VTIMEZONE
BEGIN:VEVENT
DTSTART;TZID=America/Regina:20211210T200000
DTEND;TZID=America/Regina:20211210T200000
DTSTAMP:20260425T062750
CREATED:20211015T223505Z
LAST-MODIFIED:20211130T153351Z
UID:10000852-1639166400-1639166400@canora.com
SUMMARY:SEHL Canora Cobras VS Ituna Avalanche
DESCRIPTION:
URL:https://canora.com/event/sehl-canora-cobras-vs-ituna-avalanche/
LOCATION:Canora Civic Centre\, 711 Main Street\, Canora\, Saskatchewan\, S0A 0L0\, Canada
GEO:51.6315739;-102.4386783
X-APPLE-STRUCTURED-LOCATION;VALUE=URI;X-ADDRESS=Canora Civic Centre 711 Main Street Canora Saskatchewan S0A 0L0 Canada;X-APPLE-RADIUS=500;X-TITLE=711 Main Street:geo:-102.4386783,51.6315739
END:VEVENT
BEGIN:VEVENT
DTSTART;TZID=America/Regina:20211211T200000
DTEND;TZID=America/Regina:20211211T200000
DTSTAMP:20260425T062750
CREATED:20211028T214200Z
LAST-MODIFIED:20211130T153830Z
UID:10000857-1639252800-1639252800@canora.com
SUMMARY:SEHL Canora Cobras VS Rocanville Tigers
DESCRIPTION:
URL:https://canora.com/event/sehl-canora-cobras-vs-rocanville-tigers-2/
LOCATION:Canora Civic Centre\, 711 Main Street\, Canora\, Saskatchewan\, S0A 0L0\, Canada
GEO:51.6315739;-102.4386783
X-APPLE-STRUCTURED-LOCATION;VALUE=URI;X-ADDRESS=Canora Civic Centre 711 Main Street Canora Saskatchewan S0A 0L0 Canada;X-APPLE-RADIUS=500;X-TITLE=711 Main Street:geo:-102.4386783,51.6315739
END:VEVENT
BEGIN:VEVENT
DTSTART;TZID=America/Regina:20211213T130000
DTEND;TZID=America/Regina:20211213T150000
DTSTAMP:20260425T062750
CREATED:20211015T220920Z
LAST-MODIFIED:20211028T205628Z
UID:10000777-1639400400-1639407600@canora.com
SUMMARY:Afternoon Drop-in Curling
DESCRIPTION:Drop in rate: $10.00 \nSeasonal Rate: $200.00 \nIf your are to new to the community just come down to the rink before scheduled time and join the fund. \nClub brooms\, throwing sticks\,  and sliders are available for those who do not have their own. \nAll participants are required to have clean inside shoes. \n 
URL:https://canora.com/event/afternnon-drop-in-league/2021-12-13/
LOCATION:Sylvia Fedoruk Center\, 701 Main Street\, Canora\, Saskatchewan\, S0A 0L0\, Canada
ORGANIZER;CN="Canora Curling Club":MAILTO:canoracurling@gmail.com
GEO:51.6317348;-102.4385717
X-APPLE-STRUCTURED-LOCATION;VALUE=URI;X-ADDRESS=Sylvia Fedoruk Center 701 Main Street Canora Saskatchewan S0A 0L0 Canada;X-APPLE-RADIUS=500;X-TITLE=701 Main Street:geo:-102.4385717,51.6317348
END:VEVENT
BEGIN:VEVENT
DTSTART;TZID=America/Regina:20211214T130000
DTEND;TZID=America/Regina:20211214T150000
DTSTAMP:20260425T062750
CREATED:20211015T220920Z
LAST-MODIFIED:20211028T205628Z
UID:10000778-1639486800-1639494000@canora.com
SUMMARY:Afternoon Drop-in Curling
DESCRIPTION:Drop in rate: $10.00 \nSeasonal Rate: $200.00 \nIf your are to new to the community just come down to the rink before scheduled time and join the fund. \nClub brooms\, throwing sticks\,  and sliders are available for those who do not have their own. \nAll participants are required to have clean inside shoes. \n 
URL:https://canora.com/event/afternnon-drop-in-league/2021-12-14/
LOCATION:Sylvia Fedoruk Center\, 701 Main Street\, Canora\, Saskatchewan\, S0A 0L0\, Canada
ORGANIZER;CN="Canora Curling Club":MAILTO:canoracurling@gmail.com
GEO:51.6317348;-102.4385717
X-APPLE-STRUCTURED-LOCATION;VALUE=URI;X-ADDRESS=Sylvia Fedoruk Center 701 Main Street Canora Saskatchewan S0A 0L0 Canada;X-APPLE-RADIUS=500;X-TITLE=701 Main Street:geo:-102.4385717,51.6317348
END:VEVENT
BEGIN:VEVENT
DTSTART;TZID=America/Regina:20211215T183000
DTEND;TZID=America/Regina:20211215T183000
DTSTAMP:20260425T062750
CREATED:20211130T152850Z
LAST-MODIFIED:20211130T153215Z
UID:10000865-1639593000-1639593000@canora.com
SUMMARY:Youth Curling
DESCRIPTION:
URL:https://canora.com/event/youth-curling/2021-12-15/
LOCATION:Sylvia Fedoruk Centre\, 701 Main Street\, Canada
ORGANIZER;CN="Canora Curling Club":MAILTO:canoracurling@gmail.com
END:VEVENT
BEGIN:VEVENT
DTSTART;TZID=America/Regina:20211216T130000
DTEND;TZID=America/Regina:20211216T150000
DTSTAMP:20260425T062750
CREATED:20211015T220920Z
LAST-MODIFIED:20211028T205628Z
UID:10000779-1639659600-1639666800@canora.com
SUMMARY:Afternoon Drop-in Curling
DESCRIPTION:Drop in rate: $10.00 \nSeasonal Rate: $200.00 \nIf your are to new to the community just come down to the rink before scheduled time and join the fund. \nClub brooms\, throwing sticks\,  and sliders are available for those who do not have their own. \nAll participants are required to have clean inside shoes. \n 
URL:https://canora.com/event/afternnon-drop-in-league/2021-12-16/
LOCATION:Sylvia Fedoruk Center\, 701 Main Street\, Canora\, Saskatchewan\, S0A 0L0\, Canada
ORGANIZER;CN="Canora Curling Club":MAILTO:canoracurling@gmail.com
GEO:51.6317348;-102.4385717
X-APPLE-STRUCTURED-LOCATION;VALUE=URI;X-ADDRESS=Sylvia Fedoruk Center 701 Main Street Canora Saskatchewan S0A 0L0 Canada;X-APPLE-RADIUS=500;X-TITLE=701 Main Street:geo:-102.4385717,51.6317348
END:VEVENT
BEGIN:VEVENT
DTSTART;TZID=America/Regina:20211216T183000
DTEND;TZID=America/Regina:20211216T183000
DTSTAMP:20260425T062750
CREATED:20211015T221255Z
LAST-MODIFIED:20220323T171007Z
UID:10000827-1639679400-1639679400@canora.com
SUMMARY:Rec League Curling
DESCRIPTION:Join our Thursday night rec league for some fun on the ice. A great way to socialize and meet people around the community. Our Club lounge offers food and beverage every Thursday. \nIndividual Season Rate: $100.00 \nTeam Season Rate: $400.00 \nRegister as a individual or team: https://canora.com/curling-2/ \n2021-22 Curling Registration form \n  \n 
URL:https://canora.com/event/rec-league-curling/2021-12-16/
LOCATION:Sylvia Fedoruk Center\, 701 Main Street\, Canora\, Saskatchewan\, S0A 0L0\, Canada
ORGANIZER;CN="Canora Curling Club":MAILTO:canoracurling@gmail.com
GEO:51.6317348;-102.4385717
X-APPLE-STRUCTURED-LOCATION;VALUE=URI;X-ADDRESS=Sylvia Fedoruk Center 701 Main Street Canora Saskatchewan S0A 0L0 Canada;X-APPLE-RADIUS=500;X-TITLE=701 Main Street:geo:-102.4385717,51.6317348
END:VEVENT
BEGIN:VEVENT
DTSTART;TZID=America/Regina:20211218T200000
DTEND;TZID=America/Regina:20211218T200000
DTSTAMP:20260425T062750
CREATED:20211015T223557Z
LAST-MODIFIED:20211130T153927Z
UID:10000853-1639857600-1639857600@canora.com
SUMMARY:SEHL Canora Cobras VS Theodore Buffalos
DESCRIPTION:
URL:https://canora.com/event/sehl-canora-cobras-vs-theodore-buffalos/
LOCATION:Canora Civic Centre\, 711 Main Street\, Canora\, Saskatchewan\, S0A 0L0\, Canada
GEO:51.6315739;-102.4386783
X-APPLE-STRUCTURED-LOCATION;VALUE=URI;X-ADDRESS=Canora Civic Centre 711 Main Street Canora Saskatchewan S0A 0L0 Canada;X-APPLE-RADIUS=500;X-TITLE=711 Main Street:geo:-102.4386783,51.6315739
END:VEVENT
BEGIN:VEVENT
DTSTART;TZID=America/Regina:20211220T130000
DTEND;TZID=America/Regina:20211220T150000
DTSTAMP:20260425T062750
CREATED:20211015T220920Z
LAST-MODIFIED:20211028T205628Z
UID:10000780-1640005200-1640012400@canora.com
SUMMARY:Afternoon Drop-in Curling
DESCRIPTION:Drop in rate: $10.00 \nSeasonal Rate: $200.00 \nIf your are to new to the community just come down to the rink before scheduled time and join the fund. \nClub brooms\, throwing sticks\,  and sliders are available for those who do not have their own. \nAll participants are required to have clean inside shoes. \n 
URL:https://canora.com/event/afternnon-drop-in-league/2021-12-20/
LOCATION:Sylvia Fedoruk Center\, 701 Main Street\, Canora\, Saskatchewan\, S0A 0L0\, Canada
ORGANIZER;CN="Canora Curling Club":MAILTO:canoracurling@gmail.com
GEO:51.6317348;-102.4385717
X-APPLE-STRUCTURED-LOCATION;VALUE=URI;X-ADDRESS=Sylvia Fedoruk Center 701 Main Street Canora Saskatchewan S0A 0L0 Canada;X-APPLE-RADIUS=500;X-TITLE=701 Main Street:geo:-102.4385717,51.6317348
END:VEVENT
BEGIN:VEVENT
DTSTART;TZID=America/Regina:20211221T130000
DTEND;TZID=America/Regina:20211221T150000
DTSTAMP:20260425T062750
CREATED:20211015T220920Z
LAST-MODIFIED:20211028T205628Z
UID:10000781-1640091600-1640098800@canora.com
SUMMARY:Afternoon Drop-in Curling
DESCRIPTION:Drop in rate: $10.00 \nSeasonal Rate: $200.00 \nIf your are to new to the community just come down to the rink before scheduled time and join the fund. \nClub brooms\, throwing sticks\,  and sliders are available for those who do not have their own. \nAll participants are required to have clean inside shoes. \n 
URL:https://canora.com/event/afternnon-drop-in-league/2021-12-21/
LOCATION:Sylvia Fedoruk Center\, 701 Main Street\, Canora\, Saskatchewan\, S0A 0L0\, Canada
ORGANIZER;CN="Canora Curling Club":MAILTO:canoracurling@gmail.com
GEO:51.6317348;-102.4385717
X-APPLE-STRUCTURED-LOCATION;VALUE=URI;X-ADDRESS=Sylvia Fedoruk Center 701 Main Street Canora Saskatchewan S0A 0L0 Canada;X-APPLE-RADIUS=500;X-TITLE=701 Main Street:geo:-102.4385717,51.6317348
END:VEVENT
BEGIN:VEVENT
DTSTART;TZID=America/Regina:20211221T190000
DTEND;TZID=America/Regina:20211221T220000
DTSTAMP:20260425T062750
CREATED:20180919T203327Z
LAST-MODIFIED:20190611T152640Z
UID:10000320-1640113200-1640124000@canora.com
SUMMARY:Town Council Meeting
DESCRIPTION:Town Council conducts its regular meetings on the 1st and 3rd Tuesday of every month. \nThe meeting takes place at the Town Office and begins at 7 pm. \nIf you would like to have a delegation attend a council meeting\, please submit your request by 12 pm (noon) on the Friday before the council meeting.\nSubmitting requests early assists Town Council and Administration.
URL:https://canora.com/event/town-council-meeting/2021-12-21/
LOCATION:Town Office\, 418 Main Street\, Canora\, SK\, S0A 0L0\, Canada
END:VEVENT
BEGIN:VEVENT
DTSTART;TZID=America/Regina:20211222T183000
DTEND;TZID=America/Regina:20211222T183000
DTSTAMP:20260425T062750
CREATED:20211130T152850Z
LAST-MODIFIED:20211130T153215Z
UID:10000866-1640197800-1640197800@canora.com
SUMMARY:Youth Curling
DESCRIPTION:
URL:https://canora.com/event/youth-curling/2021-12-22/
LOCATION:Sylvia Fedoruk Centre\, 701 Main Street\, Canada
ORGANIZER;CN="Canora Curling Club":MAILTO:canoracurling@gmail.com
END:VEVENT
BEGIN:VEVENT
DTSTART;TZID=America/Regina:20211223T130000
DTEND;TZID=America/Regina:20211223T150000
DTSTAMP:20260425T062750
CREATED:20211015T220920Z
LAST-MODIFIED:20211028T205628Z
UID:10000782-1640264400-1640271600@canora.com
SUMMARY:Afternoon Drop-in Curling
DESCRIPTION:Drop in rate: $10.00 \nSeasonal Rate: $200.00 \nIf your are to new to the community just come down to the rink before scheduled time and join the fund. \nClub brooms\, throwing sticks\,  and sliders are available for those who do not have their own. \nAll participants are required to have clean inside shoes. \n 
URL:https://canora.com/event/afternnon-drop-in-league/2021-12-23/
LOCATION:Sylvia Fedoruk Center\, 701 Main Street\, Canora\, Saskatchewan\, S0A 0L0\, Canada
ORGANIZER;CN="Canora Curling Club":MAILTO:canoracurling@gmail.com
GEO:51.6317348;-102.4385717
X-APPLE-STRUCTURED-LOCATION;VALUE=URI;X-ADDRESS=Sylvia Fedoruk Center 701 Main Street Canora Saskatchewan S0A 0L0 Canada;X-APPLE-RADIUS=500;X-TITLE=701 Main Street:geo:-102.4385717,51.6317348
END:VEVENT
BEGIN:VEVENT
DTSTART;TZID=America/Regina:20211223T183000
DTEND;TZID=America/Regina:20211223T183000
DTSTAMP:20260425T062750
CREATED:20211015T221255Z
LAST-MODIFIED:20220323T171007Z
UID:10000828-1640284200-1640284200@canora.com
SUMMARY:Rec League Curling
DESCRIPTION:Join our Thursday night rec league for some fun on the ice. A great way to socialize and meet people around the community. Our Club lounge offers food and beverage every Thursday. \nIndividual Season Rate: $100.00 \nTeam Season Rate: $400.00 \nRegister as a individual or team: https://canora.com/curling-2/ \n2021-22 Curling Registration form \n  \n 
URL:https://canora.com/event/rec-league-curling/2021-12-23/
LOCATION:Sylvia Fedoruk Center\, 701 Main Street\, Canora\, Saskatchewan\, S0A 0L0\, Canada
ORGANIZER;CN="Canora Curling Club":MAILTO:canoracurling@gmail.com
GEO:51.6317348;-102.4385717
X-APPLE-STRUCTURED-LOCATION;VALUE=URI;X-ADDRESS=Sylvia Fedoruk Center 701 Main Street Canora Saskatchewan S0A 0L0 Canada;X-APPLE-RADIUS=500;X-TITLE=701 Main Street:geo:-102.4385717,51.6317348
END:VEVENT
BEGIN:VEVENT
DTSTART;VALUE=DATE:20211226
DTEND;VALUE=DATE:20211229
DTSTAMP:20260425T062750
CREATED:20211015T221947Z
LAST-MODIFIED:20211130T154004Z
UID:10000845-1640476800-1640735999@canora.com
SUMMARY:Christmas Bonspiel
DESCRIPTION:
URL:https://canora.com/event/christmas-bonspiel-2/
LOCATION:Sylvia Fedoruk Center\, 701 Main Street\, Canora\, Saskatchewan\, S0A 0L0\, Canada
ORGANIZER;CN="Canora Curling Club":MAILTO:canoracurling@gmail.com
GEO:51.6317348;-102.4385717
X-APPLE-STRUCTURED-LOCATION;VALUE=URI;X-ADDRESS=Sylvia Fedoruk Center 701 Main Street Canora Saskatchewan S0A 0L0 Canada;X-APPLE-RADIUS=500;X-TITLE=701 Main Street:geo:-102.4385717,51.6317348
END:VEVENT
BEGIN:VEVENT
DTSTART;TZID=America/Regina:20211227T130000
DTEND;TZID=America/Regina:20211227T150000
DTSTAMP:20260425T062750
CREATED:20211015T220920Z
LAST-MODIFIED:20211028T205628Z
UID:10000783-1640610000-1640617200@canora.com
SUMMARY:Afternoon Drop-in Curling
DESCRIPTION:Drop in rate: $10.00 \nSeasonal Rate: $200.00 \nIf your are to new to the community just come down to the rink before scheduled time and join the fund. \nClub brooms\, throwing sticks\,  and sliders are available for those who do not have their own. \nAll participants are required to have clean inside shoes. \n 
URL:https://canora.com/event/afternnon-drop-in-league/2021-12-27/
LOCATION:Sylvia Fedoruk Center\, 701 Main Street\, Canora\, Saskatchewan\, S0A 0L0\, Canada
ORGANIZER;CN="Canora Curling Club":MAILTO:canoracurling@gmail.com
GEO:51.6317348;-102.4385717
X-APPLE-STRUCTURED-LOCATION;VALUE=URI;X-ADDRESS=Sylvia Fedoruk Center 701 Main Street Canora Saskatchewan S0A 0L0 Canada;X-APPLE-RADIUS=500;X-TITLE=701 Main Street:geo:-102.4385717,51.6317348
END:VEVENT
BEGIN:VEVENT
DTSTART;TZID=America/Regina:20211228T130000
DTEND;TZID=America/Regina:20211228T150000
DTSTAMP:20260425T062750
CREATED:20211015T220920Z
LAST-MODIFIED:20211028T205628Z
UID:10000784-1640696400-1640703600@canora.com
SUMMARY:Afternoon Drop-in Curling
DESCRIPTION:Drop in rate: $10.00 \nSeasonal Rate: $200.00 \nIf your are to new to the community just come down to the rink before scheduled time and join the fund. \nClub brooms\, throwing sticks\,  and sliders are available for those who do not have their own. \nAll participants are required to have clean inside shoes. \n 
URL:https://canora.com/event/afternnon-drop-in-league/2021-12-28/
LOCATION:Sylvia Fedoruk Center\, 701 Main Street\, Canora\, Saskatchewan\, S0A 0L0\, Canada
ORGANIZER;CN="Canora Curling Club":MAILTO:canoracurling@gmail.com
GEO:51.6317348;-102.4385717
X-APPLE-STRUCTURED-LOCATION;VALUE=URI;X-ADDRESS=Sylvia Fedoruk Center 701 Main Street Canora Saskatchewan S0A 0L0 Canada;X-APPLE-RADIUS=500;X-TITLE=701 Main Street:geo:-102.4385717,51.6317348
END:VEVENT
BEGIN:VEVENT
DTSTART;TZID=America/Regina:20211229T183000
DTEND;TZID=America/Regina:20211229T183000
DTSTAMP:20260425T062750
CREATED:20211130T152850Z
LAST-MODIFIED:20211130T153215Z
UID:10000867-1640802600-1640802600@canora.com
SUMMARY:Youth Curling
DESCRIPTION:
URL:https://canora.com/event/youth-curling/2021-12-29/
LOCATION:Sylvia Fedoruk Centre\, 701 Main Street\, Canada
ORGANIZER;CN="Canora Curling Club":MAILTO:canoracurling@gmail.com
END:VEVENT
BEGIN:VEVENT
DTSTART;TZID=America/Regina:20211230T130000
DTEND;TZID=America/Regina:20211230T150000
DTSTAMP:20260425T062750
CREATED:20211015T220920Z
LAST-MODIFIED:20211028T205628Z
UID:10000785-1640869200-1640876400@canora.com
SUMMARY:Afternoon Drop-in Curling
DESCRIPTION:Drop in rate: $10.00 \nSeasonal Rate: $200.00 \nIf your are to new to the community just come down to the rink before scheduled time and join the fund. \nClub brooms\, throwing sticks\,  and sliders are available for those who do not have their own. \nAll participants are required to have clean inside shoes. \n 
URL:https://canora.com/event/afternnon-drop-in-league/2021-12-30/
LOCATION:Sylvia Fedoruk Center\, 701 Main Street\, Canora\, Saskatchewan\, S0A 0L0\, Canada
ORGANIZER;CN="Canora Curling Club":MAILTO:canoracurling@gmail.com
GEO:51.6317348;-102.4385717
X-APPLE-STRUCTURED-LOCATION;VALUE=URI;X-ADDRESS=Sylvia Fedoruk Center 701 Main Street Canora Saskatchewan S0A 0L0 Canada;X-APPLE-RADIUS=500;X-TITLE=701 Main Street:geo:-102.4385717,51.6317348
END:VEVENT
BEGIN:VEVENT
DTSTART;TZID=America/Regina:20211230T183000
DTEND;TZID=America/Regina:20211230T183000
DTSTAMP:20260425T062750
CREATED:20211015T221255Z
LAST-MODIFIED:20220323T171007Z
UID:10000829-1640889000-1640889000@canora.com
SUMMARY:Rec League Curling
DESCRIPTION:Join our Thursday night rec league for some fun on the ice. A great way to socialize and meet people around the community. Our Club lounge offers food and beverage every Thursday. \nIndividual Season Rate: $100.00 \nTeam Season Rate: $400.00 \nRegister as a individual or team: https://canora.com/curling-2/ \n2021-22 Curling Registration form \n  \n 
URL:https://canora.com/event/rec-league-curling/2021-12-30/
LOCATION:Sylvia Fedoruk Center\, 701 Main Street\, Canora\, Saskatchewan\, S0A 0L0\, Canada
ORGANIZER;CN="Canora Curling Club":MAILTO:canoracurling@gmail.com
GEO:51.6317348;-102.4385717
X-APPLE-STRUCTURED-LOCATION;VALUE=URI;X-ADDRESS=Sylvia Fedoruk Center 701 Main Street Canora Saskatchewan S0A 0L0 Canada;X-APPLE-RADIUS=500;X-TITLE=701 Main Street:geo:-102.4385717,51.6317348
END:VEVENT
BEGIN:VEVENT
DTSTART;TZID=America/Regina:20220103T120000
DTEND;TZID=America/Regina:20220103T120000
DTSTAMP:20260425T062750
CREATED:20211214T194716Z
LAST-MODIFIED:20211214T194756Z
UID:10000880-1641211200-1641211200@canora.com
SUMMARY:C.C.S. Grad Class Bottle Drive
DESCRIPTION:Leave bottles at the end of the driveway and students will come pick them up. \nAlso\, Sarcan drop & go is set up. \nQuestions? text Breanne Woloshyn \n306-562-8820
URL:https://canora.com/event/c-c-s-grad-class-bottle-drive/
END:VEVENT
BEGIN:VEVENT
DTSTART;TZID=America/Regina:20220103T130000
DTEND;TZID=America/Regina:20220103T150000
DTSTAMP:20260425T062750
CREATED:20211015T220920Z
LAST-MODIFIED:20211028T205628Z
UID:10000786-1641214800-1641222000@canora.com
SUMMARY:Afternoon Drop-in Curling
DESCRIPTION:Drop in rate: $10.00 \nSeasonal Rate: $200.00 \nIf your are to new to the community just come down to the rink before scheduled time and join the fund. \nClub brooms\, throwing sticks\,  and sliders are available for those who do not have their own. \nAll participants are required to have clean inside shoes. \n 
URL:https://canora.com/event/afternnon-drop-in-league/2022-01-03/
LOCATION:Sylvia Fedoruk Center\, 701 Main Street\, Canora\, Saskatchewan\, S0A 0L0\, Canada
ORGANIZER;CN="Canora Curling Club":MAILTO:canoracurling@gmail.com
GEO:51.6317348;-102.4385717
X-APPLE-STRUCTURED-LOCATION;VALUE=URI;X-ADDRESS=Sylvia Fedoruk Center 701 Main Street Canora Saskatchewan S0A 0L0 Canada;X-APPLE-RADIUS=500;X-TITLE=701 Main Street:geo:-102.4385717,51.6317348
END:VEVENT
BEGIN:VEVENT
DTSTART;TZID=America/Regina:20220104T130000
DTEND;TZID=America/Regina:20220104T150000
DTSTAMP:20260425T062750
CREATED:20211015T220920Z
LAST-MODIFIED:20211028T205628Z
UID:10000787-1641301200-1641308400@canora.com
SUMMARY:Afternoon Drop-in Curling
DESCRIPTION:Drop in rate: $10.00 \nSeasonal Rate: $200.00 \nIf your are to new to the community just come down to the rink before scheduled time and join the fund. \nClub brooms\, throwing sticks\,  and sliders are available for those who do not have their own. \nAll participants are required to have clean inside shoes. \n 
URL:https://canora.com/event/afternnon-drop-in-league/2022-01-04/
LOCATION:Sylvia Fedoruk Center\, 701 Main Street\, Canora\, Saskatchewan\, S0A 0L0\, Canada
ORGANIZER;CN="Canora Curling Club":MAILTO:canoracurling@gmail.com
GEO:51.6317348;-102.4385717
X-APPLE-STRUCTURED-LOCATION;VALUE=URI;X-ADDRESS=Sylvia Fedoruk Center 701 Main Street Canora Saskatchewan S0A 0L0 Canada;X-APPLE-RADIUS=500;X-TITLE=701 Main Street:geo:-102.4385717,51.6317348
END:VEVENT
BEGIN:VEVENT
DTSTART;TZID=America/Regina:20220105T183000
DTEND;TZID=America/Regina:20220105T183000
DTSTAMP:20260425T062750
CREATED:20211130T152850Z
LAST-MODIFIED:20211130T153215Z
UID:10000868-1641407400-1641407400@canora.com
SUMMARY:Youth Curling
DESCRIPTION:
URL:https://canora.com/event/youth-curling/2022-01-05/
LOCATION:Sylvia Fedoruk Centre\, 701 Main Street\, Canada
ORGANIZER;CN="Canora Curling Club":MAILTO:canoracurling@gmail.com
END:VEVENT
BEGIN:VEVENT
DTSTART;TZID=America/Regina:20220106T130000
DTEND;TZID=America/Regina:20220106T150000
DTSTAMP:20260425T062750
CREATED:20211015T220920Z
LAST-MODIFIED:20211028T205628Z
UID:10000788-1641474000-1641481200@canora.com
SUMMARY:Afternoon Drop-in Curling
DESCRIPTION:Drop in rate: $10.00 \nSeasonal Rate: $200.00 \nIf your are to new to the community just come down to the rink before scheduled time and join the fund. \nClub brooms\, throwing sticks\,  and sliders are available for those who do not have their own. \nAll participants are required to have clean inside shoes. \n 
URL:https://canora.com/event/afternnon-drop-in-league/2022-01-06/
LOCATION:Sylvia Fedoruk Center\, 701 Main Street\, Canora\, Saskatchewan\, S0A 0L0\, Canada
ORGANIZER;CN="Canora Curling Club":MAILTO:canoracurling@gmail.com
GEO:51.6317348;-102.4385717
X-APPLE-STRUCTURED-LOCATION;VALUE=URI;X-ADDRESS=Sylvia Fedoruk Center 701 Main Street Canora Saskatchewan S0A 0L0 Canada;X-APPLE-RADIUS=500;X-TITLE=701 Main Street:geo:-102.4385717,51.6317348
END:VEVENT
BEGIN:VEVENT
DTSTART;TZID=America/Regina:20220106T183000
DTEND;TZID=America/Regina:20220106T183000
DTSTAMP:20260425T062750
CREATED:20211015T221255Z
LAST-MODIFIED:20220323T171007Z
UID:10000830-1641493800-1641493800@canora.com
SUMMARY:Rec League Curling
DESCRIPTION:Join our Thursday night rec league for some fun on the ice. A great way to socialize and meet people around the community. Our Club lounge offers food and beverage every Thursday. \nIndividual Season Rate: $100.00 \nTeam Season Rate: $400.00 \nRegister as a individual or team: https://canora.com/curling-2/ \n2021-22 Curling Registration form \n  \n 
URL:https://canora.com/event/rec-league-curling/2022-01-06/
LOCATION:Sylvia Fedoruk Center\, 701 Main Street\, Canora\, Saskatchewan\, S0A 0L0\, Canada
ORGANIZER;CN="Canora Curling Club":MAILTO:canoracurling@gmail.com
GEO:51.6317348;-102.4385717
X-APPLE-STRUCTURED-LOCATION;VALUE=URI;X-ADDRESS=Sylvia Fedoruk Center 701 Main Street Canora Saskatchewan S0A 0L0 Canada;X-APPLE-RADIUS=500;X-TITLE=701 Main Street:geo:-102.4385717,51.6317348
END:VEVENT
BEGIN:VEVENT
DTSTART;TZID=America/Regina:20220110T130000
DTEND;TZID=America/Regina:20220110T150000
DTSTAMP:20260425T062750
CREATED:20211015T220920Z
LAST-MODIFIED:20211028T205628Z
UID:10000789-1641819600-1641826800@canora.com
SUMMARY:Afternoon Drop-in Curling
DESCRIPTION:Drop in rate: $10.00 \nSeasonal Rate: $200.00 \nIf your are to new to the community just come down to the rink before scheduled time and join the fund. \nClub brooms\, throwing sticks\,  and sliders are available for those who do not have their own. \nAll participants are required to have clean inside shoes. \n 
URL:https://canora.com/event/afternnon-drop-in-league/2022-01-10/
LOCATION:Sylvia Fedoruk Center\, 701 Main Street\, Canora\, Saskatchewan\, S0A 0L0\, Canada
ORGANIZER;CN="Canora Curling Club":MAILTO:canoracurling@gmail.com
GEO:51.6317348;-102.4385717
X-APPLE-STRUCTURED-LOCATION;VALUE=URI;X-ADDRESS=Sylvia Fedoruk Center 701 Main Street Canora Saskatchewan S0A 0L0 Canada;X-APPLE-RADIUS=500;X-TITLE=701 Main Street:geo:-102.4385717,51.6317348
END:VEVENT
BEGIN:VEVENT
DTSTART;TZID=America/Regina:20220111T130000
DTEND;TZID=America/Regina:20220111T150000
DTSTAMP:20260425T062750
CREATED:20211015T220920Z
LAST-MODIFIED:20211028T205628Z
UID:10000790-1641906000-1641913200@canora.com
SUMMARY:Afternoon Drop-in Curling
DESCRIPTION:Drop in rate: $10.00 \nSeasonal Rate: $200.00 \nIf your are to new to the community just come down to the rink before scheduled time and join the fund. \nClub brooms\, throwing sticks\,  and sliders are available for those who do not have their own. \nAll participants are required to have clean inside shoes. \n 
URL:https://canora.com/event/afternnon-drop-in-league/2022-01-11/
LOCATION:Sylvia Fedoruk Center\, 701 Main Street\, Canora\, Saskatchewan\, S0A 0L0\, Canada
ORGANIZER;CN="Canora Curling Club":MAILTO:canoracurling@gmail.com
GEO:51.6317348;-102.4385717
X-APPLE-STRUCTURED-LOCATION;VALUE=URI;X-ADDRESS=Sylvia Fedoruk Center 701 Main Street Canora Saskatchewan S0A 0L0 Canada;X-APPLE-RADIUS=500;X-TITLE=701 Main Street:geo:-102.4385717,51.6317348
END:VEVENT
BEGIN:VEVENT
DTSTART;TZID=America/Regina:20220112T183000
DTEND;TZID=America/Regina:20220112T183000
DTSTAMP:20260425T062750
CREATED:20211130T152850Z
LAST-MODIFIED:20211130T153215Z
UID:10000869-1642012200-1642012200@canora.com
SUMMARY:Youth Curling
DESCRIPTION:
URL:https://canora.com/event/youth-curling/2022-01-12/
LOCATION:Sylvia Fedoruk Centre\, 701 Main Street\, Canada
ORGANIZER;CN="Canora Curling Club":MAILTO:canoracurling@gmail.com
END:VEVENT
BEGIN:VEVENT
DTSTART;TZID=America/Regina:20220113T130000
DTEND;TZID=America/Regina:20220113T150000
DTSTAMP:20260425T062750
CREATED:20211015T220920Z
LAST-MODIFIED:20211028T205628Z
UID:10000791-1642078800-1642086000@canora.com
SUMMARY:Afternoon Drop-in Curling
DESCRIPTION:Drop in rate: $10.00 \nSeasonal Rate: $200.00 \nIf your are to new to the community just come down to the rink before scheduled time and join the fund. \nClub brooms\, throwing sticks\,  and sliders are available for those who do not have their own. \nAll participants are required to have clean inside shoes. \n 
URL:https://canora.com/event/afternnon-drop-in-league/2022-01-13/
LOCATION:Sylvia Fedoruk Center\, 701 Main Street\, Canora\, Saskatchewan\, S0A 0L0\, Canada
ORGANIZER;CN="Canora Curling Club":MAILTO:canoracurling@gmail.com
GEO:51.6317348;-102.4385717
X-APPLE-STRUCTURED-LOCATION;VALUE=URI;X-ADDRESS=Sylvia Fedoruk Center 701 Main Street Canora Saskatchewan S0A 0L0 Canada;X-APPLE-RADIUS=500;X-TITLE=701 Main Street:geo:-102.4385717,51.6317348
END:VEVENT
END:VCALENDAR