BEGIN:VCALENDAR
VERSION:2.0
PRODID:-//Town of Canora - ECPv6.15.17//NONSGML v1.0//EN
CALSCALE:GREGORIAN
METHOD:PUBLISH
X-ORIGINAL-URL:https://canora.com
X-WR-CALDESC:Events for Town of Canora
REFRESH-INTERVAL;VALUE=DURATION:PT1H
X-Robots-Tag:noindex
X-PUBLISHED-TTL:PT1H
BEGIN:VTIMEZONE
TZID:America/Regina
BEGIN:STANDARD
TZOFFSETFROM:-0600
TZOFFSETTO:-0600
TZNAME:CST
DTSTART:20180101T000000
END:STANDARD
END:VTIMEZONE
BEGIN:VEVENT
DTSTART;VALUE=DATE:20190314
DTEND;VALUE=DATE:20190317
DTSTAMP:20260422T161600
CREATED:20190222T202239Z
LAST-MODIFIED:20190222T202858Z
UID:10000490-1552521600-1552780799@canora.com
SUMMARY:Women's Curling Bonspiel
DESCRIPTION:Call: \n(306)563-4290 \nTo enter
URL:https://canora.com/event/womens-bonspiel/
LOCATION:Sylvia Fedoruk Center\, 701 Main Street\, Canora\, Saskatchewan\, S0A 0L0\, Canada
ORGANIZER;CN="Canora Curling Club":MAILTO:canoracurling@gmail.com
GEO:51.6317348;-102.4385717
X-APPLE-STRUCTURED-LOCATION;VALUE=URI;X-ADDRESS=Sylvia Fedoruk Center 701 Main Street Canora Saskatchewan S0A 0L0 Canada;X-APPLE-RADIUS=500;X-TITLE=701 Main Street:geo:-102.4385717,51.6317348
END:VEVENT
BEGIN:VEVENT
DTSTART;TZID=America/Regina:20190315T180000
DTEND;TZID=America/Regina:20190316T120000
DTSTAMP:20260422T161600
CREATED:20190311T202942Z
LAST-MODIFIED:20190311T203309Z
UID:10000498-1552672800-1552737600@canora.com
SUMMARY:Sr. Girls Basketball Regional Playoffs
DESCRIPTION:Friday March 15th\, starting at 6pm through Saturday March 16. \nWatch our Facebook page for more information \nPACK THE AUD! \n\nHelp Canora Sr. Girls get to HOOPLA! Make some noise!!!\nAdmission charged at the door.\nCanteen available.
URL:https://canora.com/event/sr-girls-basketball-regional-playoffs/
LOCATION:Canora Composite School\, 223 8 Avenue\, Canora\, Saskatchewan\, S0A 0L0\, Canada
END:VEVENT
BEGIN:VEVENT
DTSTART;TZID=America/Regina:20190317T140000
DTEND;TZID=America/Regina:20190317T160000
DTSTAMP:20260422T161600
CREATED:20190228T165823Z
LAST-MODIFIED:20190228T165909Z
UID:10000492-1552831200-1552838400@canora.com
SUMMARY:"Viva Las Vegas" Presented by Canora Skating Club
DESCRIPTION:
URL:https://canora.com/event/viva-las-vegas-presented-by-canora-skating-club/
LOCATION:Canora Civic Centre\, 711 Main Street\, Canora\, Saskatchewan\, S0A 0L0\, Canada
GEO:51.6315739;-102.4386783
X-APPLE-STRUCTURED-LOCATION;VALUE=URI;X-ADDRESS=Canora Civic Centre 711 Main Street Canora Saskatchewan S0A 0L0 Canada;X-APPLE-RADIUS=500;X-TITLE=711 Main Street:geo:-102.4386783,51.6315739
END:VEVENT
BEGIN:VEVENT
DTSTART;TZID=America/Regina:20190319T190000
DTEND;TZID=America/Regina:20190319T220000
DTSTAMP:20260422T161600
CREATED:20180919T203327Z
LAST-MODIFIED:20190611T152640Z
UID:10000288-1553022000-1553032800@canora.com
SUMMARY:Town Council Meeting
DESCRIPTION:Town Council conducts its regular meetings on the 1st and 3rd Tuesday of every month. \nThe meeting takes place at the Town Office and begins at 7 pm. \nIf you would like to have a delegation attend a council meeting\, please submit your request by 12 pm (noon) on the Friday before the council meeting.\nSubmitting requests early assists Town Council and Administration.
URL:https://canora.com/event/town-council-meeting/2019-03-19/
LOCATION:Town Office\, 418 Main Street\, Canora\, SK\, S0A 0L0\, Canada
END:VEVENT
BEGIN:VEVENT
DTSTART;TZID=America/Regina:20190325T190000
DTEND;TZID=America/Regina:20190325T190000
DTSTAMP:20260422T161600
CREATED:20190306T221714Z
LAST-MODIFIED:20190306T221714Z
UID:10000496-1553540400-1553540400@canora.com
SUMMARY:Canora Minor Baseball Annual General Meeting
DESCRIPTION:
URL:https://canora.com/event/canora-minor-baseball-annual-general-meeting-2/
LOCATION:Activity Centre (Golf Course)\, 333 Canora Avenue\, Canora\, SK\, S0A 0L0\, Canada
GEO:51.6341203;-102.4255996
X-APPLE-STRUCTURED-LOCATION;VALUE=URI;X-ADDRESS=Activity Centre (Golf Course) 333 Canora Avenue Canora SK S0A 0L0 Canada;X-APPLE-RADIUS=500;X-TITLE=333 Canora Avenue:geo:-102.4255996,51.6341203
END:VEVENT
BEGIN:VEVENT
DTSTART;TZID=America/Regina:20190329T190000
DTEND;TZID=America/Regina:20190331T210000
DTSTAMP:20260422T161600
CREATED:20190319T194351Z
LAST-MODIFIED:20190328T154304Z
UID:10000499-1553886000-1554066000@canora.com
SUMMARY:Mixed Wind-Up Bonspiel
DESCRIPTION:
URL:https://canora.com/event/mixed-wind-up-bonspiel/
LOCATION:Sylvia Fedoruk Centre\, 701 Main Street\, Canada
ORGANIZER;CN="Canora Curling Club":MAILTO:canoracurling@gmail.com
END:VEVENT
BEGIN:VEVENT
DTSTART;TZID=America/Regina:20190403T193000
DTEND;TZID=America/Regina:20190403T193000
DTSTAMP:20260422T161600
CREATED:20180905T151404Z
LAST-MODIFIED:20180905T151544Z
UID:10000265-1554319800-1554319800@canora.com
SUMMARY:James Hill & Anne Janelle
DESCRIPTION:The Canora Arts Council presents; The Stars For Saskatchewan Concert Series. Three dates and three different performing artists.
URL:https://canora.com/event/james-hill-anne-janelle/
LOCATION:Canora Composite School\, Canora\, SK\, S0A 0L0\, Canada
END:VEVENT
BEGIN:VEVENT
DTSTART;VALUE=DATE:20190404
DTEND;VALUE=DATE:20190405
DTSTAMP:20260422T161600
CREATED:20190130T170544Z
LAST-MODIFIED:20190130T170922Z
UID:10000471-1554336000-1554422399@canora.com
SUMMARY:Spring & Summer Mass Registration
DESCRIPTION:https://canora.com/mass-registration/
URL:https://canora.com/event/spring-summer-mass-registration-2/
LOCATION:Canora Town Office\, 418 Main Street\, Canora\, SK\, S0A 0L0\, Canada
END:VEVENT
BEGIN:VEVENT
DTSTART;TZID=America/Regina:20190410T190000
DTEND;TZID=America/Regina:20190410T190000
DTSTAMP:20260422T161600
CREATED:20190319T202712Z
LAST-MODIFIED:20190328T222058Z
UID:10000501-1554922800-1554922800@canora.com
SUMMARY:Canora Soccer Club Annual General Meeting
DESCRIPTION:https://www.facebook.com/photo.php?fbid=2182293251865377&set=gm.988056238059363&type=3&eid=ARC9crHxR79ybjou4U0kv09xIscksv-vIm-WXYECulvqizEO0-gy8pjESoBN682n2ZdL6Zz_dcK2IvIr&ifg=1
URL:https://canora.com/event/canora-soccer-club-annual-general-meeting-2/
LOCATION:Canora Composite School\, 223 8 Avenue\, Canora\, Saskatchewan\, S0A 0L0\, Canada
END:VEVENT
BEGIN:VEVENT
DTSTART;TZID=America/Regina:20190410T190000
DTEND;TZID=America/Regina:20190410T190000
DTSTAMP:20260422T161600
CREATED:20190328T154744Z
LAST-MODIFIED:20190328T154925Z
UID:10000504-1554922800-1554922800@canora.com
SUMMARY:Canora Golf & Country Annual General Meeting
DESCRIPTION:Open to the public for inquiries and information. \n 
URL:https://canora.com/event/canora-golf-country-annual-general-meeting-2/
LOCATION:Activity Centre (Golf Course)\, 333 Canora Avenue\, Canora\, SK\, S0A 0L0\, Canada
ORGANIZER;CN="Canora Golf Club":MAILTO:canoragolfclub@gmail.com
GEO:51.6341203;-102.4255996
X-APPLE-STRUCTURED-LOCATION;VALUE=URI;X-ADDRESS=Activity Centre (Golf Course) 333 Canora Avenue Canora SK S0A 0L0 Canada;X-APPLE-RADIUS=500;X-TITLE=333 Canora Avenue:geo:-102.4255996,51.6341203
END:VEVENT
BEGIN:VEVENT
DTSTART;TZID=America/Regina:20190411T100000
DTEND;TZID=America/Regina:20190411T100000
DTSTAMP:20260422T161600
CREATED:20190311T172356Z
LAST-MODIFIED:20190311T172356Z
UID:10000497-1554976800-1554976800@canora.com
SUMMARY:Easter Tea & Bake Sale
DESCRIPTION:Paska's\nBaba's\nDoughnuts\nBaked goods\nfrozen nalysnyky and cabbage\nRoles\nPerogies
URL:https://canora.com/event/easter-tea-bake-sale-2/
LOCATION:Ukrainian Catholic Hall\, 229 5th Avenue West\, Canora\, SK\, S0A 0L0\, Canada
ORGANIZER;CN="UCWL":MAILTO:ahrycak@gmail.com
END:VEVENT
BEGIN:VEVENT
DTSTART;TZID=America/Regina:20190413T150000
DTEND;TZID=America/Regina:20190413T160000
DTSTAMP:20260422T161600
CREATED:20190319T201739Z
LAST-MODIFIED:20190319T201739Z
UID:10000500-1555167600-1555171200@canora.com
SUMMARY:Spring Vaccination Clinics
DESCRIPTION:
URL:https://canora.com/event/spring-vaccination-clinics/
LOCATION:Sports Services Centre
ORGANIZER;CN="Yorkton Animal Centre":MAILTO:yahestaff@sasktel.net
END:VEVENT
BEGIN:VEVENT
DTSTART;TZID=America/Regina:20190414T133000
DTEND;TZID=America/Regina:20190414T150000
DTSTAMP:20260422T161600
CREATED:20190326T193444Z
LAST-MODIFIED:20190326T193444Z
UID:10000503-1555248600-1555254000@canora.com
SUMMARY:Spring Tea
DESCRIPTION:Canora's Gateway Lodge is hosting its Spring Tea on April 14th from 1:30 pm to 3 pm \nEveryone is welcome! \nSponsored by Gateway Lodge Ladies Auxiliary \nFor more information\, contact Arlene Lazaruk at (306) 563 - 5685\, Ext. 5 or email arlene.lazaruk@shr.sk.ca \n 
URL:https://canora.com/event/spring-tea-2/
LOCATION:Canora Gateway Lodge\, 212 Centre Ave.\, Canora\, SK\, S0A 0L0\, Canada
END:VEVENT
BEGIN:VEVENT
DTSTART;TZID=America/Regina:20190416T190000
DTEND;TZID=America/Regina:20190416T220000
DTSTAMP:20260422T161600
CREATED:20180919T203327Z
LAST-MODIFIED:20190611T152640Z
UID:10000289-1555441200-1555452000@canora.com
SUMMARY:Town Council Meeting
DESCRIPTION:Town Council conducts its regular meetings on the 1st and 3rd Tuesday of every month. \nThe meeting takes place at the Town Office and begins at 7 pm. \nIf you would like to have a delegation attend a council meeting\, please submit your request by 12 pm (noon) on the Friday before the council meeting.\nSubmitting requests early assists Town Council and Administration.
URL:https://canora.com/event/town-council-meeting/2019-04-16/
LOCATION:Town Office\, 418 Main Street\, Canora\, SK\, S0A 0L0\, Canada
END:VEVENT
BEGIN:VEVENT
DTSTART;TZID=America/Regina:20190417T100000
DTEND;TZID=America/Regina:20190417T120000
DTSTAMP:20260422T161600
CREATED:20190329T154021Z
LAST-MODIFIED:20190329T154021Z
UID:10000505-1555495200-1555502400@canora.com
SUMMARY:Early Childhood Celebration
DESCRIPTION:
URL:https://canora.com/event/early-childhood-celebration/
LOCATION:CJES\, Canroa\, Saskatchewan\, S0A 0L0\, Canada
END:VEVENT
BEGIN:VEVENT
DTSTART;TZID=America/Regina:20190424T133000
DTEND;TZID=America/Regina:20190424T153000
DTSTAMP:20260422T161600
CREATED:20190410T144458Z
LAST-MODIFIED:20190410T144458Z
UID:10000507-1556112600-1556119800@canora.com
SUMMARY:Canora Housing Authority Information Session & Luncheon
DESCRIPTION:
URL:https://canora.com/event/canora-housing-authority-information-session-luncheon/
LOCATION:Rainbow Hall\, 203 1st Avenue E\, Canora
END:VEVENT
BEGIN:VEVENT
DTSTART;TZID=America/Regina:20190504T193000
DTEND;TZID=America/Regina:20190504T233000
DTSTAMP:20260422T161600
CREATED:20190408T151751Z
LAST-MODIFIED:20190408T152124Z
UID:10000506-1556998200-1557012600@canora.com
SUMMARY:Men Without Shame
DESCRIPTION:
URL:https://canora.com/event/men-without-shame/
LOCATION:Sylvia Fedoruk Center\, 701 Main Street\, Canora\, Saskatchewan\, S0A 0L0\, Canada
GEO:51.6317348;-102.4385717
X-APPLE-STRUCTURED-LOCATION;VALUE=URI;X-ADDRESS=Sylvia Fedoruk Center 701 Main Street Canora Saskatchewan S0A 0L0 Canada;X-APPLE-RADIUS=500;X-TITLE=701 Main Street:geo:-102.4385717,51.6317348
END:VEVENT
BEGIN:VEVENT
DTSTART;TZID=America/Regina:20190504T193000
DTEND;TZID=America/Regina:20190504T233000
DTSTAMP:20260422T161600
CREATED:20190424T191632Z
LAST-MODIFIED:20190424T191632Z
UID:10000522-1556998200-1557012600@canora.com
SUMMARY:Seniors Dance
DESCRIPTION:
URL:https://canora.com/event/seniors-dance-4/
LOCATION:Ukrainian Catholic Hall\, 229 5th Avenue West\, Canora\, SK\, S0A 0L0\, Canada
END:VEVENT
BEGIN:VEVENT
DTSTART;TZID=America/Regina:20190505T130000
DTEND;TZID=America/Regina:20190505T170000
DTSTAMP:20260422T161600
CREATED:20190416T144910Z
LAST-MODIFIED:20190416T144910Z
UID:10000520-1557061200-1557075600@canora.com
SUMMARY:The Holodomor National Awareness Tour
DESCRIPTION:The Holodomor National Awareness Tour is coming to Canora on May 5th!\n\n\n \n\n\nThe public can explore this exhibit from 1 pm to 5 pm at Canora Composite School\n\n\n \n\n\nThe Royal Canadian Legion - Branch No. 52\, the Ukrainian Canadian Congress - Canora Branch\, and the Canora Ukrainian Heritage Museum made this stop possible.\n\n\n \n\n\nLearn more at https://holodomortour.ca/the-holodomor-national-awareness-tour/
URL:https://canora.com/event/the-holodomor-national-awareness-tour/
LOCATION:Canora Composite School\, 223 8 Avenue\, Canora\, Saskatchewan\, S0A 0L0\, Canada
END:VEVENT
BEGIN:VEVENT
DTSTART;TZID=America/Regina:20190511T130000
DTEND;TZID=America/Regina:20190511T153000
DTSTAMP:20260422T161600
CREATED:20190417T210737Z
LAST-MODIFIED:20190417T210737Z
UID:10000521-1557579600-1557588600@canora.com
SUMMARY:Spring Tea\, Raffle & Bake Sale
DESCRIPTION:
URL:https://canora.com/event/spring-tea-raffle-bake-sale-2/
LOCATION:Canora Hospital\, 1219 Main St.\, Canora\, SK\, S0A 0L0\, Canada
GEO:51.6255604;-102.4408497
X-APPLE-STRUCTURED-LOCATION;VALUE=URI;X-ADDRESS=Canora Hospital 1219 Main St. Canora SK S0A 0L0 Canada;X-APPLE-RADIUS=500;X-TITLE=1219 Main St.:geo:-102.4408497,51.6255604
END:VEVENT
BEGIN:VEVENT
DTSTART;TZID=America/Regina:20190516T190000
DTEND;TZID=America/Regina:20190516T210000
DTSTAMP:20260422T161600
CREATED:20190326T150631Z
LAST-MODIFIED:20190326T150631Z
UID:10000502-1558033200-1558040400@canora.com
SUMMARY:RCMP Town Hall Meeting
DESCRIPTION:
URL:https://canora.com/event/rcmp-town-hall-meeting-2/
LOCATION:Sturgis Town Hall\, Sturgis\, Saskatchewan\, S0A 4A0\, Canada
END:VEVENT
BEGIN:VEVENT
DTSTART;TZID=America/Regina:20190521T170000
DTEND;TZID=America/Regina:20190521T170000
DTSTAMP:20260422T161600
CREATED:20190509T160310Z
LAST-MODIFIED:20190509T160344Z
UID:10000524-1558458000-1558458000@canora.com
SUMMARY:CCS Grad Bottle Drive
DESCRIPTION:Curbside pickup @ 5:00 pm on May 21st
URL:https://canora.com/event/ccs-grad-bottle-drive/
LOCATION:SK
END:VEVENT
BEGIN:VEVENT
DTSTART;TZID=America/Regina:20190521T190000
DTEND;TZID=America/Regina:20190521T220000
DTSTAMP:20260422T161600
CREATED:20180919T203327Z
LAST-MODIFIED:20190611T152640Z
UID:10000290-1558465200-1558476000@canora.com
SUMMARY:Town Council Meeting
DESCRIPTION:Town Council conducts its regular meetings on the 1st and 3rd Tuesday of every month. \nThe meeting takes place at the Town Office and begins at 7 pm. \nIf you would like to have a delegation attend a council meeting\, please submit your request by 12 pm (noon) on the Friday before the council meeting.\nSubmitting requests early assists Town Council and Administration.
URL:https://canora.com/event/town-council-meeting/2019-05-21/
LOCATION:Town Office\, 418 Main Street\, Canora\, SK\, S0A 0L0\, Canada
END:VEVENT
BEGIN:VEVENT
DTSTART;TZID=America/Regina:20190529T190000
DTEND;TZID=America/Regina:20190529T210000
DTSTAMP:20260422T161600
CREATED:20190516T144117Z
LAST-MODIFIED:20190516T144117Z
UID:10000525-1559156400-1559163600@canora.com
SUMMARY:CEDC: 2nd Local Business Meeting
DESCRIPTION:
URL:https://canora.com/event/cedc-2nd-local-business-meeting/
LOCATION:Town Office\, 418 Main Street\, Canora\, SK\, S0A 0L0\, Canada
ORGANIZER;CN="Canora Economic Development Commission":MAILTO:cdo.canora@sasktel.net
END:VEVENT
BEGIN:VEVENT
DTSTART;VALUE=DATE:20190601
DTEND;VALUE=DATE:20190602
DTSTAMP:20260422T161600
CREATED:20190503T190110Z
LAST-MODIFIED:20190604T170213Z
UID:10000523-1559347200-1559433599@canora.com
SUMMARY:Canora Minor Ball Day
DESCRIPTION:
URL:https://canora.com/event/canora-minor-ball-day-2/
LOCATION:Sports Grounds\, Canora\, Saskatchewan\, S0A 0L0\, Canada
END:VEVENT
BEGIN:VEVENT
DTSTART;TZID=America/Regina:20190601T110000
DTEND;TZID=America/Regina:20190601T140000
DTSTAMP:20260422T161600
CREATED:20190410T162127Z
LAST-MODIFIED:20190410T162127Z
UID:10000508-1559386800-1559397600@canora.com
SUMMARY:RCMP BBQ & Open House
DESCRIPTION:
URL:https://canora.com/event/rcmp-bbq-open-house/
LOCATION:RCMP\, 510 Main Street\, Canora\, Saskatchewan\, S0A 0L0
END:VEVENT
BEGIN:VEVENT
DTSTART;TZID=America/Regina:20190601T150000
DTEND;TZID=America/Regina:20190601T220000
DTSTAMP:20260422T161600
CREATED:20190521T222829Z
LAST-MODIFIED:20190527T160033Z
UID:10000527-1559401200-1559426400@canora.com
SUMMARY:Poker Tournament
DESCRIPTION:Supper and Bar \nCall the Club for more details!
URL:https://canora.com/event/poker-tournament/
LOCATION:Activity Centre (Golf Course)\, 333 Canora Avenue\, Canora\, SK\, S0A 0L0\, Canada
ORGANIZER;CN="Canora Golf Club":MAILTO:canoragolfclub@gmail.com
GEO:51.6341203;-102.4255996
X-APPLE-STRUCTURED-LOCATION;VALUE=URI;X-ADDRESS=Activity Centre (Golf Course) 333 Canora Avenue Canora SK S0A 0L0 Canada;X-APPLE-RADIUS=500;X-TITLE=333 Canora Avenue:geo:-102.4255996,51.6341203
END:VEVENT
BEGIN:VEVENT
DTSTART;VALUE=DATE:20190608
DTEND;VALUE=DATE:20190610
DTSTAMP:20260422T161600
CREATED:20190410T173212Z
LAST-MODIFIED:20190531T154103Z
UID:10000519-1559952000-1560124799@canora.com
SUMMARY:Community Garage Sale
DESCRIPTION:Save a buck and get to know your neighbours a little better? Sign me up! \nCanora’s Community Garage Sale is taking place this summer on Saturday\, June 8th\, and Sunday\, June 9th. \nWe look forward to hearing from you and searching for local treasures! \n \n 
URL:https://canora.com/event/community-garage-sale/
LOCATION:Town of Canora\, Canora\, SK\, S0A 0L0\, Canada
ORGANIZER;CN="Town of Canora":MAILTO:cdo.canora@sasktel.net
END:VEVENT
BEGIN:VEVENT
DTSTART;TZID=America/Regina:20190608T090000
DTEND;TZID=America/Regina:20190609T170000
DTSTAMP:20260422T161600
CREATED:20190225T200640Z
LAST-MODIFIED:20190225T200640Z
UID:10000491-1559984400-1560099600@canora.com
SUMMARY:River Ridge Fish & Game Gun Show
DESCRIPTION:
URL:https://canora.com/event/river-ridge-fish-game-gun-show-3/
LOCATION:Sylvia Fedoruk Center\, 701 Main Street\, Canora\, Saskatchewan\, S0A 0L0\, Canada
GEO:51.6317348;-102.4385717
X-APPLE-STRUCTURED-LOCATION;VALUE=URI;X-ADDRESS=Sylvia Fedoruk Center 701 Main Street Canora Saskatchewan S0A 0L0 Canada;X-APPLE-RADIUS=500;X-TITLE=701 Main Street:geo:-102.4385717,51.6317348
END:VEVENT
BEGIN:VEVENT
DTSTART;TZID=America/Regina:20190618T190000
DTEND;TZID=America/Regina:20190618T220000
DTSTAMP:20260422T161600
CREATED:20180919T203327Z
LAST-MODIFIED:20190611T152640Z
UID:10000291-1560884400-1560895200@canora.com
SUMMARY:Town Council Meeting
DESCRIPTION:Town Council conducts its regular meetings on the 1st and 3rd Tuesday of every month. \nThe meeting takes place at the Town Office and begins at 7 pm. \nIf you would like to have a delegation attend a council meeting\, please submit your request by 12 pm (noon) on the Friday before the council meeting.\nSubmitting requests early assists Town Council and Administration.
URL:https://canora.com/event/town-council-meeting/2019-06-18/
LOCATION:Town Office\, 418 Main Street\, Canora\, SK\, S0A 0L0\, Canada
END:VEVENT
END:VCALENDAR