BEGIN:VCALENDAR
VERSION:2.0
PRODID:-//Town of Canora - ECPv6.15.17//NONSGML v1.0//EN
CALSCALE:GREGORIAN
METHOD:PUBLISH
X-WR-CALNAME:Town of Canora
X-ORIGINAL-URL:https://canora.com
X-WR-CALDESC:Events for Town of Canora
REFRESH-INTERVAL;VALUE=DURATION:PT1H
X-Robots-Tag:noindex
X-PUBLISHED-TTL:PT1H
BEGIN:VTIMEZONE
TZID:America/Regina
BEGIN:STANDARD
TZOFFSETFROM:-0600
TZOFFSETTO:-0600
TZNAME:CST
DTSTART:20150101T000000
END:STANDARD
END:VTIMEZONE
BEGIN:VEVENT
DTSTART;VALUE=DATE:20161001
DTEND;VALUE=DATE:20161002
DTSTAMP:20260419T142915
CREATED:20160930T212142Z
LAST-MODIFIED:20160930T212142Z
UID:10000042-1475280000-1475366399@canora.com
SUMMARY:1st Annual Big N' Little Golf Day
DESCRIPTION:
URL:https://canora.com/event/1st-annual-big-n-little-golf-day/
LOCATION:Golf Course\, 333 Canora Ave. \, Canora\, Saskatchewan\, S0A 0L0\, Canada
END:VEVENT
BEGIN:VEVENT
DTSTART;TZID=America/Regina:20161008T133000
DTEND;TZID=America/Regina:20161008T153000
DTSTAMP:20260419T142915
CREATED:20160913T161053Z
LAST-MODIFIED:20160913T161053Z
UID:10000038-1475933400-1475940600@canora.com
SUMMARY:Canora Hospital Auxiliary October Pie & Coffee
DESCRIPTION:Canora Hospital Dining Room \nSponsored by: Canora Hospital Auxiliary
URL:https://canora.com/event/canora-hospital-auxiliary-october-pie-coffee/
LOCATION:Canora Hospital Dining Room
END:VEVENT
BEGIN:VEVENT
DTSTART;TZID=America/Regina:20161011T190000
DTEND;TZID=America/Regina:20161011T210000
DTSTAMP:20260419T142915
CREATED:20161003T172329Z
LAST-MODIFIED:20161003T172329Z
UID:10000043-1476212400-1476219600@canora.com
SUMMARY:ALL-CANDIDATES FORUM
DESCRIPTION:
URL:https://canora.com/event/all-candidates-forum/
LOCATION:Sylvia Fedoruk Centre\, 701 Main Street\, Canada
END:VEVENT
BEGIN:VEVENT
DTSTART;TZID=America/Regina:20161015T070000
DTEND;TZID=America/Regina:20161015T110000
DTSTAMP:20260419T142915
CREATED:20161013T215949Z
LAST-MODIFIED:20161013T215949Z
UID:10000045-1476514800-1476529200@canora.com
SUMMARY:Canora & District Firefighters Pancake Breakfast
DESCRIPTION:
URL:https://canora.com/event/canora-district-firefighters-pancake-breakfast/
LOCATION:Fire Hall\, Main Street\, Canora\, SK\, S0A 0L0\, Canada
END:VEVENT
BEGIN:VEVENT
DTSTART;TZID=America/Regina:20161022T120000
DTEND;TZID=America/Regina:20161022T160000
DTSTAMP:20260419T142915
CREATED:20160928T224244Z
LAST-MODIFIED:20160928T224244Z
UID:10000041-1477137600-1477152000@canora.com
SUMMARY:ADVANCE POLL - For Mayor and Council
DESCRIPTION:Town Council Chamber
URL:https://canora.com/event/advance-poll-mayor-council/
LOCATION:Council Chambers\, 418 Main Street\, Canora
END:VEVENT
BEGIN:VEVENT
DTSTART;TZID=America/Regina:20161026T193000
DTEND;TZID=America/Regina:20161026T220000
DTSTAMP:20260419T142915
CREATED:20160823T203340Z
LAST-MODIFIED:20161018T221717Z
UID:10000031-1477510200-1477519200@canora.com
SUMMARY:Lisa Brokrop (award winning artist)
DESCRIPTION:Stars For Saskatchewan Concert Series \n\n \n 
URL:https://canora.com/event/lisa-brokrop/
LOCATION:Canora Composite School\, Canora\, SK\, S0A 0L0\, Canada
END:VEVENT
BEGIN:VEVENT
DTSTART;TZID=America/Regina:20161030T160000
DTEND;TZID=America/Regina:20161030T183000
DTSTAMP:20260419T142915
CREATED:20161011T174926Z
LAST-MODIFIED:20161011T174926Z
UID:10000044-1477843200-1477852200@canora.com
SUMMARY:St. Joseph's CWL Fall Supper
DESCRIPTION:Everyone is welcome \n\nAdults\n\n$12\n\n\nAges 6 - 12\n\n$7\n\n\n5 & under\n\nFree
URL:https://canora.com/event/st-josephs-cwl-fall-supper/
LOCATION:201 4th Ave E\, Canora\, Saskatchewan\, S0A 0L0\, Canada
GEO:51.634333;-102.4401245
X-APPLE-STRUCTURED-LOCATION;VALUE=URI;X-ADDRESS=201 4th Ave E Canora Saskatchewan S0A 0L0 Canada;X-APPLE-RADIUS=500;X-TITLE=201 4th Ave E:geo:-102.4401245,51.634333
END:VEVENT
END:VCALENDAR