BEGIN:VCALENDAR
VERSION:2.0
PRODID:-//Town of Canora - ECPv6.15.17//NONSGML v1.0//EN
CALSCALE:GREGORIAN
METHOD:PUBLISH
X-ORIGINAL-URL:https://canora.com
X-WR-CALDESC:Events for Town of Canora
REFRESH-INTERVAL;VALUE=DURATION:PT1H
X-Robots-Tag:noindex
X-PUBLISHED-TTL:PT1H
BEGIN:VTIMEZONE
TZID:America/Regina
BEGIN:STANDARD
TZOFFSETFROM:-0600
TZOFFSETTO:-0600
TZNAME:CST
DTSTART:20180101T000000
END:STANDARD
END:VTIMEZONE
BEGIN:VEVENT
DTSTART;TZID=America/Regina:20190717T173000
DTEND;TZID=America/Regina:20190717T220000
DTSTAMP:20260422T160912
CREATED:20190516T153049Z
LAST-MODIFIED:20190516T153049Z
UID:10000526-1563384600-1563400800@canora.com
SUMMARY:3rd Annual Junior Firefighter Challenge
DESCRIPTION:
URL:https://canora.com/event/3rd-annual-junior-firefighter-challenge/
LOCATION:Kids Korner\, 726 Main Street\, Canora\, Saskatchewan\, S0A 0L0\, Canada
GEO:51.6312841;-102.4388147
X-APPLE-STRUCTURED-LOCATION;VALUE=URI;X-ADDRESS=Kids Korner 726 Main Street Canora Saskatchewan S0A 0L0 Canada;X-APPLE-RADIUS=500;X-TITLE=726 Main Street:geo:-102.4388147,51.6312841
END:VEVENT
BEGIN:VEVENT
DTSTART;TZID=America/Regina:20190718T100000
DTEND;TZID=America/Regina:20190718T160000
DTSTAMP:20260422T160912
CREATED:20190410T170824Z
LAST-MODIFIED:20190410T170824Z
UID:10000511-1563444000-1563465600@canora.com
SUMMARY:Canora's Farmer's Market
DESCRIPTION:Meet and buy from local producers and makers every Thursday this summer at the Visitor Centre & CN Museum\, starting July 4th and running until August 29th. \nThe Vendor Application form is available below: \nFarmer's Market Vendor Application \nAll vendors should complete and submit an application before the Farmer's Market begins.\nEvery vendor must have a completed application on file to participate in the Farmer's Market.  \nEvery vendor must also follow all requirements\, including public health.\nIt is the responsibility of the vendor to inform themselves and meet these requirements. \nPlease contact Community Development at (306) 563 - 5574 or email cdo.canora@sasktel.net if you have any questions
URL:https://canora.com/event/canoras-farmers-market/2019-07-18/
LOCATION:Visitors Centre & CN Museum\, 100 Railway Avenue\, Canora
ORGANIZER;CN="Community Development":MAILTO:cdo.canora@sasktel.net
GEO:51.6372416;-102.4366927
X-APPLE-STRUCTURED-LOCATION;VALUE=URI;X-ADDRESS=Visitors Centre & CN Museum 100 Railway Avenue Canora;X-APPLE-RADIUS=500;X-TITLE=100 Railway Avenue:geo:-102.4366927,51.6372416
END:VEVENT
BEGIN:VEVENT
DTSTART;TZID=America/Regina:20190719T170000
DTEND;TZID=America/Regina:20190719T200000
DTSTAMP:20260422T160912
CREATED:20190305T224650Z
LAST-MODIFIED:20190708T152415Z
UID:10000493-1563555600-1563566400@canora.com
SUMMARY:Shish on the Deck
DESCRIPTION:Shishliki supper at the Canora Golf & Country Club. \n \nMore details to come.
URL:https://canora.com/event/steak-or-shish-on-the-deck/
LOCATION:Activity Centre (Golf Course)\, 333 Canora Avenue\, Canora\, SK\, S0A 0L0\, Canada
ORGANIZER;CN="Canora Golf Club":MAILTO:canoragolfclub@gmail.com
GEO:51.6341203;-102.4255996
X-APPLE-STRUCTURED-LOCATION;VALUE=URI;X-ADDRESS=Activity Centre (Golf Course) 333 Canora Avenue Canora SK S0A 0L0 Canada;X-APPLE-RADIUS=500;X-TITLE=333 Canora Avenue:geo:-102.4255996,51.6341203
END:VEVENT
BEGIN:VEVENT
DTSTART;TZID=America/Regina:20190720T111500
DTEND;TZID=America/Regina:20190720T233000
DTSTAMP:20260422T160912
CREATED:20190305T225737Z
LAST-MODIFIED:20190722T145915Z
UID:10000494-1563621300-1563665400@canora.com
SUMMARY:FESTIVAL IN THE PARK
DESCRIPTION:  \n50/50 draw of $500 was claimed by the winner Brigitte Herriges with the TICKET 0992848.\nCanora Minor Ball would like to thank you for your support!\n \nNo admission charge \nEntertainment for all ages \nMore details to come! \n\nSummer Parade \n\n@ 11:15 am - 12:00 pm\nTo enter a float contact: cdo.canora@sasktel.net\n\nMusic \n \n\nOld Country Lads \n\nOn Main Stage @ 1:30 -4:30 PM\n\n\n\n \n\nNick Faye\n\nOn Main Stage @ 6:30 - 7:15PM\nFolk Rock Artist\nhttp://www.nickfayedeputies.com/\n\n\n\n \n\nCanora Music Society Open Mic\n\nLocal talent\nAll Genres\nhttps://www.facebook.com/canoramusicsociety101/\n\n\n\n \n\nCover 2 Cover\n\nPremium cover band\nTop 40 Country\, Rock\, Pop\n\n\n\n \n \n\nThrills \n\nGlobal FMX\n\nThree Shows on Main Street (in front of the park) @ 1:00 PM\, 4:30 PM\, & 7:30 PM\nFormer X-Games high aerial daredevils\nSafety 1 on 1\nPhoto Opportunities\n\n\n\n  \n\nInteractive \n\nThe Rambling Reptile & Animal Road Show\n\nPetting Zoo\nRiding carousel\nFeed the animals (small charge for food)\nWack-a-mole game (small charge for prize)\nInflatables ($5 for day pass)\n\n\n\n \n\nThe Cruisers Car Show\n\nAdjacent to King George Park - 11:00 am -4:00 pm\nStreet viewing of local classic rides\nFree admission entrants. Call Gene to enter (306) 563-7212.\n Awards at the end.\n\n\n\n \n\nServices \n\nFood Services\nBeverages \nNon-alcohol sitting areas\nBeer Gardens (No minors in designated areas) \nNo ATM on site\n\n\nSponsors \n\nSaskatchewan Lotteries\nGateway CO-OP\nCrossroads Credit Union\nCommunity Insurance\nPenguin Refrigeration\nYorkton Crossing Retirement Home\n\nMore details to be announced soon!
URL:https://canora.com/event/festival-in-the-park/
LOCATION:King George V Kiwanis Park\, 601 main st\, Canora\, Saskatchewan\, S0A 0L0\, Canada
ORGANIZER;CN="Canora Leisure Services":MAILTO:leisure.canora@sasktel.net
GEO:51.6339451;-102.4370069
X-APPLE-STRUCTURED-LOCATION;VALUE=URI;X-ADDRESS=King George V Kiwanis Park 601 main st Canora Saskatchewan S0A 0L0 Canada;X-APPLE-RADIUS=500;X-TITLE=601 main st:geo:-102.4370069,51.6339451
END:VEVENT
BEGIN:VEVENT
DTSTART;TZID=America/Regina:20190722T090000
DTEND;TZID=America/Regina:20190722T150000
DTSTAMP:20260422T160912
CREATED:20190212T220954Z
LAST-MODIFIED:20190212T221014Z
UID:10000481-1563786000-1563807600@canora.com
SUMMARY:Basketball Day Camp
DESCRIPTION:
URL:https://canora.com/event/basketball-day-camp/2019-07-22/
LOCATION:Canora Composite School\, Canora\, SK\, S0A 0L0\, Canada
END:VEVENT
BEGIN:VEVENT
DTSTART;TZID=America/Regina:20190723T090000
DTEND;TZID=America/Regina:20190723T150000
DTSTAMP:20260422T160912
CREATED:20190212T220954Z
LAST-MODIFIED:20190212T221014Z
UID:10000482-1563872400-1563894000@canora.com
SUMMARY:Basketball Day Camp
DESCRIPTION:
URL:https://canora.com/event/basketball-day-camp/2019-07-23/
LOCATION:Canora Composite School\, Canora\, SK\, S0A 0L0\, Canada
END:VEVENT
BEGIN:VEVENT
DTSTART;VALUE=DATE:20190724
DTEND;VALUE=DATE:20190725
DTSTAMP:20260422T160912
CREATED:20190521T223345Z
LAST-MODIFIED:20190521T223358Z
UID:10000529-1563926400-1564012799@canora.com
SUMMARY:Junior Golf Tournament
DESCRIPTION:Call the Golf Club for details! \nGolf
URL:https://canora.com/event/junior-golf-tournament-3/
LOCATION:Activity Centre (Golf Course)\, 333 Canora Avenue\, Canora\, SK\, S0A 0L0\, Canada
ORGANIZER;CN="Canora Golf Club":MAILTO:canoragolfclub@gmail.com
GEO:51.6341203;-102.4255996
X-APPLE-STRUCTURED-LOCATION;VALUE=URI;X-ADDRESS=Activity Centre (Golf Course) 333 Canora Avenue Canora SK S0A 0L0 Canada;X-APPLE-RADIUS=500;X-TITLE=333 Canora Avenue:geo:-102.4255996,51.6341203
END:VEVENT
BEGIN:VEVENT
DTSTART;TZID=America/Regina:20190724T090000
DTEND;TZID=America/Regina:20190724T150000
DTSTAMP:20260422T160912
CREATED:20190212T220954Z
LAST-MODIFIED:20190212T221014Z
UID:10000483-1563958800-1563980400@canora.com
SUMMARY:Basketball Day Camp
DESCRIPTION:
URL:https://canora.com/event/basketball-day-camp/2019-07-24/
LOCATION:Canora Composite School\, Canora\, SK\, S0A 0L0\, Canada
END:VEVENT
BEGIN:VEVENT
DTSTART;TZID=America/Regina:20190725T090000
DTEND;TZID=America/Regina:20190725T150000
DTSTAMP:20260422T160912
CREATED:20190212T220954Z
LAST-MODIFIED:20190212T221014Z
UID:10000484-1564045200-1564066800@canora.com
SUMMARY:Basketball Day Camp
DESCRIPTION:
URL:https://canora.com/event/basketball-day-camp/2019-07-25/
LOCATION:Canora Composite School\, Canora\, SK\, S0A 0L0\, Canada
END:VEVENT
BEGIN:VEVENT
DTSTART;TZID=America/Regina:20190725T100000
DTEND;TZID=America/Regina:20190725T160000
DTSTAMP:20260422T160912
CREATED:20190410T170824Z
LAST-MODIFIED:20190410T170824Z
UID:10000512-1564048800-1564070400@canora.com
SUMMARY:Canora's Farmer's Market
DESCRIPTION:Meet and buy from local producers and makers every Thursday this summer at the Visitor Centre & CN Museum\, starting July 4th and running until August 29th. \nThe Vendor Application form is available below: \nFarmer's Market Vendor Application \nAll vendors should complete and submit an application before the Farmer's Market begins.\nEvery vendor must have a completed application on file to participate in the Farmer's Market.  \nEvery vendor must also follow all requirements\, including public health.\nIt is the responsibility of the vendor to inform themselves and meet these requirements. \nPlease contact Community Development at (306) 563 - 5574 or email cdo.canora@sasktel.net if you have any questions
URL:https://canora.com/event/canoras-farmers-market/2019-07-25/
LOCATION:Visitors Centre & CN Museum\, 100 Railway Avenue\, Canora
ORGANIZER;CN="Community Development":MAILTO:cdo.canora@sasktel.net
GEO:51.6372416;-102.4366927
X-APPLE-STRUCTURED-LOCATION;VALUE=URI;X-ADDRESS=Visitors Centre & CN Museum 100 Railway Avenue Canora;X-APPLE-RADIUS=500;X-TITLE=100 Railway Avenue:geo:-102.4366927,51.6372416
END:VEVENT
BEGIN:VEVENT
DTSTART;TZID=America/Regina:20190726T090000
DTEND;TZID=America/Regina:20190726T150000
DTSTAMP:20260422T160912
CREATED:20190212T220954Z
LAST-MODIFIED:20190212T221014Z
UID:10000485-1564131600-1564153200@canora.com
SUMMARY:Basketball Day Camp
DESCRIPTION:
URL:https://canora.com/event/basketball-day-camp/2019-07-26/
LOCATION:Canora Composite School\, Canora\, SK\, S0A 0L0\, Canada
END:VEVENT
BEGIN:VEVENT
DTSTART;TZID=America/Regina:20190801T100000
DTEND;TZID=America/Regina:20190801T160000
DTSTAMP:20260422T160912
CREATED:20190410T170824Z
LAST-MODIFIED:20190410T170824Z
UID:10000513-1564653600-1564675200@canora.com
SUMMARY:Canora's Farmer's Market
DESCRIPTION:Meet and buy from local producers and makers every Thursday this summer at the Visitor Centre & CN Museum\, starting July 4th and running until August 29th. \nThe Vendor Application form is available below: \nFarmer's Market Vendor Application \nAll vendors should complete and submit an application before the Farmer's Market begins.\nEvery vendor must have a completed application on file to participate in the Farmer's Market.  \nEvery vendor must also follow all requirements\, including public health.\nIt is the responsibility of the vendor to inform themselves and meet these requirements. \nPlease contact Community Development at (306) 563 - 5574 or email cdo.canora@sasktel.net if you have any questions
URL:https://canora.com/event/canoras-farmers-market/2019-08-01/
LOCATION:Visitors Centre & CN Museum\, 100 Railway Avenue\, Canora
ORGANIZER;CN="Community Development":MAILTO:cdo.canora@sasktel.net
GEO:51.6372416;-102.4366927
X-APPLE-STRUCTURED-LOCATION;VALUE=URI;X-ADDRESS=Visitors Centre & CN Museum 100 Railway Avenue Canora;X-APPLE-RADIUS=500;X-TITLE=100 Railway Avenue:geo:-102.4366927,51.6372416
END:VEVENT
BEGIN:VEVENT
DTSTART;TZID=America/Regina:20190808T100000
DTEND;TZID=America/Regina:20190808T160000
DTSTAMP:20260422T160912
CREATED:20190410T170824Z
LAST-MODIFIED:20190410T170824Z
UID:10000514-1565258400-1565280000@canora.com
SUMMARY:Canora's Farmer's Market
DESCRIPTION:Meet and buy from local producers and makers every Thursday this summer at the Visitor Centre & CN Museum\, starting July 4th and running until August 29th. \nThe Vendor Application form is available below: \nFarmer's Market Vendor Application \nAll vendors should complete and submit an application before the Farmer's Market begins.\nEvery vendor must have a completed application on file to participate in the Farmer's Market.  \nEvery vendor must also follow all requirements\, including public health.\nIt is the responsibility of the vendor to inform themselves and meet these requirements. \nPlease contact Community Development at (306) 563 - 5574 or email cdo.canora@sasktel.net if you have any questions
URL:https://canora.com/event/canoras-farmers-market/2019-08-08/
LOCATION:Visitors Centre & CN Museum\, 100 Railway Avenue\, Canora
ORGANIZER;CN="Community Development":MAILTO:cdo.canora@sasktel.net
GEO:51.6372416;-102.4366927
X-APPLE-STRUCTURED-LOCATION;VALUE=URI;X-ADDRESS=Visitors Centre & CN Museum 100 Railway Avenue Canora;X-APPLE-RADIUS=500;X-TITLE=100 Railway Avenue:geo:-102.4366927,51.6372416
END:VEVENT
BEGIN:VEVENT
DTSTART;VALUE=DATE:20190810
DTEND;VALUE=DATE:20190812
DTSTAMP:20260422T160912
CREATED:20190731T175730Z
LAST-MODIFIED:20190731T175730Z
UID:10000541-1565395200-1565567999@canora.com
SUMMARY:The 26th Annual 3D Shoot
DESCRIPTION:
URL:https://canora.com/event/the-26th-annual-3d-shoot/
LOCATION:SK
END:VEVENT
BEGIN:VEVENT
DTSTART;VALUE=DATE:20190814
DTEND;VALUE=DATE:20190815
DTSTAMP:20260422T160912
CREATED:20190521T223537Z
LAST-MODIFIED:20190521T223553Z
UID:10000530-1565740800-1565827199@canora.com
SUMMARY:Ladies Open
DESCRIPTION:Call the golf club for details \nGolf
URL:https://canora.com/event/ladies-open/
LOCATION:Activity Centre (Golf Course)\, 333 Canora Avenue\, Canora\, SK\, S0A 0L0\, Canada
ORGANIZER;CN="Canora Golf Club":MAILTO:canoragolfclub@gmail.com
GEO:51.6341203;-102.4255996
X-APPLE-STRUCTURED-LOCATION;VALUE=URI;X-ADDRESS=Activity Centre (Golf Course) 333 Canora Avenue Canora SK S0A 0L0 Canada;X-APPLE-RADIUS=500;X-TITLE=333 Canora Avenue:geo:-102.4255996,51.6341203
END:VEVENT
BEGIN:VEVENT
DTSTART;TZID=America/Regina:20190815T100000
DTEND;TZID=America/Regina:20190815T160000
DTSTAMP:20260422T160912
CREATED:20190410T170824Z
LAST-MODIFIED:20190410T170824Z
UID:10000515-1565863200-1565884800@canora.com
SUMMARY:Canora's Farmer's Market
DESCRIPTION:Meet and buy from local producers and makers every Thursday this summer at the Visitor Centre & CN Museum\, starting July 4th and running until August 29th. \nThe Vendor Application form is available below: \nFarmer's Market Vendor Application \nAll vendors should complete and submit an application before the Farmer's Market begins.\nEvery vendor must have a completed application on file to participate in the Farmer's Market.  \nEvery vendor must also follow all requirements\, including public health.\nIt is the responsibility of the vendor to inform themselves and meet these requirements. \nPlease contact Community Development at (306) 563 - 5574 or email cdo.canora@sasktel.net if you have any questions
URL:https://canora.com/event/canoras-farmers-market/2019-08-15/
LOCATION:Visitors Centre & CN Museum\, 100 Railway Avenue\, Canora
ORGANIZER;CN="Community Development":MAILTO:cdo.canora@sasktel.net
GEO:51.6372416;-102.4366927
X-APPLE-STRUCTURED-LOCATION;VALUE=URI;X-ADDRESS=Visitors Centre & CN Museum 100 Railway Avenue Canora;X-APPLE-RADIUS=500;X-TITLE=100 Railway Avenue:geo:-102.4366927,51.6372416
END:VEVENT
BEGIN:VEVENT
DTSTART;VALUE=DATE:20190816
DTEND;VALUE=DATE:20190819
DTSTAMP:20260422T160912
CREATED:20190625T144711Z
LAST-MODIFIED:20190625T144711Z
UID:10000538-1565913600-1566172799@canora.com
SUMMARY:CANORA SLO-PITCH TOURNAMENT
DESCRIPTION:TO ENTER CALL DEVON 306-571-9096 \nDETAILS TO COME.
URL:https://canora.com/event/canora-slo-pitch-tournament/
LOCATION:Sports Grounds\, Canora\, Saskatchewan\, S0A 0L0\, Canada
END:VEVENT
BEGIN:VEVENT
DTSTART;TZID=America/Regina:20190820T183000
DTEND;TZID=America/Regina:20190820T193000
DTSTAMP:20260422T160912
CREATED:20190819T212057Z
LAST-MODIFIED:20190821T151823Z
UID:10000543-1566325800-1566329400@canora.com
SUMMARY:Public Inquiry RE: Landfill
DESCRIPTION:Open public information session
URL:https://canora.com/event/public-inquiry-re-landfill/
LOCATION:Sylvia Fedoruk Center\, 701 Main Street\, Canora\, Saskatchewan\, S0A 0L0\, Canada
GEO:51.6317348;-102.4385717
X-APPLE-STRUCTURED-LOCATION;VALUE=URI;X-ADDRESS=Sylvia Fedoruk Center 701 Main Street Canora Saskatchewan S0A 0L0 Canada;X-APPLE-RADIUS=500;X-TITLE=701 Main Street:geo:-102.4385717,51.6317348
END:VEVENT
BEGIN:VEVENT
DTSTART;TZID=America/Regina:20190820T190000
DTEND;TZID=America/Regina:20190820T220000
DTSTAMP:20260422T160912
CREATED:20180919T203327Z
LAST-MODIFIED:20190611T152640Z
UID:10000292-1566327600-1566338400@canora.com
SUMMARY:Town Council Meeting
DESCRIPTION:Town Council conducts its regular meetings on the 1st and 3rd Tuesday of every month. \nThe meeting takes place at the Town Office and begins at 7 pm. \nIf you would like to have a delegation attend a council meeting\, please submit your request by 12 pm (noon) on the Friday before the council meeting.\nSubmitting requests early assists Town Council and Administration.
URL:https://canora.com/event/town-council-meeting/2019-08-20/
LOCATION:Town Office\, 418 Main Street\, Canora\, SK\, S0A 0L0\, Canada
END:VEVENT
BEGIN:VEVENT
DTSTART;TZID=America/Regina:20190821T070000
DTEND;TZID=America/Regina:20190821T210000
DTSTAMP:20260422T160912
CREATED:20190819T173126Z
LAST-MODIFIED:20190819T173126Z
UID:10000542-1566370800-1566421200@canora.com
SUMMARY:Mayoral All Candidates Forum
DESCRIPTION:
URL:https://canora.com/event/mayoral-all-candidates-forum/
LOCATION:Sylvia Fedoruk Center\, 701 Main Street\, Canora\, Saskatchewan\, S0A 0L0\, Canada
GEO:51.6317348;-102.4385717
X-APPLE-STRUCTURED-LOCATION;VALUE=URI;X-ADDRESS=Sylvia Fedoruk Center 701 Main Street Canora Saskatchewan S0A 0L0 Canada;X-APPLE-RADIUS=500;X-TITLE=701 Main Street:geo:-102.4385717,51.6317348
END:VEVENT
BEGIN:VEVENT
DTSTART;TZID=America/Regina:20190821T190000
DTEND;TZID=America/Regina:20190821T230000
DTSTAMP:20260422T160912
CREATED:20190821T152149Z
LAST-MODIFIED:20190821T152149Z
UID:10000544-1566414000-1566428400@canora.com
SUMMARY:Senior Dance
DESCRIPTION:
URL:https://canora.com/event/senior-dance/
LOCATION:Rainbow Hall\, 203 1st Avenue E\, Canora
END:VEVENT
BEGIN:VEVENT
DTSTART;TZID=America/Regina:20190822T100000
DTEND;TZID=America/Regina:20190822T160000
DTSTAMP:20260422T160912
CREATED:20190410T170824Z
LAST-MODIFIED:20190410T170824Z
UID:10000516-1566468000-1566489600@canora.com
SUMMARY:Canora's Farmer's Market
DESCRIPTION:Meet and buy from local producers and makers every Thursday this summer at the Visitor Centre & CN Museum\, starting July 4th and running until August 29th. \nThe Vendor Application form is available below: \nFarmer's Market Vendor Application \nAll vendors should complete and submit an application before the Farmer's Market begins.\nEvery vendor must have a completed application on file to participate in the Farmer's Market.  \nEvery vendor must also follow all requirements\, including public health.\nIt is the responsibility of the vendor to inform themselves and meet these requirements. \nPlease contact Community Development at (306) 563 - 5574 or email cdo.canora@sasktel.net if you have any questions
URL:https://canora.com/event/canoras-farmers-market/2019-08-22/
LOCATION:Visitors Centre & CN Museum\, 100 Railway Avenue\, Canora
ORGANIZER;CN="Community Development":MAILTO:cdo.canora@sasktel.net
GEO:51.6372416;-102.4366927
X-APPLE-STRUCTURED-LOCATION;VALUE=URI;X-ADDRESS=Visitors Centre & CN Museum 100 Railway Avenue Canora;X-APPLE-RADIUS=500;X-TITLE=100 Railway Avenue:geo:-102.4366927,51.6372416
END:VEVENT
BEGIN:VEVENT
DTSTART;VALUE=DATE:20190825
DTEND;VALUE=DATE:20190826
DTSTAMP:20260422T160912
CREATED:20190521T223657Z
LAST-MODIFIED:20190521T223657Z
UID:10000531-1566691200-1566777599@canora.com
SUMMARY:Men's Open
DESCRIPTION:Call the Golf Club for details! \nGolf
URL:https://canora.com/event/mens-open/
LOCATION:Activity Centre (Golf Course)\, 333 Canora Avenue\, Canora\, SK\, S0A 0L0\, Canada
ORGANIZER;CN="Canora Golf Club":MAILTO:canoragolfclub@gmail.com
GEO:51.6341203;-102.4255996
X-APPLE-STRUCTURED-LOCATION;VALUE=URI;X-ADDRESS=Activity Centre (Golf Course) 333 Canora Avenue Canora SK S0A 0L0 Canada;X-APPLE-RADIUS=500;X-TITLE=333 Canora Avenue:geo:-102.4255996,51.6341203
END:VEVENT
BEGIN:VEVENT
DTSTART;TZID=America/Regina:20190829T100000
DTEND;TZID=America/Regina:20190829T160000
DTSTAMP:20260422T160912
CREATED:20190410T170824Z
LAST-MODIFIED:20190410T170824Z
UID:10000517-1567072800-1567094400@canora.com
SUMMARY:Canora's Farmer's Market
DESCRIPTION:Meet and buy from local producers and makers every Thursday this summer at the Visitor Centre & CN Museum\, starting July 4th and running until August 29th. \nThe Vendor Application form is available below: \nFarmer's Market Vendor Application \nAll vendors should complete and submit an application before the Farmer's Market begins.\nEvery vendor must have a completed application on file to participate in the Farmer's Market.  \nEvery vendor must also follow all requirements\, including public health.\nIt is the responsibility of the vendor to inform themselves and meet these requirements. \nPlease contact Community Development at (306) 563 - 5574 or email cdo.canora@sasktel.net if you have any questions
URL:https://canora.com/event/canoras-farmers-market/2019-08-29/
LOCATION:Visitors Centre & CN Museum\, 100 Railway Avenue\, Canora
ORGANIZER;CN="Community Development":MAILTO:cdo.canora@sasktel.net
GEO:51.6372416;-102.4366927
X-APPLE-STRUCTURED-LOCATION;VALUE=URI;X-ADDRESS=Visitors Centre & CN Museum 100 Railway Avenue Canora;X-APPLE-RADIUS=500;X-TITLE=100 Railway Avenue:geo:-102.4366927,51.6372416
END:VEVENT
BEGIN:VEVENT
DTSTART;VALUE=DATE:20190904
DTEND;VALUE=DATE:20190905
DTSTAMP:20260422T160912
CREATED:20190521T223816Z
LAST-MODIFIED:20190521T223816Z
UID:10000532-1567555200-1567641599@canora.com
SUMMARY:Senior Men's & Ladies Golf Tournament
DESCRIPTION:Call the Golf Club for details! \nGolf
URL:https://canora.com/event/senior-mens-ladies-golf-tournament/
LOCATION:Activity Centre (Golf Course)\, 333 Canora Avenue\, Canora\, SK\, S0A 0L0\, Canada
ORGANIZER;CN="Canora Golf Club":MAILTO:canoragolfclub@gmail.com
GEO:51.6341203;-102.4255996
X-APPLE-STRUCTURED-LOCATION;VALUE=URI;X-ADDRESS=Activity Centre (Golf Course) 333 Canora Avenue Canora SK S0A 0L0 Canada;X-APPLE-RADIUS=500;X-TITLE=333 Canora Avenue:geo:-102.4255996,51.6341203
END:VEVENT
BEGIN:VEVENT
DTSTART;TZID=America/Regina:20190905T173000
DTEND;TZID=America/Regina:20190905T190000
DTSTAMP:20260422T160912
CREATED:20190823T145837Z
LAST-MODIFIED:20190823T145954Z
UID:10000546-1567704600-1567710000@canora.com
SUMMARY:Fall and Winter Mass Registration
DESCRIPTION:https://canora.com/mass-registration/
URL:https://canora.com/event/fall-and-winter-mass-registration-2/
LOCATION:Sylvia Fedoruk Center\, 701 Main Street\, Canora\, Saskatchewan\, S0A 0L0\, Canada
GEO:51.6317348;-102.4385717
X-APPLE-STRUCTURED-LOCATION;VALUE=URI;X-ADDRESS=Sylvia Fedoruk Center 701 Main Street Canora Saskatchewan S0A 0L0 Canada;X-APPLE-RADIUS=500;X-TITLE=701 Main Street:geo:-102.4385717,51.6317348
END:VEVENT
BEGIN:VEVENT
DTSTART;TZID=America/Regina:20190907T193000
DTEND;TZID=America/Regina:20190907T233000
DTSTAMP:20260422T160912
CREATED:20190821T152435Z
LAST-MODIFIED:20190821T152435Z
UID:10000545-1567884600-1567899000@canora.com
SUMMARY:Seniors' Dance
DESCRIPTION:
URL:https://canora.com/event/seniors-dance-6/
LOCATION:Ukrainian Catholic Hall\, 229 5th Avenue West\, Canora\, SK\, S0A 0L0\, Canada
END:VEVENT
BEGIN:VEVENT
DTSTART;TZID=America/Regina:20190915T133000
DTEND;TZID=America/Regina:20190915T133000
DTSTAMP:20260422T160912
CREATED:20190909T202340Z
LAST-MODIFIED:20190909T202340Z
UID:10000548-1568554200-1568554200@canora.com
SUMMARY:Cheap Suit Classic
DESCRIPTION:
URL:https://canora.com/event/cheap-suit-classic/
LOCATION:Activity Centre (Golf Course)\, 333 Canora Avenue\, Canora\, SK\, S0A 0L0\, Canada
ORGANIZER;CN="Canora Golf Club":MAILTO:canoragolfclub@gmail.com
GEO:51.6341203;-102.4255996
X-APPLE-STRUCTURED-LOCATION;VALUE=URI;X-ADDRESS=Activity Centre (Golf Course) 333 Canora Avenue Canora SK S0A 0L0 Canada;X-APPLE-RADIUS=500;X-TITLE=333 Canora Avenue:geo:-102.4255996,51.6341203
END:VEVENT
BEGIN:VEVENT
DTSTART;TZID=America/Regina:20190917T113000
DTEND;TZID=America/Regina:20190917T133000
DTSTAMP:20260422T160912
CREATED:20190913T165126Z
LAST-MODIFIED:20190913T165126Z
UID:10000550-1568719800-1568727000@canora.com
SUMMARY:Barbeque
DESCRIPTION:Fundraiser
URL:https://canora.com/event/barbeque/
LOCATION:Gateway Co-op Grocery Store
END:VEVENT
BEGIN:VEVENT
DTSTART;TZID=America/Regina:20190917T190000
DTEND;TZID=America/Regina:20190917T220000
DTSTAMP:20260422T160912
CREATED:20180919T203327Z
LAST-MODIFIED:20190611T152640Z
UID:10000293-1568746800-1568757600@canora.com
SUMMARY:Town Council Meeting
DESCRIPTION:Town Council conducts its regular meetings on the 1st and 3rd Tuesday of every month. \nThe meeting takes place at the Town Office and begins at 7 pm. \nIf you would like to have a delegation attend a council meeting\, please submit your request by 12 pm (noon) on the Friday before the council meeting.\nSubmitting requests early assists Town Council and Administration.
URL:https://canora.com/event/town-council-meeting/2019-09-17/
LOCATION:Town Office\, 418 Main Street\, Canora\, SK\, S0A 0L0\, Canada
END:VEVENT
END:VCALENDAR