BEGIN:VCALENDAR
VERSION:2.0
PRODID:-//Town of Canora - ECPv6.15.17//NONSGML v1.0//EN
CALSCALE:GREGORIAN
METHOD:PUBLISH
X-ORIGINAL-URL:https://canora.com
X-WR-CALDESC:Events for Town of Canora
REFRESH-INTERVAL;VALUE=DURATION:PT1H
X-Robots-Tag:noindex
X-PUBLISHED-TTL:PT1H
BEGIN:VTIMEZONE
TZID:America/Regina
BEGIN:STANDARD
TZOFFSETFROM:-0600
TZOFFSETTO:-0600
TZNAME:CST
DTSTART:20170101T000000
END:STANDARD
END:VTIMEZONE
BEGIN:VEVENT
DTSTART;TZID=America/Regina:20181130T173000
DTEND;TZID=America/Regina:20181130T180000
DTSTAMP:20260421T134842
CREATED:20181023T150009Z
LAST-MODIFIED:20181023T150009Z
UID:10000448-1543599000-1543600800@canora.com
SUMMARY:Winter Lights Festival - Parade
DESCRIPTION:Sponsored by the Town of Canora\, starting at 5:30 pm. \nThe parade will begin at the Gateway Lodge\, head North on Main St.\, turn East on Eighth Ave.\, head North on Third St.\, turn West on Railway Ave.\, and proceed South on Main St. to King George Park. Route Maps available at Town Office \nParade route pictured below:
URL:https://canora.com/event/winter-lights-festival-parade/
LOCATION:King George V Kiwanis Park\, 601 main st\, Canora\, Saskatchewan\, S0A 0L0\, Canada
ORGANIZER;CN="Town of Canora":MAILTO:cdo.canora@sasktel.net
GEO:51.6339451;-102.4370069
X-APPLE-STRUCTURED-LOCATION;VALUE=URI;X-ADDRESS=King George V Kiwanis Park 601 main st Canora Saskatchewan S0A 0L0 Canada;X-APPLE-RADIUS=500;X-TITLE=601 main st:geo:-102.4370069,51.6339451
END:VEVENT
BEGIN:VEVENT
DTSTART;TZID=America/Regina:20181130T180000
DTEND;TZID=America/Regina:20181130T220000
DTSTAMP:20260421T134842
CREATED:20181023T150138Z
LAST-MODIFIED:20181023T150138Z
UID:10000449-1543600800-1543615200@canora.com
SUMMARY:Winter Lights Festival - Bonfire
DESCRIPTION:Sponsored by the Town of Canora\, starting once the parade arrives at King George Park
URL:https://canora.com/event/winter-lights-festival-bonfire/
LOCATION:King George V Kiwanis Park\, 601 main st\, Canora\, Saskatchewan\, S0A 0L0\, Canada
ORGANIZER;CN="Town of Canora":MAILTO:cdo.canora@sasktel.net
GEO:51.6339451;-102.4370069
X-APPLE-STRUCTURED-LOCATION;VALUE=URI;X-ADDRESS=King George V Kiwanis Park 601 main st Canora Saskatchewan S0A 0L0 Canada;X-APPLE-RADIUS=500;X-TITLE=601 main st:geo:-102.4370069,51.6339451
END:VEVENT
BEGIN:VEVENT
DTSTART;TZID=America/Regina:20181130T193000
DTEND;TZID=America/Regina:20181130T194500
DTSTAMP:20260421T134842
CREATED:20181023T150409Z
LAST-MODIFIED:20181023T150409Z
UID:10000450-1543606200-1543607100@canora.com
SUMMARY:Winter Lights Festival - Fireworks
DESCRIPTION:Sponsored by the Town of Canora\, from 7:30 pm to 7:45 pm at King George Park. \nThe fireworks will be set off along Pacific and easily viewed from King George Park.\nWe recommend First Street and Fifth Avenue West if you wish to view the fireworks display from a vehicle.
URL:https://canora.com/event/winter-lights-festival-fireworks/
LOCATION:King George V Kiwanis Park\, 601 main st\, Canora\, Saskatchewan\, S0A 0L0\, Canada
ORGANIZER;CN="Town of Canora":MAILTO:cdo.canora@sasktel.net
GEO:51.6339451;-102.4370069
X-APPLE-STRUCTURED-LOCATION;VALUE=URI;X-ADDRESS=King George V Kiwanis Park 601 main st Canora Saskatchewan S0A 0L0 Canada;X-APPLE-RADIUS=500;X-TITLE=601 main st:geo:-102.4370069,51.6339451
END:VEVENT
BEGIN:VEVENT
DTSTART;TZID=America/Regina:20181201T100000
DTEND;TZID=America/Regina:20181201T160000
DTSTAMP:20260421T134842
CREATED:20181023T150624Z
LAST-MODIFIED:20181023T150624Z
UID:10000451-1543658400-1543680000@canora.com
SUMMARY:Winter Lights Festival - Trade Fair
DESCRIPTION:Hosted by Filling the Gap/Canora Food Bank from 10 am to 4 pm at the Rainbow Hall
URL:https://canora.com/event/winter-lights-festival-trade-fair/
LOCATION:Rainbow Hall\, 203 1st Avenue E\, Canora
END:VEVENT
BEGIN:VEVENT
DTSTART;TZID=America/Regina:20181201T193000
DTEND;TZID=America/Regina:20181201T233000
DTSTAMP:20260421T134842
CREATED:20181115T195019Z
LAST-MODIFIED:20181115T195019Z
UID:10000460-1543692600-1543707000@canora.com
SUMMARY:Canora Seniors Dance
DESCRIPTION:
URL:https://canora.com/event/canora-seniors-dance-9/
LOCATION:Ukrainian Catholic Hall\, 229 5th Avenue West\, Canora\, SK\, S0A 0L0\, Canada
END:VEVENT
BEGIN:VEVENT
DTSTART;TZID=America/Regina:20181201T203000
DTEND;TZID=America/Regina:20181202T000000
DTSTAMP:20260421T134842
CREATED:20181023T151008Z
LAST-MODIFIED:20181023T151008Z
UID:10000452-1543696200-1543708800@canora.com
SUMMARY:Winter Lights Festival - Canora Music Society Open Mic Nite
DESCRIPTION:Hosted by the Canora Music Society from 8:30 pm to 12 am at the Canora Hotel
URL:https://canora.com/event/winter-lights-festival-canora-music-society-open-mic-nite/
LOCATION:Canora Hotel\, 102 Main St.\, Canora\, Canada
END:VEVENT
BEGIN:VEVENT
DTSTART;TZID=America/Regina:20181202T140000
DTEND;TZID=America/Regina:20181202T160000
DTSTAMP:20260421T134842
CREATED:20181023T151207Z
LAST-MODIFIED:20181114T224727Z
UID:10000453-1543759200-1543766400@canora.com
SUMMARY:Winter Lights Festival - Carol Festival
DESCRIPTION:Sponsored by the Canora Hospital Auxiliary\, starting at 2 pm at the Canora Composite School. \nDonations welcome and encouraged.
URL:https://canora.com/event/winter-lights-festival-carol-festival/
LOCATION:Canora Composite School\, Canora\, SK\, S0A 0L0\, Canada
END:VEVENT
BEGIN:VEVENT
DTSTART;TZID=America/Regina:20181206T100000
DTEND;TZID=America/Regina:20181206T100000
DTSTAMP:20260421T134842
CREATED:20181120T160959Z
LAST-MODIFIED:20181120T160959Z
UID:10000462-1544090400-1544090400@canora.com
SUMMARY:Bake Sale & Tea
DESCRIPTION:UCWL will be having a bake sale and tea including cabbage rolls\, borsch\, dainties\, clam chowder\, kalachi\, doughnuts.
URL:https://canora.com/event/bake-sale-tea/
LOCATION:Ukrainian Catholic Hall\, 229 5th Avenue West\, Canora\, SK\, S0A 0L0\, Canada
ORGANIZER;CN="UCWL":MAILTO:ahrycak@gmail.com
END:VEVENT
BEGIN:VEVENT
DTSTART;VALUE=DATE:20181208
DTEND;VALUE=DATE:20181222
DTSTAMP:20260421T134842
CREATED:20181119T162315Z
LAST-MODIFIED:20181119T162315Z
UID:10000461-1544227200-1545436799@canora.com
SUMMARY:Yuletide Toy Drive
DESCRIPTION:
URL:https://canora.com/event/yuletide-toy-drive-2/
LOCATION:Saskatchewan
END:VEVENT
BEGIN:VEVENT
DTSTART;TZID=America/Regina:20181208T100000
DTEND;TZID=America/Regina:20181208T160000
DTSTAMP:20260421T134842
CREATED:20180918T163601Z
LAST-MODIFIED:20180918T163601Z
UID:10000283-1544263200-1544284800@canora.com
SUMMARY:Christmas Trade Show
DESCRIPTION:This exciting Christmas trade show is both a wonderful way to spend time with family while preparing for the holiday season and a fundraiser for the Ukrainian Orthodox Church in Canora!
URL:https://canora.com/event/christmas-trade-show/
LOCATION:Rainbow Hall\, Canora\, SK\, S0A 0L0\, Canada
END:VEVENT
BEGIN:VEVENT
DTSTART;TZID=America/Regina:20181218T190000
DTEND;TZID=America/Regina:20181218T220000
DTSTAMP:20260421T134842
CREATED:20180919T203327Z
LAST-MODIFIED:20190611T152640Z
UID:10000287-1545159600-1545170400@canora.com
SUMMARY:Town Council Meeting
DESCRIPTION:Town Council conducts its regular meetings on the 1st and 3rd Tuesday of every month. \nThe meeting takes place at the Town Office and begins at 7 pm. \nIf you would like to have a delegation attend a council meeting\, please submit your request by 12 pm (noon) on the Friday before the council meeting.\nSubmitting requests early assists Town Council and Administration.
URL:https://canora.com/event/town-council-meeting/2018-12-18/
LOCATION:Town Office\, 418 Main Street\, Canora\, SK\, S0A 0L0\, Canada
END:VEVENT
BEGIN:VEVENT
DTSTART;TZID=America/Regina:20181219T190000
DTEND;TZID=America/Regina:20181219T190000
DTSTAMP:20260421T134842
CREATED:20181126T150721Z
LAST-MODIFIED:20181126T150909Z
UID:10000463-1545246000-1545246000@canora.com
SUMMARY:The Christmas Chronicles
DESCRIPTION:CCS grade 5 & 6 students proudly present the " Christmas Chronicles"
URL:https://canora.com/event/the-christmas-chronicles/
LOCATION:Canora Composite School\, Canora\, SK\, S0A 0L0\, Canada
END:VEVENT
BEGIN:VEVENT
DTSTART;TZID=America/Regina:20190105T193000
DTEND;TZID=America/Regina:20190105T233000
DTSTAMP:20260421T134842
CREATED:20181218T195559Z
LAST-MODIFIED:20181218T195559Z
UID:10000464-1546716600-1546731000@canora.com
SUMMARY:Canora Seniors Dance
DESCRIPTION:
URL:https://canora.com/event/canora-seniors-dance-10/
LOCATION:Ukrainian Catholic Hall\, 229 5th Avenue West\, Canora\, SK\, S0A 0L0\, Canada
END:VEVENT
BEGIN:VEVENT
DTSTART;TZID=America/Regina:20190108T190000
DTEND;TZID=America/Regina:20190108T220000
DTSTAMP:20260421T134842
CREATED:20180919T203327Z
LAST-MODIFIED:20190102T153807Z
UID:10000426-1546974000-1546984800@canora.com
SUMMARY:Town Council Meeting
DESCRIPTION:Town Council conducts its regular meetings on the 1st and 3rd Tuesday of every month. \nThe meeting takes place at the Town Office and begins at 7 pm. \nIf you would like to have a delegation attend a council meeting\, please submit your request by 12 pm (noon) on the Friday before the council meeting.\nSubmitting requests early assists Town Council and Administration.
URL:https://canora.com/event/town-council-meeting-2019-01-15/2019-01-08/
LOCATION:Town Office\, 418 Main Street\, Canora\, SK\, S0A 0L0\, Canada
END:VEVENT
BEGIN:VEVENT
DTSTART;TZID=America/Regina:20190111T130000
DTEND;TZID=America/Regina:20190111T153000
DTSTAMP:20260421T134842
CREATED:20180912T200504Z
LAST-MODIFIED:20180912T200504Z
UID:10000274-1547211600-1547220600@canora.com
SUMMARY:LiveWell with Chronic Pain
DESCRIPTION:
URL:https://canora.com/event/livewell-with-chronic-pain/2019-01-11/
LOCATION:Saskatchewan
END:VEVENT
BEGIN:VEVENT
DTSTART;TZID=America/Regina:20190112T170000
DTEND;TZID=America/Regina:20190112T233000
DTSTAMP:20260421T134842
CREATED:20190107T175533Z
LAST-MODIFIED:20190107T175734Z
UID:10000466-1547312400-1547335800@canora.com
SUMMARY:Trakkers 31st Anniversary Wing & Riblet Nite
DESCRIPTION:
URL:https://canora.com/event/31st-anniversary-wing-riblet-nite/
LOCATION:Activity Centre (Golf Course)\, 333 Canora Avenue\, Canora\, SK\, S0A 0L0\, Canada
GEO:51.6341203;-102.4255996
X-APPLE-STRUCTURED-LOCATION;VALUE=URI;X-ADDRESS=Activity Centre (Golf Course) 333 Canora Avenue Canora SK S0A 0L0 Canada;X-APPLE-RADIUS=500;X-TITLE=333 Canora Avenue:geo:-102.4255996,51.6341203
END:VEVENT
BEGIN:VEVENT
DTSTART;TZID=America/Regina:20190118T130000
DTEND;TZID=America/Regina:20190118T153000
DTSTAMP:20260421T134842
CREATED:20180912T200504Z
LAST-MODIFIED:20180912T200504Z
UID:10000275-1547816400-1547825400@canora.com
SUMMARY:LiveWell with Chronic Pain
DESCRIPTION:
URL:https://canora.com/event/livewell-with-chronic-pain/2019-01-18/
LOCATION:Saskatchewan
END:VEVENT
BEGIN:VEVENT
DTSTART;TZID=America/Regina:20190122T190000
DTEND;TZID=America/Regina:20190122T220000
DTSTAMP:20260421T134842
CREATED:20180919T203327Z
LAST-MODIFIED:20190102T153807Z
UID:10000427-1548183600-1548194400@canora.com
SUMMARY:Town Council Meeting
DESCRIPTION:Town Council conducts its regular meetings on the 1st and 3rd Tuesday of every month. \nThe meeting takes place at the Town Office and begins at 7 pm. \nIf you would like to have a delegation attend a council meeting\, please submit your request by 12 pm (noon) on the Friday before the council meeting.\nSubmitting requests early assists Town Council and Administration.
URL:https://canora.com/event/town-council-meeting-2019-01-15/2019-01-22/
LOCATION:Town Office\, 418 Main Street\, Canora\, SK\, S0A 0L0\, Canada
END:VEVENT
BEGIN:VEVENT
DTSTART;VALUE=DATE:20190123
DTEND;VALUE=DATE:20190128
DTSTAMP:20260421T134843
CREATED:20190123T154243Z
LAST-MODIFIED:20190123T154243Z
UID:10000468-1548201600-1548633599@canora.com
SUMMARY:The Town & Country Curling Bonspiel
DESCRIPTION:One of the best bonspiels of the year. Great food and prizes. \nCall Bob @ 563-7793 to enter.
URL:https://canora.com/event/the-town-country-curling-bonspiel/
LOCATION:Sylvia Fedoruk Center\, 701 Main Street\, Canora\, Saskatchewan\, S0A 0L0\, Canada
ORGANIZER;CN="Canora Curling Club":MAILTO:canoracurling@gmail.com
GEO:51.6317348;-102.4385717
X-APPLE-STRUCTURED-LOCATION;VALUE=URI;X-ADDRESS=Sylvia Fedoruk Center 701 Main Street Canora Saskatchewan S0A 0L0 Canada;X-APPLE-RADIUS=500;X-TITLE=701 Main Street:geo:-102.4385717,51.6317348
END:VEVENT
BEGIN:VEVENT
DTSTART;TZID=America/Regina:20190123T190000
DTEND;TZID=America/Regina:20190123T210000
DTSTAMP:20260421T134843
CREATED:20190104T205336Z
LAST-MODIFIED:20190104T205336Z
UID:10000465-1548270000-1548277200@canora.com
SUMMARY:CEDC: Business & Community Profile
DESCRIPTION:To view the Business Profile resource\, click here 
URL:https://canora.com/event/cedc-business-community-profile/
LOCATION:Town Office\, 418 Main Street\, Canora\, SK\, S0A 0L0\, Canada
ORGANIZER;CN="Canora Economic Development Commission":MAILTO:cdo.canora@sasktel.net
END:VEVENT
BEGIN:VEVENT
DTSTART;TZID=America/Regina:20190125T130000
DTEND;TZID=America/Regina:20190125T153000
DTSTAMP:20260421T134843
CREATED:20180912T200504Z
LAST-MODIFIED:20180912T200504Z
UID:10000276-1548421200-1548430200@canora.com
SUMMARY:LiveWell with Chronic Pain
DESCRIPTION:
URL:https://canora.com/event/livewell-with-chronic-pain/2019-01-25/
LOCATION:Saskatchewan
END:VEVENT
BEGIN:VEVENT
DTSTART;VALUE=DATE:20190126
DTEND;VALUE=DATE:20190127
DTSTAMP:20260421T134843
CREATED:20190123T154811Z
LAST-MODIFIED:20190123T173727Z
UID:10000469-1548460800-1548547199@canora.com
SUMMARY:Canora Minor Hockey Day
DESCRIPTION:Saturday\, January 26 \n\n\n\n\n9:45am - IP Cobras vs Preeceville\n\n\n\n11:00am - Novice White Cobras vs Kamsack Flyers 2\n\n\n\n1:15pm - Atom Cobras vs Cote\n\n\n\n3:30pm - Novice Black Cobras vs Yorkton\n\n\nPrize Raffle - All 14 Draws will be made 5:30pm\n\n\n\n\n5:45pm - Peewee Cobras vs Langenburg Warriors\n\n\n\n8:00pm - MIDGET GAME PREECEVILLE vs GRENFELL\n\n\n\nAdmission $5 per game \nDay Pass $10 \n50/50 sold for each game \n\n  \nhttp://canoraminorhockey.com/article/47984 \n 
URL:https://canora.com/event/canora-minor-hockey-day-2/
LOCATION:Canora Civic Centre\, 711 Main Street\, Canora\, Saskatchewan\, S0A 0L0\, Canada
GEO:51.6315739;-102.4386783
X-APPLE-STRUCTURED-LOCATION;VALUE=URI;X-ADDRESS=Canora Civic Centre 711 Main Street Canora Saskatchewan S0A 0L0 Canada;X-APPLE-RADIUS=500;X-TITLE=711 Main Street:geo:-102.4386783,51.6315739
END:VEVENT
BEGIN:VEVENT
DTSTART;TZID=America/Regina:20190201T130000
DTEND;TZID=America/Regina:20190201T153000
DTSTAMP:20260421T134843
CREATED:20180912T200504Z
LAST-MODIFIED:20180912T200504Z
UID:10000277-1549026000-1549035000@canora.com
SUMMARY:LiveWell with Chronic Pain
DESCRIPTION:
URL:https://canora.com/event/livewell-with-chronic-pain/2019-02-01/
LOCATION:Saskatchewan
END:VEVENT
BEGIN:VEVENT
DTSTART;TZID=America/Regina:20190208T130000
DTEND;TZID=America/Regina:20190208T153000
DTSTAMP:20260421T134843
CREATED:20180912T200504Z
LAST-MODIFIED:20180912T200504Z
UID:10000278-1549630800-1549639800@canora.com
SUMMARY:LiveWell with Chronic Pain
DESCRIPTION:
URL:https://canora.com/event/livewell-with-chronic-pain/2019-02-08/
LOCATION:Saskatchewan
END:VEVENT
BEGIN:VEVENT
DTSTART;TZID=America/Regina:20190212T190000
DTEND;TZID=America/Regina:20190212T220000
DTSTAMP:20260421T134843
CREATED:20180919T203327Z
LAST-MODIFIED:20190131T145338Z
UID:10000428-1549998000-1550008800@canora.com
SUMMARY:Town Council Meeting
DESCRIPTION:Town Council typically conducts its regular meetings on the 1st and 3rd Tuesday of every month. \nThe meeting takes place at the Town Office and begins at 7 pm. \nIf you would like to have a delegation attend a council meeting\, please submit your request by 12 pm (noon) on the Friday before the council meeting.\nSubmitting requests early assists Town Council and Administration.
URL:https://canora.com/event/town-council-meeting-2019-02-19/
LOCATION:Town Office\, 418 Main Street\, Canora\, SK\, S0A 0L0\, Canada
END:VEVENT
BEGIN:VEVENT
DTSTART;TZID=America/Regina:20190215T130000
DTEND;TZID=America/Regina:20190215T153000
DTSTAMP:20260421T134843
CREATED:20180912T200504Z
LAST-MODIFIED:20180912T200504Z
UID:10000279-1550235600-1550244600@canora.com
SUMMARY:LiveWell with Chronic Pain
DESCRIPTION:
URL:https://canora.com/event/livewell-with-chronic-pain/2019-02-15/
LOCATION:Saskatchewan
END:VEVENT
BEGIN:VEVENT
DTSTART;VALUE=DATE:20190216
DTEND;VALUE=DATE:20190217
DTSTAMP:20260421T134843
CREATED:20190117T221925Z
LAST-MODIFIED:20190117T222540Z
UID:10000467-1550275200-1550361599@canora.com
SUMMARY:9th Annual Lamplighter Loppet
DESCRIPTION:
URL:https://canora.com/event/9th-annual-lamplighter-loppet/
LOCATION:Good Spirit Provincial Park Rec Hall
END:VEVENT
BEGIN:VEVENT
DTSTART;TZID=America/Regina:20190217T090000
DTEND;TZID=America/Regina:20190217T090000
DTSTAMP:20260421T134843
CREATED:20190212T151138Z
LAST-MODIFIED:20190212T151148Z
UID:10000474-1550394000-1550394000@canora.com
SUMMARY:31st Anniversary Derby & Wing Night
DESCRIPTION:
URL:https://canora.com/event/31st-anniversary-derby-wing-night/
LOCATION:Activity Centre (Golf Course)\, 333 Canora Avenue\, Canora\, SK\, S0A 0L0\, Canada
GEO:51.6341203;-102.4255996
X-APPLE-STRUCTURED-LOCATION;VALUE=URI;X-ADDRESS=Activity Centre (Golf Course) 333 Canora Avenue Canora SK S0A 0L0 Canada;X-APPLE-RADIUS=500;X-TITLE=333 Canora Avenue:geo:-102.4255996,51.6341203
END:VEVENT
BEGIN:VEVENT
DTSTART;VALUE=DATE:20190218
DTEND;VALUE=DATE:20190219
DTSTAMP:20260421T134843
CREATED:20190208T152455Z
LAST-MODIFIED:20190208T153630Z
UID:10000473-1550448000-1550534399@canora.com
SUMMARY:Ted Palagian Memorial Stick Spiel
DESCRIPTION:
URL:https://canora.com/event/ted-palagian-memorial-stick-spiel/
LOCATION:Sylvia Fedoruk Center\, 701 Main Street\, Canora\, Saskatchewan\, S0A 0L0\, Canada
ORGANIZER;CN="Canora Curling Club":MAILTO:canoracurling@gmail.com
GEO:51.6317348;-102.4385717
X-APPLE-STRUCTURED-LOCATION;VALUE=URI;X-ADDRESS=Sylvia Fedoruk Center 701 Main Street Canora Saskatchewan S0A 0L0 Canada;X-APPLE-RADIUS=500;X-TITLE=701 Main Street:geo:-102.4385717,51.6317348
END:VEVENT
BEGIN:VEVENT
DTSTART;TZID=America/Regina:20190222T160000
DTEND;TZID=America/Regina:20190222T183000
DTSTAMP:20260421T134843
CREATED:20190212T175412Z
LAST-MODIFIED:20190212T175412Z
UID:10000475-1550851200-1550860200@canora.com
SUMMARY:Borscht & Perogie Supper
DESCRIPTION:
URL:https://canora.com/event/borscht-perogie-supper/
LOCATION:Rainbow Hall\, 203 1st Avenue E\, Canora
END:VEVENT
END:VCALENDAR