BEGIN:VCALENDAR
VERSION:2.0
PRODID:-//Town of Canora - ECPv6.15.17//NONSGML v1.0//EN
CALSCALE:GREGORIAN
METHOD:PUBLISH
X-ORIGINAL-URL:https://canora.com
X-WR-CALDESC:Events for Town of Canora
REFRESH-INTERVAL;VALUE=DURATION:PT1H
X-Robots-Tag:noindex
X-PUBLISHED-TTL:PT1H
BEGIN:VTIMEZONE
TZID:America/Regina
BEGIN:STANDARD
TZOFFSETFROM:-0600
TZOFFSETTO:-0600
TZNAME:CST
DTSTART:20160101T000000
END:STANDARD
END:VTIMEZONE
BEGIN:VEVENT
DTSTART;TZID=America/Regina:20170506T133000
DTEND;TZID=America/Regina:20170506T160000
DTSTAMP:20260419T131121
CREATED:20170327T191447Z
LAST-MODIFIED:20170327T191447Z
UID:10000086-1494077400-1494086400@canora.com
SUMMARY:Spring Tea\, Raffle\, & Bake Sale
DESCRIPTION:
URL:https://canora.com/event/spring-tea-raffle-bake-sale/
LOCATION:Canora Hospital Dining Room
END:VEVENT
BEGIN:VEVENT
DTSTART;TZID=America/Regina:20170513T193000
DTEND;TZID=America/Regina:20170513T233000
DTSTAMP:20260419T131121
CREATED:20170428T192052Z
LAST-MODIFIED:20170428T192052Z
UID:10000099-1494703800-1494718200@canora.com
SUMMARY:Canora Senior's Dance
DESCRIPTION:
URL:https://canora.com/event/canora-seniors-dance-4/
LOCATION:Ukrainian Catholic Hall\, 229 5th Avenue West\, Canora\, SK\, S0A 0L0\, Canada
END:VEVENT
BEGIN:VEVENT
DTSTART;TZID=America/Regina:20170531T183000
DTEND;TZID=America/Regina:20170531T203000
DTSTAMP:20260419T131121
CREATED:20170531T160511Z
LAST-MODIFIED:20170531T160511Z
UID:10000107-1496255400-1496262600@canora.com
SUMMARY:Mackenzie Art Gallery - Lesser Known Saskatchewan Landscapes Display
DESCRIPTION:Open to the public today\, Wednesday May 31st @ 6:30 - 8:30 pm\nAt Canora Composite School\nExperiment with water color painting @ 7:15 pm
URL:https://canora.com/event/mackenzie-art-gallery-lesser-known-saskatchewan-landscapes-display/
LOCATION:Canora Composite School\, Canora\, SK\, S0A 0L0\, Canada
END:VEVENT
BEGIN:VEVENT
DTSTART;VALUE=DATE:20170601
DTEND;VALUE=DATE:20170602
DTSTAMP:20260419T131121
CREATED:20170428T164549Z
LAST-MODIFIED:20170428T164646Z
UID:10000098-1496275200-1496361599@canora.com
SUMMARY:Crystal Lake Church Camp early registration
DESCRIPTION:Camp is on July 9 - 23\, 2017 \nEarly registration by June 1st \nThe camp requires staff including; administrator\, cook\, councillors\, etc. \n  \nFor more information contact: \nMert Ochitwa \n306-563-6779 \nor \nm.ochitwa@sasktel.net
URL:https://canora.com/event/crystal-lake-church-camp-early-registration/
LOCATION:Crystal Lake
END:VEVENT
BEGIN:VEVENT
DTSTART;TZID=America/Regina:20170602T183000
DTEND;TZID=America/Regina:20170602T203000
DTSTAMP:20260419T131121
CREATED:20170525T231540Z
LAST-MODIFIED:20170525T231604Z
UID:10000106-1496428200-1496435400@canora.com
SUMMARY:Kids Korner Pizza & Movie Night
DESCRIPTION:Open to youth Ages 5-13. Doors open @ 6:15 pm. Limited spaces so come early. Cost is $10 per child and includes pizza\, popcorn\, drink\, & movie. All proceeds go to Kids Korner for future events and programming.
URL:https://canora.com/event/kids-korner-pizza-movie-night/
LOCATION:Rising Stars Building
END:VEVENT
BEGIN:VEVENT
DTSTART;VALUE=DATE:20170603
DTEND;VALUE=DATE:20170604
DTSTAMP:20260419T131121
CREATED:20170330T145025Z
LAST-MODIFIED:20170602T150322Z
UID:10000093-1496448000-1496534399@canora.com
SUMMARY:Canora Minor Ball Day
DESCRIPTION:  \n\n\n\nCanora MInor Ball Schedule\n\n\n\n\n\n\n\n\n\n\n9:30 AM\nJr. Rookies\nvs.\nNorquay\n\nDiamond 2\n\n\n\n\n\n\n\n\n\n\n11:00 AM\nRookies\nvs.\nKamsack\n\nDiamond 2\n\n\n\n\n\n\n\n\n\n\n11:00 AM\nBantam's Canora\nvs.\nEsterhazy\n\nDiamond 3\n\n\n\n\n\n\n\n\n\n\n11:00 AM\nMosquito Black\nvs.\nCanora White\n\nDiamond 4\n\n\n\n\n\n\n\n\n\n\n1:00 PM\nT-Ball\nvs.\nInvermay\n\nT-Ball Diamond\n\n\n\n\n\n\n\n\n\n\n1:00 PM\nRookies\nvs.\nPreeceville\n\nDiamond 3\n\n\n\n\n\n\n\n\n\n\n1:00 PM\nMosquito White\nvs.\nPreeceville\n\nDiamond 4\n\n\n\n\n\n\n\n\n\n\n1:00 PM\nJr. Rookies\nvs\nInvermay\n\nDiamond 2\n\n\n\n\n\n\n\n\n\n\n3:00 PM\nMosquito Red\nvs.\nPreeceville\n\nDiamond 4
URL:https://canora.com/event/minor-ball-day-2/
LOCATION:Sports Grounds\, Canora\, Saskatchewan\, S0A 0L0\, Canada
END:VEVENT
BEGIN:VEVENT
DTSTART;VALUE=DATE:20170610
DTEND;VALUE=DATE:20170612
DTSTAMP:20260419T131121
CREATED:20170328T155522Z
LAST-MODIFIED:20170510T150716Z
UID:10000092-1497052800-1497225599@canora.com
SUMMARY:River Ridge Fish & Game Gun Show
DESCRIPTION:
URL:https://canora.com/event/gun-show/
LOCATION:Sylvia Fedoruk Center\, 701 Main Street\, Canora\, Saskatchewan\, S0A 0L0\, Canada
GEO:51.6317348;-102.4385717
X-APPLE-STRUCTURED-LOCATION;VALUE=URI;X-ADDRESS=Sylvia Fedoruk Center 701 Main Street Canora Saskatchewan S0A 0L0 Canada;X-APPLE-RADIUS=500;X-TITLE=701 Main Street:geo:-102.4385717,51.6317348
END:VEVENT
BEGIN:VEVENT
DTSTART;VALUE=DATE:20170610
DTEND;VALUE=DATE:20170612
DTSTAMP:20260419T131121
CREATED:20170511T223047Z
LAST-MODIFIED:20170511T223055Z
UID:10000102-1497052800-1497225599@canora.com
SUMMARY:Canora Community Wide Garage Sale
DESCRIPTION:Are you planning on having a garage sale this summer?\nThe Town of Canora would like you to be part of a community-wide garage sale.\nHere's how it would work...\nYour address will be listed and put on a map\, which will be published in The Canora Courier and put in every mailbox in Canora. It will also be made available for visitors to pick up at local businesses. People will then follow the map to come to your garage sale. You can hold your sale on both days or just one\, it's up to you.\nThere is no charge to register your sale.\nDeadline to submit is May 26th.\nPhone 306-563-5574 to register your garage sale today!
URL:https://canora.com/event/canora-community-wide-garage-sale-2/
LOCATION:Saskatchewan
END:VEVENT
BEGIN:VEVENT
DTSTART;VALUE=DATE:20170610
DTEND;VALUE=DATE:20170612
DTSTAMP:20260419T131121
CREATED:20170607T145237Z
LAST-MODIFIED:20170607T195538Z
UID:10000108-1497052800-1497225599@canora.com
SUMMARY:Save the Bees/Pollinators Fundraiser
DESCRIPTION:Drink & treat stand to raise funds for the earth rangers save the pollinators campaign. \nOrganized by Kids Korner @ 726 Main Street \nJune 10:  11 - 4 pm \nJune 11: 11 - 4 pm
URL:https://canora.com/event/save-beespollinators-fundraiser/
LOCATION:Kids Korner\, 726 Main Street\, Canora\, Saskatchewan\, S0A 0L0\, Canada
GEO:51.6312841;-102.4388147
X-APPLE-STRUCTURED-LOCATION;VALUE=URI;X-ADDRESS=Kids Korner 726 Main Street Canora Saskatchewan S0A 0L0 Canada;X-APPLE-RADIUS=500;X-TITLE=726 Main Street:geo:-102.4388147,51.6312841
END:VEVENT
BEGIN:VEVENT
DTSTART;TZID=America/Regina:20170611T133000
DTEND;TZID=America/Regina:20170611T150000
DTSTAMP:20260419T131121
CREATED:20170607T193026Z
LAST-MODIFIED:20170607T193254Z
UID:10000110-1497187800-1497193200@canora.com
SUMMARY:Strawberry Tea
DESCRIPTION:
URL:https://canora.com/event/strawberry-tea/
LOCATION:Canora Gateway Lodge\, 212 Centre Ave.\, Canora\, SK\, S0A 0L0\, Canada
END:VEVENT
BEGIN:VEVENT
DTSTART;TZID=America/Regina:20170612T100000
DTEND;TZID=America/Regina:20170612T160000
DTSTAMP:20260419T131121
CREATED:20170511T222016Z
LAST-MODIFIED:20170511T223235Z
UID:10000101-1497261600-1497283200@canora.com
SUMMARY:Opening Day of CN Station House Museum
DESCRIPTION:The museum will then be open for the season!
URL:https://canora.com/event/opening-day-cn-station-house-museum/
LOCATION:Saskatchewan
END:VEVENT
BEGIN:VEVENT
DTSTART;TZID=America/Regina:20170615T100000
DTEND;TZID=America/Regina:20170615T140000
DTSTAMP:20260419T131121
CREATED:20170511T223617Z
LAST-MODIFIED:20170511T224641Z
UID:10000103-1497520800-1497535200@canora.com
SUMMARY:Opening Day for the Canora Farmer's Market with Farmer's Stew Event and Seniors' Outdoor Bingo
DESCRIPTION:The tourism committee will be serving fresh stew with warm buns from 11 am  - 2 pm\nPre-order for delivery to your home or business. To pre-order\, please call Brandi 306-563-5574 \n\nA friendly reminder to all vendors to pre-register by calling Brandi 306-563-5574\n  \nOutdoor Senior's Bingo following Stew Event\nStarts at 2 pm \nAll proceeds go towards museum improvements
URL:https://canora.com/event/opening-day-canora-farmers-market/
LOCATION:Saskatchewan
END:VEVENT
BEGIN:VEVENT
DTSTART;TZID=America/Regina:20170617T123000
DTEND;TZID=America/Regina:20170617T123000
DTSTAMP:20260419T131121
CREATED:20170525T193305Z
LAST-MODIFIED:20170525T215604Z
UID:10000104-1497702600-1497702600@canora.com
SUMMARY:Canora Soccer Club Annual Father's Day BBQ
DESCRIPTION:Inviting all Dads\, Grandpas\, Uncles\, Brothers\, etc. to join in\nAll proceeds go to soccer club\n12:30 pm at the soccer pitch across from the Chase Kraynick Splash Park\nSoccer games to follow
URL:https://canora.com/event/canora-soccer-club-annual-fathers-day-bbq/
LOCATION:Canora Soccer Field
END:VEVENT
BEGIN:VEVENT
DTSTART;TZID=America/Regina:20170617T130000
DTEND;TZID=America/Regina:20170617T160000
DTSTAMP:20260419T131121
CREATED:20170525T194040Z
LAST-MODIFIED:20170525T194102Z
UID:10000105-1497704400-1497715200@canora.com
SUMMARY:Canora Homecraft 4H Club Achievement Day
DESCRIPTION:Achievement Day and Centennial of 4H in Saskatchewan. \nProgramme\, door prizes\, raffle of centennial quilt and lunch. \nAdmission is free! \n 
URL:https://canora.com/event/canora-homecraft-4h-club-achievement-day/
LOCATION:Rainbow Hall\, 203 1st Avenue E\, Canora
END:VEVENT
BEGIN:VEVENT
DTSTART;TZID=America/Regina:20170623T183000
DTEND;TZID=America/Regina:20170623T203000
DTSTAMP:20260419T131121
CREATED:20170607T150505Z
LAST-MODIFIED:20170608T224852Z
UID:10000109-1498242600-1498249800@canora.com
SUMMARY:Kids Korner Movie & Pizza Night
DESCRIPTION:Now showing "Bedtime Stories" \n$10 per person includes pizza\, popcorn\, & drink. \nAge 5+ \nOrganized by Kids Korner Youth Centre Inc. \n 
URL:https://canora.com/event/movie-pizza-night/
LOCATION:Kids Korner\, 726 Main Street\, Canora\, Saskatchewan\, S0A 0L0\, Canada
GEO:51.6312841;-102.4388147
X-APPLE-STRUCTURED-LOCATION;VALUE=URI;X-ADDRESS=Kids Korner 726 Main Street Canora Saskatchewan S0A 0L0 Canada;X-APPLE-RADIUS=500;X-TITLE=726 Main Street:geo:-102.4388147,51.6312841
END:VEVENT
BEGIN:VEVENT
DTSTART;TZID=America/Regina:20170624T090000
DTEND;TZID=America/Regina:20170624T190000
DTSTAMP:20260419T131121
CREATED:20170619T164256Z
LAST-MODIFIED:20170619T164256Z
UID:10000112-1498294800-1498330800@canora.com
SUMMARY:Mosquito Baseball Playoffs
DESCRIPTION:Canora is hosting Mosquito playoffs this year. Come out to watch Canora's two teams compete in this 10 team bracket on June 24 this weekend.
URL:https://canora.com/event/mosquito-baseball-playoffs/
LOCATION:Sports Grounds\, Canora\, Saskatchewan\, S0A 0L0\, Canada
END:VEVENT
BEGIN:VEVENT
DTSTART;TZID=America/Regina:20170624T193000
DTEND;TZID=America/Regina:20170624T233000
DTSTAMP:20260419T131121
CREATED:20170608T201942Z
LAST-MODIFIED:20170608T202156Z
UID:10000111-1498332600-1498347000@canora.com
SUMMARY:Senior's Dance
DESCRIPTION:
URL:https://canora.com/event/seniors-dance/
LOCATION:Ukrainian Catholic Hall\, 229 5th Avenue West\, Canora\, SK\, S0A 0L0\, Canada
END:VEVENT
BEGIN:VEVENT
DTSTART;VALUE=DATE:20170716
DTEND;VALUE=DATE:20170717
DTSTAMP:20260419T131121
CREATED:20170710T153411Z
LAST-MODIFIED:20170710T153411Z
UID:10000115-1500163200-1500249599@canora.com
SUMMARY:Canora Golf & Country "Hole in One" Tournament
DESCRIPTION:
URL:https://canora.com/event/canora-golf-country-hole-one-tournament/
LOCATION:Saskatchewan
END:VEVENT
BEGIN:VEVENT
DTSTART;VALUE=DATE:20170716
DTEND;VALUE=DATE:20170723
DTSTAMP:20260419T131121
CREATED:20170328T153118Z
LAST-MODIFIED:20170627T222933Z
UID:10000087-1500163200-1500767999@canora.com
SUMMARY:Canora in Bloom
DESCRIPTION:Sunday\, July 16th\n\n\nNon Denominational Church Service\n\n10:30 am at the Town Hall\nSunday Brunch\nAll donations are welcome\n\n\n\nCanora Swimming Pool\n\nFree Open Swim\n\n1-6 pm & 7-9 pm\n\n\n\n\n\nMonday\, July 17th\n\n\nThe CN Eco Connection Tree Planting Ceremony and Town Council BBQ\n\n11:00 a.m.\nAt The Chase Kraynick Memorial Splash Park\n\n\n\nCanora Swimming Pool\n\nFree Aquafit\n\n6:45 - 7:30 a.m.\n\n\nFree Open Swim\n\n1 - 6 pm & 7 - 9 p.m.\n\n\n\n\n\nTuesday\, July 18th\n\n\nCanora Volunteer Fire Department Pancake Breakfast\n\n418 Main (Town Hall)\n7 - 10 a.m.\nSponsor GX94 (Live on Location)\n\n\n\nPerogy Dinner\n\nSponsor: United Church Women\nLocation: St. Andrew's United Church\n502 Main Street\n11 a.m. - 1:30 p.m\n$9 (Adult)\n$5 (12 & under)\nFree (Preschool)\n\n\n\nCanora Swimming Pool\n\nFree Open Swim\n\n1 - 6 pm\nScavenger Hunt 3 p.m.\n\n\nFree Aquafit 7 - 8 p.m.\nFree Lane Swim 8 - 9 p.m.\n\n\n\nWednesday\, July 19\, 2017\n\n\nHot Dog Dinner\n\nVisitors Centre & CN Museum\n\nRailway Ave & Main Street\n\n\n11 a.m. - 1 p.m.\nTourism Commitee\n\n\n\nCanora Swimming Pool\n\nFree Aquafit\n\n6:45 - 7:30 a.m.\n\n\nFree Open Swim\n\n1 - 6 pm & 7 - 9 p.m.\n\nCSP Olympics 3 p.m.\n\n\n\n\n\n\n\nJunior Fire Fighters Course\n\nKids Korner\n\n726 Main\n\n\n6 - 8:30 p.m.\nAges 3 - 15 Free (Donations appreciated)\nSponsor: Kids Korner & Fire Department\n\n\n\n Wednesday Family Night at the Movies featuring "SING"\n \n\nCanora Leisure Services will host an free open public movie at the Canora Swimming Pool. The pool will be open to everyone not just swimmers.\nThe film starts when its dark enough. (8:30 - 9:00)\nThe public is encouraged to bring their favorite lawn chair or blanket.\nBasic concession will be available sponsored by Crossroads Credit Union\n\n\n\nThursday\, July 20\, 2017\n\n\nOld Fashioned Picnic in the Park\n\nKing George park\n11 a.m. - 1:30 p.m.\nCome out & be entertained by a local band and enjoy a wonderful picnic dinner\nSponsor: Canora Lioness\n\n\n\nCanora Swimming Pool\n\nFree Open Swim\n\n1 - 6 pm & 7 - 9 p.m.\n\nSlip n Slide 1 - 3 p.m.\n\n\n\n\nFree Aquafit\n\n7 - 8 a.m.\n\n\nFree Lane Swim 8 - 9 p.m.\n\n\n\nFriday\, July 21st\, 2017\n\n\nBorscht & Homemade Bread\n\n215 Mian Street\n11 a.m. - 1 p.m.\nSponsor: Ukrainian Heritage\n\n\n\nPie & Coffee\n\nKeen Age Centre\n\n409 Main St.\n\n\n1 - 4 p.m.\n\n\n\nCanora Swimming Pool\n\nFree Aquafit\n\n6:45 - 7:30 a.m.\n\n\nPool BBQ and Crossroads Credit Union Ice Cream Stand\n\nNoon - 2 pm\n\n\nFace Painting\, deck chalk\, bubbles etc.\n\n1 - 3 p.m.\n\n\nFree Open Swim\n\nNoon - 6 pm & 7 - 9 p.m.\n\n\n\n\n\nSaturday\, July 22\, 2017\n\n\nThe BIG BIKE is coming to Canora at 9:00 am during the parade\n\n\n \n\n\nThe Canada 150 Outdoor Family Festival. For details:\n\nVisit the event information page in this event calendar.\n\nhttp://canora.com/event/canada-150-outdoor-family-festival/
URL:https://canora.com/event/canora-in-bloom-2/
LOCATION:Saskatchewan
END:VEVENT
BEGIN:VEVENT
DTSTART;TZID=America/Regina:20170717T080000
DTEND;TZID=America/Regina:20170722T170000
DTSTAMP:20260419T131121
CREATED:20170713T193041Z
LAST-MODIFIED:20170714T152234Z
UID:10000122-1500278400-1500742800@canora.com
SUMMARY:Kids Korner Events
DESCRIPTION:
URL:https://canora.com/event/kids-korner-events/
LOCATION:Saskatchewan
END:VEVENT
BEGIN:VEVENT
DTSTART;VALUE=DATE:20170722
DTEND;VALUE=DATE:20170723
DTSTAMP:20260419T131121
CREATED:20170328T153340Z
LAST-MODIFIED:20170619T224838Z
UID:10000088-1500681600-1500767999@canora.com
SUMMARY:Canada 150 Outdoor Family Festival
DESCRIPTION:In part of Canora in Bloom\, The Canada 150 Outdoor Family Festival will present a wide variety entertainers. Here is a look at who's coming!\n \nMr. Circus - Isaac Girardin\n  \n \n \n  \nChester Mcbain:\n \nRobin Chestnut:\n  \nThe Zayshley Band:\n  \nThe Old Country Lads:\n \nThe Catie St. Germain Band:
URL:https://canora.com/event/canada-150-outdoor-family-festival/
LOCATION:King George V Kiwanis Park\, 601 main st\, Canora\, Saskatchewan\, S0A 0L0\, Canada
GEO:51.6339451;-102.4370069
X-APPLE-STRUCTURED-LOCATION;VALUE=URI;X-ADDRESS=King George V Kiwanis Park 601 main st Canora Saskatchewan S0A 0L0 Canada;X-APPLE-RADIUS=500;X-TITLE=601 main st:geo:-102.4370069,51.6339451
END:VEVENT
BEGIN:VEVENT
DTSTART;VALUE=DATE:20170722
DTEND;VALUE=DATE:20170723
DTSTAMP:20260419T131121
CREATED:20170509T164719Z
LAST-MODIFIED:20170710T154739Z
UID:10000100-1500681600-1500767999@canora.com
SUMMARY:Canada 150 - 5 km Race (Walk\, Bike\, or Run)
DESCRIPTION:.\nEvery Tuesday\, Thursday\, and Sunday.\nMeet at the High School @ 7 pm\n \n 
URL:https://canora.com/event/couch-to-5k/
LOCATION:Canora Composite School\, Canora\, SK\, S0A 0L0\, Canada
END:VEVENT
BEGIN:VEVENT
DTSTART;TZID=America/Regina:20170726T190000
DTEND;TZID=America/Regina:20170726T193000
DTSTAMP:20260419T131121
CREATED:20170627T151725Z
LAST-MODIFIED:20170710T165642Z
UID:10000114-1501095600-1501097400@canora.com
SUMMARY:Synchronized Swimming Performance
DESCRIPTION:After the performance there will be an opportunity for swimmers who are interested to sign up to take part in a short lesson camp. \n\n 
URL:https://canora.com/event/synchronized-swimming-performance/
LOCATION:Canora Swimming Pool\, 928 3rd St\, Canora\, Saskatchewan\, S0A 0L0\, Canada
ORGANIZER;CN="Canora Leisure Services":MAILTO:leisure.canora@sasktel.net
END:VEVENT
BEGIN:VEVENT
DTSTART;VALUE=DATE:20170728
DTEND;VALUE=DATE:20170729
DTSTAMP:20260419T131121
CREATED:20170710T153534Z
LAST-MODIFIED:20170710T153534Z
UID:10000116-1501200000-1501286399@canora.com
SUMMARY:Canora Golf & Country Night Golf Tournament
DESCRIPTION:First 60 paid entries accepted
URL:https://canora.com/event/canora-golf-country-night-golf-tournament/
LOCATION:Saskatchewan
END:VEVENT
BEGIN:VEVENT
DTSTART;VALUE=DATE:20170729
DTEND;VALUE=DATE:20170730
DTSTAMP:20260419T131121
CREATED:20170710T153815Z
LAST-MODIFIED:20170710T153815Z
UID:10000118-1501286400-1501372799@canora.com
SUMMARY:Canora Hotel Golf Tournament
DESCRIPTION:
URL:https://canora.com/event/canora-hotel-golf-tournament-3/
LOCATION:Saskatchewan
END:VEVENT
BEGIN:VEVENT
DTSTART;VALUE=DATE:20170811
DTEND;VALUE=DATE:20170813
DTSTAMP:20260419T131121
CREATED:20170623T180135Z
LAST-MODIFIED:20170623T180135Z
UID:10000113-1502409600-1502582399@canora.com
SUMMARY:Pensioners Prom
DESCRIPTION:Need to buy tickets in advance. \nPlease contact Theresa Chabun at (306) 563-6424 \ntheresachabun@gmail.com
URL:https://canora.com/event/pensioners-prom-2/
LOCATION:Legion Dugout
END:VEVENT
BEGIN:VEVENT
DTSTART;VALUE=DATE:20170812
DTEND;VALUE=DATE:20170813
DTSTAMP:20260419T131121
CREATED:20170710T153612Z
LAST-MODIFIED:20170710T153642Z
UID:10000117-1502496000-1502582399@canora.com
SUMMARY:Canora Golf & Country Ladies Open
DESCRIPTION:
URL:https://canora.com/event/canora-hotel-golf-tournament-2/
LOCATION:Saskatchewan
END:VEVENT
BEGIN:VEVENT
DTSTART;VALUE=DATE:20170812
DTEND;VALUE=DATE:20170814
DTSTAMP:20260419T131121
CREATED:20170808T153645Z
LAST-MODIFIED:20170808T154141Z
UID:10000123-1502496000-1502668799@canora.com
SUMMARY:Assiniboine River Archery Club 3-D Shoot
DESCRIPTION:
URL:https://canora.com/event/assiniboine-river-archery-club-3-d-shoot/
LOCATION:Saskatchewan
END:VEVENT
BEGIN:VEVENT
DTSTART;VALUE=DATE:20170819
DTEND;VALUE=DATE:20170821
DTSTAMP:20260419T131121
CREATED:20170328T153659Z
LAST-MODIFIED:20170810T213209Z
UID:10000089-1503100800-1503273599@canora.com
SUMMARY:Ag Days
DESCRIPTION:Come out and enjoy one of Canora's largest and most entertaining events. Presented by Canora's Agriculture Society.
URL:https://canora.com/event/ag-days-2/
LOCATION:Sports Grounds\, Canora\, Saskatchewan\, S0A 0L0\, Canada
END:VEVENT
BEGIN:VEVENT
DTSTART;VALUE=DATE:20170820
DTEND;VALUE=DATE:20170821
DTSTAMP:20260419T131121
CREATED:20170710T153853Z
LAST-MODIFIED:20170710T153853Z
UID:10000119-1503187200-1503273599@canora.com
SUMMARY:Canora Golf & Country Men's Open
DESCRIPTION:
URL:https://canora.com/event/canora-golf-country-mens-open/
LOCATION:Saskatchewan
END:VEVENT
END:VCALENDAR