BEGIN:VCALENDAR
VERSION:2.0
PRODID:-//Town of Canora - ECPv6.15.17//NONSGML v1.0//EN
CALSCALE:GREGORIAN
METHOD:PUBLISH
X-ORIGINAL-URL:https://canora.com
X-WR-CALDESC:Events for Town of Canora
REFRESH-INTERVAL;VALUE=DURATION:PT1H
X-Robots-Tag:noindex
X-PUBLISHED-TTL:PT1H
BEGIN:VTIMEZONE
TZID:America/Regina
BEGIN:STANDARD
TZOFFSETFROM:-0600
TZOFFSETTO:-0600
TZNAME:CST
DTSTART:20160101T000000
END:STANDARD
END:VTIMEZONE
BEGIN:VEVENT
DTSTART;TZID=America/Regina:20171030T193000
DTEND;TZID=America/Regina:20171030T193000
DTSTAMP:20260419T215906
CREATED:20171011T143827Z
LAST-MODIFIED:20171011T144930Z
UID:10000137-1509391800-1509391800@canora.com
SUMMARY:Laila Biali Concert
DESCRIPTION:Stars for Saskatchewan Concert Series \nSinger / Songwriter \n"Laila Biali covers the great Canadian Song book"
URL:https://canora.com/event/laila-biali-concert/
LOCATION:Canora Composite School\, Canora\, SK\, S0A 0L0\, Canada
END:VEVENT
BEGIN:VEVENT
DTSTART;TZID=America/Regina:20171105T160000
DTEND;TZID=America/Regina:20171105T183000
DTSTAMP:20260419T215906
CREATED:20171019T165906Z
LAST-MODIFIED:20171019T165906Z
UID:10000142-1509897600-1509906600@canora.com
SUMMARY:St. Joseph's Fall Supper
DESCRIPTION:Everyone is invited!
URL:https://canora.com/event/st-josephs-fall-supper/
LOCATION:St. Joseph’s Catholic Church\, 201 4th Avenue East\, Canora\, Saskatchewan\, S0A 0L0\, Canada
GEO:51.6343703;-102.4401175
X-APPLE-STRUCTURED-LOCATION;VALUE=URI;X-ADDRESS=St. Joseph’s Catholic Church 201 4th Avenue East Canora Saskatchewan S0A 0L0 Canada;X-APPLE-RADIUS=500;X-TITLE=201 4th Avenue East:geo:-102.4401175,51.6343703
END:VEVENT
BEGIN:VEVENT
DTSTART;TZID=America/Regina:20171108T163000
DTEND;TZID=America/Regina:20171108T190000
DTSTAMP:20260419T215906
CREATED:20171101T161046Z
LAST-MODIFIED:20171101T161046Z
UID:10000147-1510158600-1510167600@canora.com
SUMMARY:Perogie & Sausage Supper
DESCRIPTION:
URL:https://canora.com/event/perogie-sausage-supper/
LOCATION:Rainbow Hall\, 203 1st Avenue E\, Canora
END:VEVENT
BEGIN:VEVENT
DTSTART;TZID=America/Regina:20171111T110000
DTEND;TZID=America/Regina:20171111T110000
DTSTAMP:20260419T215906
CREATED:20171108T221715Z
LAST-MODIFIED:20171108T221731Z
UID:10000148-1510398000-1510398000@canora.com
SUMMARY:Canora Remembrance Day Service
DESCRIPTION:
URL:https://canora.com/event/canora-remembrance-day-service/
LOCATION:Town Hall\, Front lawn\, Canora\, Saskatchewan\, S0A 0L0\, Canada
END:VEVENT
BEGIN:VEVENT
DTSTART;VALUE=DATE:20171122
DTEND;VALUE=DATE:20171219
DTSTAMP:20260419T215906
CREATED:20171122T222554Z
LAST-MODIFIED:20171123T143239Z
UID:10000152-1511308800-1513641599@canora.com
SUMMARY:Annual Yuletide Toy Drive!
DESCRIPTION:Collecting toys for local kids in need. Various baskets around town. For information call 306-563-5625.
URL:https://canora.com/event/annual-yuletide-toy-drive/
LOCATION:Various drop off points
END:VEVENT
BEGIN:VEVENT
DTSTART;VALUE=DATE:20171127
DTEND;VALUE=DATE:20171204
DTSTAMP:20260419T215906
CREATED:20171024T160257Z
LAST-MODIFIED:20171114T145345Z
UID:10000143-1511740800-1512345599@canora.com
SUMMARY:Winter Lights Festival 2017
DESCRIPTION:
URL:https://canora.com/event/winter-lights-festival-2017/
LOCATION:Saskatchewan
END:VEVENT
BEGIN:VEVENT
DTSTART;TZID=America/Regina:20171129T190000
DTEND;TZID=America/Regina:20171129T190000
DTSTAMP:20260419T215906
CREATED:20171123T152714Z
LAST-MODIFIED:20171123T152714Z
UID:10000153-1511982000-1511982000@canora.com
SUMMARY:Jack and the Sillies
DESCRIPTION:Canora Composite School Pee Wee Drama Presents: " Jack and the Sillies" \nNovember 29 @ 7 pm \nCanora Composite School Auditorium \nFREE ADMISSION
URL:https://canora.com/event/jack-and-the-sillies/
LOCATION:Canora High School Auditorium
END:VEVENT
BEGIN:VEVENT
DTSTART;TZID=America/Regina:20171207T100000
DTEND;TZID=America/Regina:20171207T100000
DTSTAMP:20260419T215906
CREATED:20171116T211600Z
LAST-MODIFIED:20171116T211600Z
UID:10000151-1512640800-1512640800@canora.com
SUMMARY:Christmas Bake Sale & Tea
DESCRIPTION:Tea will be served as well as baked goods sold. Baking includes doughnuts\, cookies\, cakes\, perogies\, and other edible.
URL:https://canora.com/event/christmas-bake-sale-tea-2/
LOCATION:Ukrainian Catholic Hall\, 229 5th Avenue West\, Canora\, SK\, S0A 0L0\, Canada
END:VEVENT
BEGIN:VEVENT
DTSTART;TZID=America/Regina:20171209T170000
DTEND;TZID=America/Regina:20171209T170000
DTSTAMP:20260419T215906
CREATED:20171207T152729Z
LAST-MODIFIED:20171207T152744Z
UID:10000156-1512838800-1512838800@canora.com
SUMMARY:Trakkers 30th Anniversary Wing Night
DESCRIPTION:Saturday\, December 9 \nCanora Activity Centre (Golf Course) \n5:00 pm - 1:00 am \nCash Bar \nEveryone Welcome
URL:https://canora.com/event/trakkers-30th-anniversary-wing-night/
LOCATION:Activity Centre (Golf Course)\, 333 Canora Avenue\, Canora\, SK\, S0A 0L0\, Canada
GEO:51.6341203;-102.4255996
X-APPLE-STRUCTURED-LOCATION;VALUE=URI;X-ADDRESS=Activity Centre (Golf Course) 333 Canora Avenue Canora SK S0A 0L0 Canada;X-APPLE-RADIUS=500;X-TITLE=333 Canora Avenue:geo:-102.4255996,51.6341203
END:VEVENT
BEGIN:VEVENT
DTSTART;TZID=America/Regina:20171216T150000
DTEND;TZID=America/Regina:20171216T210000
DTSTAMP:20260419T215906
CREATED:20171109T193828Z
LAST-MODIFIED:20171127T214809Z
UID:10000149-1513436400-1513458000@canora.com
SUMMARY:Grinchmas in Canora
DESCRIPTION:Presented by  Kids Korner Youth Center Inc \n  \nJoin us and the "Grinch" for a who feast\, games\, crafts movie\, & much more. A fundraiser for Kids Korner Youth Centre.
URL:https://canora.com/event/grinchmas-in-canora/
LOCATION:Rainbow Hall\, 203 1st Avenue E\, Canora
END:VEVENT
BEGIN:VEVENT
DTSTART;TZID=America/Regina:20171219T190000
DTEND;TZID=America/Regina:20171219T190000
DTSTAMP:20260419T215906
CREATED:20171123T153102Z
LAST-MODIFIED:20171123T153102Z
UID:10000154-1513710000-1513710000@canora.com
SUMMARY:The Lights of Jingle Bell Hill
DESCRIPTION:Canora Composite School grade 5 & 6 students present: "The Lights of Jingle Bell Hill" \nTuesday Dec 19 @ 7 pm \nCanora Composite School Auditorium \nSilver Collection at the Door
URL:https://canora.com/event/lights-jingle-bell-hill/
LOCATION:Canora High School Auditorium
END:VEVENT
BEGIN:VEVENT
DTSTART;VALUE=DATE:20171228
DTEND;VALUE=DATE:20171231
DTSTAMP:20260419T215906
CREATED:20171129T145238Z
LAST-MODIFIED:20171220T223128Z
UID:10000155-1514419200-1514678399@canora.com
SUMMARY:Canora Curling Club Christmas Bonspiel
DESCRIPTION:Would you like to enter a team? \nContacts: \nKelly Beblow (306) 621-9558 or KellyBeblow@pattisonag.com \nBob Kolodziejski (306) 563-7793 or b.w.k@sasktel.net
URL:https://canora.com/event/canora-curling-club-christmas-bonspiel/
LOCATION:Sylvia Fedoruk Center\, 701 Main Street\, Canora\, Saskatchewan\, S0A 0L0\, Canada
ORGANIZER;CN="Canora Curling Club":MAILTO:canoracurling@gmail.com
GEO:51.6317348;-102.4385717
X-APPLE-STRUCTURED-LOCATION;VALUE=URI;X-ADDRESS=Sylvia Fedoruk Center 701 Main Street Canora Saskatchewan S0A 0L0 Canada;X-APPLE-RADIUS=500;X-TITLE=701 Main Street:geo:-102.4385717,51.6317348
END:VEVENT
BEGIN:VEVENT
DTSTART;VALUE=DATE:20180116
DTEND;VALUE=DATE:20180119
DTSTAMP:20260419T215906
CREATED:20180116T162817Z
LAST-MODIFIED:20180119T171557Z
UID:10000162-1516060800-1516319999@canora.com
SUMMARY:Senior's Bonspiel
DESCRIPTION:In progress \nContact the Curling Club for details. \nKelly Beblow (306) 621-9558 \nBob Kolodziejski (306) 563-7793
URL:https://canora.com/event/seniors-bonspiel/
LOCATION:Sylvia Fedoruk Center\, 701 Main Street\, Canora\, Saskatchewan\, S0A 0L0\, Canada
ORGANIZER;CN="Canora Curling Club":MAILTO:canoracurling@gmail.com
GEO:51.6317348;-102.4385717
X-APPLE-STRUCTURED-LOCATION;VALUE=URI;X-ADDRESS=Sylvia Fedoruk Center 701 Main Street Canora Saskatchewan S0A 0L0 Canada;X-APPLE-RADIUS=500;X-TITLE=701 Main Street:geo:-102.4385717,51.6317348
END:VEVENT
BEGIN:VEVENT
DTSTART;TZID=America/Regina:20180119T190000
DTEND;TZID=America/Regina:20180120T220000
DTSTAMP:20260419T215906
CREATED:20171024T160616Z
LAST-MODIFIED:20180117T174723Z
UID:10000144-1516388400-1516485600@canora.com
SUMMARY:The Canora Flames Annual Rec Hockey Tournament
DESCRIPTION:FRIDAY AND SATURDAY \nTOURNAMENT & BEVERAGE GARDENS \n  \nTHE FLAMES ARE LOOKING FOR PEOPLE TO REGISTER FOR THIS EVENT! \nCALL JAMES: 563-4108 \nTEXT JAMES: 562-8822
URL:https://canora.com/event/canora-flames-annual-rec-hockey-tournament/
LOCATION:Canora Civic Centre\, 711 Main Street\, Canora\, Saskatchewan\, S0A 0L0\, Canada
GEO:51.6315739;-102.4386783
X-APPLE-STRUCTURED-LOCATION;VALUE=URI;X-ADDRESS=Canora Civic Centre 711 Main Street Canora Saskatchewan S0A 0L0 Canada;X-APPLE-RADIUS=500;X-TITLE=711 Main Street:geo:-102.4386783,51.6315739
END:VEVENT
BEGIN:VEVENT
DTSTART;VALUE=DATE:20180124
DTEND;VALUE=DATE:20180130
DTSTAMP:20260419T215906
CREATED:20180104T221557Z
LAST-MODIFIED:20180117T205458Z
UID:10000157-1516752000-1517270399@canora.com
SUMMARY:Town and Country Bonspiel
DESCRIPTION:Contact the Curling Club for details. \nKelly Beblow (306) 621-9558 \nBob Kolodziejski (306) 563-7793 \n 
URL:https://canora.com/event/town-country-bonspiel/
LOCATION:Sylvia Fedoruk Center\, 701 Main Street\, Canora\, Saskatchewan\, S0A 0L0\, Canada
ORGANIZER;CN="Canora Curling Club":MAILTO:canoracurling@gmail.com
GEO:51.6317348;-102.4385717
X-APPLE-STRUCTURED-LOCATION;VALUE=URI;X-ADDRESS=Sylvia Fedoruk Center 701 Main Street Canora Saskatchewan S0A 0L0 Canada;X-APPLE-RADIUS=500;X-TITLE=701 Main Street:geo:-102.4385717,51.6317348
END:VEVENT
BEGIN:VEVENT
DTSTART;VALUE=DATE:20180127
DTEND;VALUE=DATE:20180128
DTSTAMP:20260419T215906
CREATED:20171115T144021Z
LAST-MODIFIED:20180122T203417Z
UID:10000150-1517011200-1517097599@canora.com
SUMMARY:Canora Minor Hockey Day
DESCRIPTION:Come out and show your support for Canora's minor hockey players and enjoy some action from I.P. to Bantam. \nhttp://canoraminorhockey.com/mastercalendar
URL:https://canora.com/event/canora-minor-hockey-day/
LOCATION:Canora Civic Centre\, 711 Main Street\, Canora\, Saskatchewan\, S0A 0L0\, Canada
GEO:51.6315739;-102.4386783
X-APPLE-STRUCTURED-LOCATION;VALUE=URI;X-ADDRESS=Canora Civic Centre 711 Main Street Canora Saskatchewan S0A 0L0 Canada;X-APPLE-RADIUS=500;X-TITLE=711 Main Street:geo:-102.4386783,51.6315739
END:VEVENT
BEGIN:VEVENT
DTSTART;TZID=America/Regina:20180127T090000
DTEND;TZID=America/Regina:20180127T160000
DTSTAMP:20260419T215906
CREATED:20180115T150322Z
LAST-MODIFIED:20180115T150322Z
UID:10000161-1517043600-1517068800@canora.com
SUMMARY:SSA Classroom Snowmobile Training Safety Course
DESCRIPTION:
URL:https://canora.com/event/ssa-classroom-snowmobile-training-safety-course/
LOCATION:Activity Centre (Golf Course)\, 333 Canora Avenue\, Canora\, SK\, S0A 0L0\, Canada
GEO:51.6341203;-102.4255996
X-APPLE-STRUCTURED-LOCATION;VALUE=URI;X-ADDRESS=Activity Centre (Golf Course) 333 Canora Avenue Canora SK S0A 0L0 Canada;X-APPLE-RADIUS=500;X-TITLE=333 Canora Avenue:geo:-102.4255996,51.6341203
END:VEVENT
BEGIN:VEVENT
DTSTART;TZID=America/Regina:20180207T193000
DTEND;TZID=America/Regina:20180207T193000
DTSTAMP:20260419T215906
CREATED:20171011T144714Z
LAST-MODIFIED:20171011T144714Z
UID:10000138-1518031800-1518031800@canora.com
SUMMARY:100 Mile House
DESCRIPTION:Stars for Saskatchewan Concert Series \n"Quality musicianship\, finely crafted songs\, heart warming stories"
URL:https://canora.com/event/100-mile-house/
LOCATION:Canora Composite School\, Canora\, SK\, S0A 0L0\, Canada
END:VEVENT
BEGIN:VEVENT
DTSTART;VALUE=DATE:20180210
DTEND;VALUE=DATE:20180211
DTSTAMP:20260419T215906
CREATED:20180124T205656Z
LAST-MODIFIED:20180126T144610Z
UID:10000164-1518220800-1518307199@canora.com
SUMMARY:41st Easter Seals Snowarama
DESCRIPTION:Pre-registration on Friday night Feb 9th @ 7 pm (Gallagher center) \nThere is also breakfast & registration on the morning of Sat 10th\, and you ride right from there. \nThe Canora Sports Service Centre is a hub and rest stop for the ride. Visit the website for details \n  \n \n \nSnowarama Sponsorship Package 2018 FINAL \n  \n 
URL:https://canora.com/event/41st-easter-seals-snowarama/
LOCATION:Sports Service Centre\, HWY #9 Past Railway Tracks\, Canora\, SK\, S0A 0L0\, Canada
END:VEVENT
BEGIN:VEVENT
DTSTART;TZID=America/Regina:20180210T090000
DTEND;TZID=America/Regina:20180210T170000
DTSTAMP:20260419T215906
CREATED:20180131T204238Z
LAST-MODIFIED:20180131T204339Z
UID:10000165-1518253200-1518282000@canora.com
SUMMARY:Air Cadets Zone Curling Bonspiel
DESCRIPTION:Come out and watch your local cadets in this Zone competition. \nWinners move on to Provincials
URL:https://canora.com/event/air-cadets-zone-curling-bonspiel/
LOCATION:Sylvia Fedoruk Center\, 701 Main Street\, Canora\, Saskatchewan\, S0A 0L0\, Canada
GEO:51.6317348;-102.4385717
X-APPLE-STRUCTURED-LOCATION;VALUE=URI;X-ADDRESS=Sylvia Fedoruk Center 701 Main Street Canora Saskatchewan S0A 0L0 Canada;X-APPLE-RADIUS=500;X-TITLE=701 Main Street:geo:-102.4385717,51.6317348
END:VEVENT
BEGIN:VEVENT
DTSTART;TZID=America/Regina:20180217T183000
DTEND;TZID=America/Regina:20180217T183000
DTSTAMP:20260419T215906
CREATED:20180206T212113Z
LAST-MODIFIED:20180206T212113Z
UID:10000167-1518892200-1518892200@canora.com
SUMMARY:Eighth Annual Lamplighter Loppet
DESCRIPTION:
URL:https://canora.com/event/eighth-annual-lamplighter-loppet/
LOCATION:Good Spirit Provincial Park Rec Hall
END:VEVENT
BEGIN:VEVENT
DTSTART;TZID=America/Regina:20180217T193000
DTEND;TZID=America/Regina:20180217T233000
DTSTAMP:20260419T215906
CREATED:20180206T145557Z
LAST-MODIFIED:20180206T145643Z
UID:10000166-1518895800-1518910200@canora.com
SUMMARY:Valentine's Senior's Dance
DESCRIPTION:
URL:https://canora.com/event/valentines-seniors-dance/
LOCATION:Ukrainian Catholic Hall\, 229 5th Avenue West\, Canora\, SK\, S0A 0L0\, Canada
END:VEVENT
BEGIN:VEVENT
DTSTART;VALUE=DATE:20180218
DTEND;VALUE=DATE:20180219
DTSTAMP:20260419T215906
CREATED:20180111T152150Z
LAST-MODIFIED:20180124T205838Z
UID:10000160-1518912000-1518998399@canora.com
SUMMARY:Trakkers 30th Anniversary Public & Family Derby
DESCRIPTION:
URL:https://canora.com/event/trakkers-wing-night/
LOCATION:Activity Centre (Golf Course)\, 333 Canora Avenue\, Canora\, SK\, S0A 0L0\, Canada
GEO:51.6341203;-102.4255996
X-APPLE-STRUCTURED-LOCATION;VALUE=URI;X-ADDRESS=Activity Centre (Golf Course) 333 Canora Avenue Canora SK S0A 0L0 Canada;X-APPLE-RADIUS=500;X-TITLE=333 Canora Avenue:geo:-102.4255996,51.6341203
END:VEVENT
BEGIN:VEVENT
DTSTART;VALUE=DATE:20180219
DTEND;VALUE=DATE:20180220
DTSTAMP:20260419T215906
CREATED:20180104T221803Z
LAST-MODIFIED:20180104T221815Z
UID:10000158-1518998400-1519084799@canora.com
SUMMARY:2 Person Stick Bonspiel
DESCRIPTION:Contact the Curling Club for details.
URL:https://canora.com/event/2-person-stick-spiel/
LOCATION:Sylvia Fedoruk Center\, 701 Main Street\, Canora\, Saskatchewan\, S0A 0L0\, Canada
ORGANIZER;CN="Canora Curling Club":MAILTO:canoracurling@gmail.com
GEO:51.6317348;-102.4385717
X-APPLE-STRUCTURED-LOCATION;VALUE=URI;X-ADDRESS=Sylvia Fedoruk Center 701 Main Street Canora Saskatchewan S0A 0L0 Canada;X-APPLE-RADIUS=500;X-TITLE=701 Main Street:geo:-102.4385717,51.6317348
END:VEVENT
BEGIN:VEVENT
DTSTART;TZID=America/Regina:20180302T190000
DTEND;TZID=America/Regina:20180302T210000
DTSTAMP:20260419T215906
CREATED:20180222T225353Z
LAST-MODIFIED:20180227T144731Z
UID:10000176-1520017200-1520024400@canora.com
SUMMARY:St.Joseph's is hosting World Day of Prayer
DESCRIPTION:Friday\, March 2nd at 7:00 pm St.Joseph's Church is hosting World Day of Prayer 2018. Seven churches in Canora are participating and everyone is welcome.
URL:https://canora.com/event/st-josephs-hosting-world-day-prayer/
LOCATION:Saskatchewan
END:VEVENT
BEGIN:VEVENT
DTSTART;TZID=America/Regina:20180306T120000
DTEND;TZID=America/Regina:20180306T120000
DTSTAMP:20260419T215906
CREATED:20180226T193238Z
LAST-MODIFIED:20180305T160652Z
UID:10000177-1520337600-1520337600@canora.com
SUMMARY:TOPS - weekly meetings are held at the Keen Age Centre 409 Main Street in Canora every Tuesday.
DESCRIPTION:
URL:https://canora.com/event/tops-weekly-meetings-held-keen-age-centre-409-main-street-canora-every-tuesday/
LOCATION:Saskatchewan
END:VEVENT
BEGIN:VEVENT
DTSTART;TZID=America/Regina:20180309T160000
DTEND;TZID=America/Regina:20180309T183000
DTSTAMP:20260419T215906
CREATED:20180209T192112Z
LAST-MODIFIED:20180209T192112Z
UID:10000168-1520611200-1520620200@canora.com
SUMMARY:UCWL Borscht and Perogy Supper
DESCRIPTION:Borscht and Perogies will be served along with butter\, onions\, and mushroom gravy from 4:00 PM to 6:30 PM @ Ukrainian Catholic Hall
URL:https://canora.com/event/ucwl-borscht-perogy-supper/
LOCATION:Ukrainian Catholic Hall\, 229 5th Avenue West\, Canora\, SK\, S0A 0L0\, Canada
ORGANIZER;CN="UCWL":MAILTO:ahrycak@gmail.com
END:VEVENT
BEGIN:VEVENT
DTSTART;VALUE=DATE:20180310
DTEND;VALUE=DATE:20180311
DTSTAMP:20260419T215906
CREATED:20180213T165654Z
LAST-MODIFIED:20180213T172508Z
UID:10000169-1520640000-1520726399@canora.com
SUMMARY:3rd Annual Snow Pitch Event
DESCRIPTION:Saturday March 10\n8 teams max\, $200 per team\, $100 deposit by March 3rd.\nPayout pending # of entries\nTop 3 teams get $ prize.\n4th\, 5th place teams receive prizes donated by Lunn Bar and hotel and The Canora Hotel\n\n **Tournament format**\n5 inning games\n1 pitch per batter\nBat entire roster per inning (10 batters max)\nBatting team supplies pitcher\nTourney starts 9 am sharp and ends 5pm.\nIf games currently being played at 5pm they will be allowed to finish game.\n15 minute grace period between games\, if team or teams not ready or able to play 15 mins after the previous game then game or team will be forfeited.\nWins will be tallied up after the tourney is complete\nTop 5teams with most wins will receive 1st\, 2nd and 3rd\,4th\,5th place prizes.\nIf there are ties in wins\, winner will be decided by the team with the most runs in tourney.To enter please call/text Kerry @ (306) 562-7779\nEntry/deposit can be paid in cash/EMT
URL:https://canora.com/event/3rd-annual-snow-pitch-event/
LOCATION:Sports Grounds\, Canora\, Saskatchewan\, S0A 0L0\, Canada
END:VEVENT
BEGIN:VEVENT
DTSTART;VALUE=DATE:20180313
DTEND;VALUE=DATE:20180314
DTSTAMP:20260419T215906
CREATED:20180221T174846Z
LAST-MODIFIED:20180221T174846Z
UID:10000174-1520899200-1520985599@canora.com
SUMMARY:Soil Health Solution Information Session
DESCRIPTION:
URL:https://canora.com/event/soil-health-solution-information-session/
LOCATION:Activity Centre\, 333 Canora Avenue
END:VEVENT
BEGIN:VEVENT
DTSTART;TZID=America/Regina:20180316T160000
DTEND;TZID=America/Regina:20180316T183000
DTSTAMP:20260419T215906
CREATED:20180222T212049Z
LAST-MODIFIED:20180222T212049Z
UID:10000175-1521216000-1521225000@canora.com
SUMMARY:Borscht & Perogie Meal
DESCRIPTION:St. Joseph's Parish
URL:https://canora.com/event/borscht-perogie-meal/
LOCATION:St. Joseph’s Catholic Church\, 201 4th Avenue East\, Canora\, Saskatchewan\, S0A 0L0\, Canada
GEO:51.6343703;-102.4401175
X-APPLE-STRUCTURED-LOCATION;VALUE=URI;X-ADDRESS=St. Joseph’s Catholic Church 201 4th Avenue East Canora Saskatchewan S0A 0L0 Canada;X-APPLE-RADIUS=500;X-TITLE=201 4th Avenue East:geo:-102.4401175,51.6343703
END:VEVENT
END:VCALENDAR