BEGIN:VCALENDAR
VERSION:2.0
PRODID:-//Town of Canora - ECPv6.15.17//NONSGML v1.0//EN
CALSCALE:GREGORIAN
METHOD:PUBLISH
X-WR-CALNAME:Town of Canora
X-ORIGINAL-URL:https://canora.com
X-WR-CALDESC:Events for Town of Canora
REFRESH-INTERVAL;VALUE=DURATION:PT1H
X-Robots-Tag:noindex
X-PUBLISHED-TTL:PT1H
BEGIN:VTIMEZONE
TZID:America/Regina
BEGIN:STANDARD
TZOFFSETFROM:-0600
TZOFFSETTO:-0600
TZNAME:CST
DTSTART:20250101T000000
END:STANDARD
END:VTIMEZONE
BEGIN:VEVENT
DTSTART;TZID=America/Regina:20260327T110000
DTEND;TZID=America/Regina:20260327T110000
DTSTAMP:20260420T001517
CREATED:20250317T175230Z
LAST-MODIFIED:20260320T154132Z
UID:10004511-1774609200-1774609200@canora.com
SUMMARY:Easter Bake Sale & Tea
DESCRIPTION:There will be paskas\, babkas (sweet bread)\, baked pyroshky\, nalysnyky\, fresh doughnuts\, frozen perogies (3 types)\, frozen cabbage rolls (2 types)\, a variety of baked goods sold. There will also be open faced sandwiches\, dainties\, coffee and tea served.
URL:https://canora.com/event/easter-bake-sale-tea-3/
LOCATION:Ukrainian Catholic Hall\, 229 5th Avenue West\, Canora\, SK\, S0A 0L0\, Canada
ATTACH;FMTTYPE=image/jpeg:https://canora.com/wp-content/uploads/2025/03/images-4.jpg
END:VEVENT
BEGIN:VEVENT
DTSTART;TZID=America/Regina:20260327T190000
DTEND;TZID=America/Regina:20260327T190000
DTSTAMP:20260420T001517
CREATED:20260311T154511Z
LAST-MODIFIED:20260311T154511Z
UID:10005323-1774638000-1774638000@canora.com
SUMMARY:Wind-Up Bonspiel
DESCRIPTION:
URL:https://canora.com/event/wind-up-bonspiel-2/2026-03-27/
LOCATION:Sylvia Fedoruk Center\, 701 Main Street\, Canora\, Saskatchewan\, S0A 0L0\, Canada
ATTACH;FMTTYPE=image/jpeg:https://canora.com/wp-content/uploads/2026/03/wind-up.jpg
ORGANIZER;CN="Canora Curling Club":MAILTO:canoracurling@gmail.com
GEO:51.6317348;-102.4385717
X-APPLE-STRUCTURED-LOCATION;VALUE=URI;X-ADDRESS=Sylvia Fedoruk Center 701 Main Street Canora Saskatchewan S0A 0L0 Canada;X-APPLE-RADIUS=500;X-TITLE=701 Main Street:geo:-102.4385717,51.6317348
END:VEVENT
END:VCALENDAR