BEGIN:VCALENDAR
VERSION:2.0
PRODID:-//Town of Canora - ECPv6.15.17//NONSGML v1.0//EN
CALSCALE:GREGORIAN
METHOD:PUBLISH
X-WR-CALNAME:Town of Canora
X-ORIGINAL-URL:https://canora.com
X-WR-CALDESC:Events for Town of Canora
REFRESH-INTERVAL;VALUE=DURATION:PT1H
X-Robots-Tag:noindex
X-PUBLISHED-TTL:PT1H
BEGIN:VTIMEZONE
TZID:America/Regina
BEGIN:STANDARD
TZOFFSETFROM:-0600
TZOFFSETTO:-0600
TZNAME:CST
DTSTART:20150101T000000
END:STANDARD
END:VTIMEZONE
BEGIN:VEVENT
DTSTART;TZID=America/Regina:20160929T100000
DTEND;TZID=America/Regina:20160929T140000
DTSTAMP:20260419T155217
CREATED:20160804T175306Z
LAST-MODIFIED:20160804T175306Z
UID:10000027-1475143200-1475157600@canora.com
SUMMARY:Farmers Market
DESCRIPTION:Every Thursday from 10am-2pm. Look for the tents at the end of Main Street at the Visitors Centre & CN Musuem on Railway Avenue. Please call the Town of Canora office to register for a tent at 306-563-5773.
URL:https://canora.com/event/farmers-market/2016-09-29/
LOCATION:Visitors Centre & CN Museum\, 100 Railway Avenue\, Canora
GEO:51.6372416;-102.4366927
X-APPLE-STRUCTURED-LOCATION;VALUE=URI;X-ADDRESS=Visitors Centre & CN Museum 100 Railway Avenue Canora;X-APPLE-RADIUS=500;X-TITLE=100 Railway Avenue:geo:-102.4366927,51.6372416
END:VEVENT
END:VCALENDAR